BEGIN:VCALENDAR
VERSION:2.0
PRODID:-//Seal Beach Historic Resources Foundation - ECPv6.15.17.1//NONSGML v1.0//EN
CALSCALE:GREGORIAN
METHOD:PUBLISH
X-WR-CALNAME:Seal Beach Historic Resources Foundation
X-ORIGINAL-URL:https://sbhrf.net
X-WR-CALDESC:Events for Seal Beach Historic Resources Foundation
REFRESH-INTERVAL;VALUE=DURATION:PT1H
X-Robots-Tag:noindex
X-PUBLISHED-TTL:PT1H
BEGIN:VTIMEZONE
TZID:America/Los_Angeles
BEGIN:DAYLIGHT
TZOFFSETFROM:-0800
TZOFFSETTO:-0700
TZNAME:PDT
DTSTART:20240310T100000
END:DAYLIGHT
BEGIN:STANDARD
TZOFFSETFROM:-0700
TZOFFSETTO:-0800
TZNAME:PST
DTSTART:20241103T090000
END:STANDARD
BEGIN:DAYLIGHT
TZOFFSETFROM:-0800
TZOFFSETTO:-0700
TZNAME:PDT
DTSTART:20250309T100000
END:DAYLIGHT
BEGIN:STANDARD
TZOFFSETFROM:-0700
TZOFFSETTO:-0800
TZNAME:PST
DTSTART:20251102T090000
END:STANDARD
BEGIN:DAYLIGHT
TZOFFSETFROM:-0800
TZOFFSETTO:-0700
TZNAME:PDT
DTSTART:20260308T100000
END:DAYLIGHT
BEGIN:STANDARD
TZOFFSETFROM:-0700
TZOFFSETTO:-0800
TZNAME:PST
DTSTART:20261101T090000
END:STANDARD
END:VTIMEZONE
BEGIN:VEVENT
DTSTART;TZID=America/Los_Angeles:20250607T110000
DTEND;TZID=America/Los_Angeles:20250607T150000
DTSTAMP:20260421T050921
CREATED:20241121T141552Z
LAST-MODIFIED:20241121T141552Z
UID:10002465-1749294000-1749308400@sbhrf.net
SUMMARY:SB CHAMBER:  Pop-ups at the Pier
DESCRIPTION:
URL:https://sbhrf.net/event/sb-chamber-pop-ups-at-the-pier-2/
LOCATION:Seal Beach Pier\, Seal Beach\, CA\, 90740
CATEGORIES:Community Events,SB Chamber,Seal Beach
ATTACH;FMTTYPE=image/png:https://sbhrf.net/wp-content/uploads/2024/11/Pop-Ups-at-the-Pier.png
ORGANIZER;CN="Seal Beach Chamber of Commerce":MAILTO:nfo@sealbeachchamber.org
END:VEVENT
BEGIN:VEVENT
DTSTART;TZID=America/Los_Angeles:20250618T080000
DTEND;TZID=America/Los_Angeles:20250618T170000
DTSTAMP:20260421T050921
CREATED:20250609T223756Z
LAST-MODIFIED:20250609T223756Z
UID:10003101-1750233600-1750266000@sbhrf.net
SUMMARY:Seal Beach Summer Concerts
DESCRIPTION:
URL:https://sbhrf.net/event/seal-beach-summer-concerts/2025-06-18/1/
CATEGORIES:Community Events,Music,SB Chamber
ATTACH;FMTTYPE=image/jpeg:https://sbhrf.net/wp-content/uploads/2025/06/unnamed.jpg
END:VEVENT
BEGIN:VEVENT
DTSTART;TZID=America/Los_Angeles:20250618T120000
DTEND;TZID=America/Los_Angeles:20250618T133000
DTSTAMP:20260421T050921
CREATED:20250609T223515Z
LAST-MODIFIED:20250609T223515Z
UID:10003100-1750248000-1750253400@sbhrf.net
SUMMARY:SB Chamber - Let's Do Lunch
DESCRIPTION:Wednesday\, June 18\nSB Chamber Lunch \n12:00 pm\nFinbars Italian Kitchen\n1041 PSC in SB\nPay online at www.sealbeachchamber.org
URL:https://sbhrf.net/event/sb-chamber-lets-do-lunch-2/
LOCATION:Finbar’s Italian Kitchen\, 1041 PCH\, Seal Beach\, CA\, CA\, 90740
CATEGORIES:SB Chamber
ATTACH;FMTTYPE=image/png:https://sbhrf.net/wp-content/uploads/2025/06/unnamed-8.png
ORGANIZER;CN="Seal Beach Chamber of Commerce":MAILTO:nfo@sealbeachchamber.org
END:VEVENT
BEGIN:VEVENT
DTSTART;TZID=America/Los_Angeles:20250618T180000
DTEND;TZID=America/Los_Angeles:20250618T200000
DTSTAMP:20260421T050921
CREATED:20250609T223756Z
LAST-MODIFIED:20250609T223756Z
UID:10003102-1750269600-1750276800@sbhrf.net
SUMMARY:Seal Beach Summer Concerts
DESCRIPTION:
URL:https://sbhrf.net/event/seal-beach-summer-concerts/2025-06-18/2/
CATEGORIES:Community Events,Music,SB Chamber
ATTACH;FMTTYPE=image/jpeg:https://sbhrf.net/wp-content/uploads/2025/06/unnamed.jpg
END:VEVENT
BEGIN:VEVENT
DTSTART;TZID=America/Los_Angeles:20250625T180000
DTEND;TZID=America/Los_Angeles:20250625T200000
DTSTAMP:20260421T050921
CREATED:20250609T223756Z
LAST-MODIFIED:20250609T223756Z
UID:10003103-1750874400-1750881600@sbhrf.net
SUMMARY:Seal Beach Summer Concerts
DESCRIPTION:
URL:https://sbhrf.net/event/seal-beach-summer-concerts/2025-06-25/
CATEGORIES:Community Events,Music,SB Chamber
ATTACH;FMTTYPE=image/jpeg:https://sbhrf.net/wp-content/uploads/2025/06/unnamed.jpg
END:VEVENT
END:VCALENDAR