BEGIN:VCALENDAR
VERSION:2.0
PRODID:-//Seal Beach Historic Resources Foundation - ECPv6.15.17.1//NONSGML v1.0//EN
CALSCALE:GREGORIAN
METHOD:PUBLISH
X-ORIGINAL-URL:https://sbhrf.net
X-WR-CALDESC:Events for Seal Beach Historic Resources Foundation
REFRESH-INTERVAL;VALUE=DURATION:PT1H
X-Robots-Tag:noindex
X-PUBLISHED-TTL:PT1H
BEGIN:VTIMEZONE
TZID:America/Los_Angeles
BEGIN:DAYLIGHT
TZOFFSETFROM:-0800
TZOFFSETTO:-0700
TZNAME:PDT
DTSTART:20250309T100000
END:DAYLIGHT
BEGIN:STANDARD
TZOFFSETFROM:-0700
TZOFFSETTO:-0800
TZNAME:PST
DTSTART:20251102T090000
END:STANDARD
BEGIN:DAYLIGHT
TZOFFSETFROM:-0800
TZOFFSETTO:-0700
TZNAME:PDT
DTSTART:20260308T100000
END:DAYLIGHT
BEGIN:STANDARD
TZOFFSETFROM:-0700
TZOFFSETTO:-0800
TZNAME:PST
DTSTART:20261101T090000
END:STANDARD
BEGIN:DAYLIGHT
TZOFFSETFROM:-0800
TZOFFSETTO:-0700
TZNAME:PDT
DTSTART:20270314T100000
END:DAYLIGHT
BEGIN:STANDARD
TZOFFSETFROM:-0700
TZOFFSETTO:-0800
TZNAME:PST
DTSTART:20271107T090000
END:STANDARD
END:VTIMEZONE
BEGIN:VEVENT
DTSTART;TZID=America/Los_Angeles:20260313T080000
DTEND;TZID=America/Los_Angeles:20260313T170000
DTSTAMP:20260419T083202
CREATED:20260313T211828Z
LAST-MODIFIED:20260313T211947Z
UID:10003140-1773388800-1773421200@sbhrf.net
SUMMARY:Seal Beach Classic Car Show
DESCRIPTION:
URL:https://sbhrf.net/event/al-beach-classic-car-show/
CATEGORIES:Community Events,SB Chamber
ATTACH;FMTTYPE=image/jpeg:https://d1tif55lvfk8gc.cloudfront.net/6983aa2b70bc1e399104b4da.jpg?1772651366
END:VEVENT
END:VCALENDAR