BEGIN:VCALENDAR
VERSION:2.0
PRODID:-//Seal Beach Historic Resources Foundation - ECPv6.15.17.1//NONSGML v1.0//EN
CALSCALE:GREGORIAN
METHOD:PUBLISH
X-WR-CALNAME:Seal Beach Historic Resources Foundation
X-ORIGINAL-URL:https://sbhrf.net
X-WR-CALDESC:Events for Seal Beach Historic Resources Foundation
REFRESH-INTERVAL;VALUE=DURATION:PT1H
X-Robots-Tag:noindex
X-PUBLISHED-TTL:PT1H
BEGIN:VTIMEZONE
TZID:America/Los_Angeles
BEGIN:DAYLIGHT
TZOFFSETFROM:-0800
TZOFFSETTO:-0700
TZNAME:PDT
DTSTART:20240310T100000
END:DAYLIGHT
BEGIN:STANDARD
TZOFFSETFROM:-0700
TZOFFSETTO:-0800
TZNAME:PST
DTSTART:20241103T090000
END:STANDARD
BEGIN:DAYLIGHT
TZOFFSETFROM:-0800
TZOFFSETTO:-0700
TZNAME:PDT
DTSTART:20250309T100000
END:DAYLIGHT
BEGIN:STANDARD
TZOFFSETFROM:-0700
TZOFFSETTO:-0800
TZNAME:PST
DTSTART:20251102T090000
END:STANDARD
BEGIN:DAYLIGHT
TZOFFSETFROM:-0800
TZOFFSETTO:-0700
TZNAME:PDT
DTSTART:20260308T100000
END:DAYLIGHT
BEGIN:STANDARD
TZOFFSETFROM:-0700
TZOFFSETTO:-0800
TZNAME:PST
DTSTART:20261101T090000
END:STANDARD
END:VTIMEZONE
BEGIN:VEVENT
DTSTART;TZID=America/Los_Angeles:20250506T190000
DTEND;TZID=America/Los_Angeles:20250506T213000
DTSTAMP:20260419T223713
CREATED:20240509T184208Z
LAST-MODIFIED:20240509T184327Z
UID:10000856-1746558000-1746567000@sbhrf.net
SUMMARY:Trivia Night @ Marni's
DESCRIPTION:
URL:https://sbhrf.net/event/trivia-night-marnis/2025-05-06/
LOCATION:Marni’s\, 620 Pacific Coast Highway\, Seal Beach\, CA\, 90740
ATTACH;FMTTYPE=image/png:https://sbhrf.net/wp-content/uploads/2024/05/Marnis-Trivia.png
END:VEVENT
BEGIN:VEVENT
DTSTART;TZID=America/Los_Angeles:20250506T190000
DTEND;TZID=America/Los_Angeles:20250506T210000
DTSTAMP:20260419T223713
CREATED:20240415T235559Z
LAST-MODIFIED:20240415T235559Z
UID:10000515-1746558000-1746565200@sbhrf.net
SUMMARY:Bogart's Coffee House - Open Mic Night
DESCRIPTION:
URL:https://sbhrf.net/event/bogarts-coffee-house-open-mic-night/2025-05-06/
LOCATION:Bogart’s Coffee House\, 905 Ocean Ave\, Seal Beach\, CA\, 90740\, United States
CATEGORIES:Music
ATTACH;FMTTYPE=image/png:https://sbhrf.net/wp-content/uploads/2024/04/2024-0502-Bogarts-Open-Mic-1.png
END:VEVENT
BEGIN:VEVENT
DTSTART;TZID=America/Los_Angeles:20250504T190000
DTEND;TZID=America/Los_Angeles:20250504T220000
DTSTAMP:20260419T223713
CREATED:20241115T154557Z
LAST-MODIFIED:20241115T163205Z
UID:10002455-1746385200-1746396000@sbhrf.net
SUMMARY:Nashville on the Coast
DESCRIPTION:Nashville Tennessee is the heart of country music.  It is home to places like the Country Music Hall of Fame\, RCA Studio B\, The Grand Ole Opry\, and Lower Broadway. Lower Broadway in Nashville is like Main St. in Seal Beach\, it’s filled with people having fun\, eating good food\, and listening to great music. We are bringing that Nashville vibe to Seal Beach so that people on the west coast can have that same experience as they walk\, shop\, and dine in this beautiful sea side town. \nOut talented group of singer-songwriters are making a name for themselves in the world of music today. Each artist has their own sound and will share it  in Seal Beach during the month March 2023.  Right now there are five different locations\, where the artists will share their music in intimate settings while sharing their inspiration and mindset behind the lyrics. \nCome join the Seal Beach Chamber of Commerce and the City of Seal Beach as we mix the sounds of Nashville with the sights of the coast.
URL:https://sbhrf.net/event/nashville-on-the-coast/2025-05-04/
CATEGORIES:Music,Nonprofits,Seal Beach
ATTACH;FMTTYPE=image/webp:https://sbhrf.net/wp-content/uploads/2024/11/Nashville-on-the-Coast-logo.webp
ORGANIZER;CN="Nashville on the Coast":MAILTO:daren@nashvilleonthecoast.com
END:VEVENT
BEGIN:VEVENT
DTSTART;TZID=America/Los_Angeles:20250504T180000
DTEND;TZID=America/Los_Angeles:20250504T200000
DTSTAMP:20260419T223713
CREATED:20241122T145107Z
LAST-MODIFIED:20241122T151410Z
UID:10002556-1746381600-1746388800@sbhrf.net
SUMMARY:American Legion Hall:  Open Mic Night
DESCRIPTION:Calling all music lovers!\nWhether you’re an aspiring musician or just want to join some great tunes\, come join our open jam sessions.  Bring your instrument and play a few songs. \nMicrophones and speakers will be provided\, so just bring your talent and energy! \nStarting Nov. 3.  Every Sunday!
URL:https://sbhrf.net/event/american-legion-hall-open-mic-night/2025-05-04/
LOCATION:American Legion Post 716\, 3252 Florista Street\, Los Angeles\, CA\, 90720\, United States
CATEGORIES:Music,Nonprofits
ATTACH;FMTTYPE=image/png:https://sbhrf.net/wp-content/uploads/2024/11/AmLegion-Open-Mic.png
ORGANIZER;CN="American Legion Post 716":MAILTO:info@losalamitospost716.org
END:VEVENT
BEGIN:VEVENT
DTSTART;TZID=America/Los_Angeles:20250503T200000
DTEND;TZID=America/Los_Angeles:20250503T230000
DTSTAMP:20260419T223713
CREATED:20241122T152128Z
LAST-MODIFIED:20241122T152128Z
UID:10002818-1746302400-1746313200@sbhrf.net
SUMMARY:GRIFFINS GRILL:  Saturday Night Live
DESCRIPTION:
URL:https://sbhrf.net/event/griffins-grill-saturday-night-live/2025-05-03/
LOCATION:Griffins Grill\, 11272 Los Alamitos Blvd.\, Los Alamitos\, CA\, 90740\, United States
CATEGORIES:Los Alamitos,Music
END:VEVENT
BEGIN:VEVENT
DTSTART;TZID=America/Los_Angeles:20250503T190000
DTEND;TZID=America/Los_Angeles:20250503T220000
DTSTAMP:20260419T223713
CREATED:20241115T154557Z
LAST-MODIFIED:20241115T163205Z
UID:10002454-1746298800-1746309600@sbhrf.net
SUMMARY:Nashville on the Coast
DESCRIPTION:Nashville Tennessee is the heart of country music.  It is home to places like the Country Music Hall of Fame\, RCA Studio B\, The Grand Ole Opry\, and Lower Broadway. Lower Broadway in Nashville is like Main St. in Seal Beach\, it’s filled with people having fun\, eating good food\, and listening to great music. We are bringing that Nashville vibe to Seal Beach so that people on the west coast can have that same experience as they walk\, shop\, and dine in this beautiful sea side town. \nOut talented group of singer-songwriters are making a name for themselves in the world of music today. Each artist has their own sound and will share it  in Seal Beach during the month March 2023.  Right now there are five different locations\, where the artists will share their music in intimate settings while sharing their inspiration and mindset behind the lyrics. \nCome join the Seal Beach Chamber of Commerce and the City of Seal Beach as we mix the sounds of Nashville with the sights of the coast.
URL:https://sbhrf.net/event/nashville-on-the-coast/2025-05-03/
CATEGORIES:Music,Nonprofits,Seal Beach
ATTACH;FMTTYPE=image/webp:https://sbhrf.net/wp-content/uploads/2024/11/Nashville-on-the-Coast-logo.webp
ORGANIZER;CN="Nashville on the Coast":MAILTO:daren@nashvilleonthecoast.com
END:VEVENT
BEGIN:VEVENT
DTSTART;TZID=America/Los_Angeles:20250503T150000
DTEND;TZID=America/Los_Angeles:20250503T180000
DTSTAMP:20260419T223713
CREATED:20250424T195143Z
LAST-MODIFIED:20250424T230012Z
UID:10003083-1746284400-1746295200@sbhrf.net
SUMMARY:SENIOR PROM:  Casino Royale
DESCRIPTION:Enjoy a night of live music\, dinner\, casino games\, prizes and more from 3-6 p.m. on Saturday\, May 3\, at the Los Alamitos Community Center. \nTickets are on sale now and can be obtained at www.cityoflosalamitos. org/recreation. Pre-sale tickets for people 50 years and older are $8; under 50\, $10. \nThe event is sponsored by the Los Alamitos Recreation and Community Services department.
URL:https://sbhrf.net/event/senior-prom-casino-royale/
LOCATION:Los Alamitos Community Center\, 10911 Oak Street\, Los Alamitos\, 90720\, United States
ATTACH;FMTTYPE=image/png:https://sbhrf.net/wp-content/uploads/2025/04/Event-Sr-Prom-Casino-Night.png
END:VEVENT
BEGIN:VEVENT
DTSTART;TZID=America/Los_Angeles:20250503T120000
DTEND;TZID=America/Los_Angeles:20250503T160000
DTSTAMP:20260419T223713
CREATED:20241115T201142Z
LAST-MODIFIED:20241115T201142Z
UID:10002457-1746273600-1746288000@sbhrf.net
SUMMARY:LOS AL REC:  Seniors Prom
DESCRIPTION:
URL:https://sbhrf.net/event/los-al-rec-seniors-prom/
LOCATION:Los Alamitos Community Center\, 10911 Oak Street\, Los Alamitos\, 90720\, United States
CATEGORIES:Los Alamitos
END:VEVENT
BEGIN:VEVENT
DTSTART;TZID=America/Los_Angeles:20250502T190000
DTEND;TZID=America/Los_Angeles:20250502T220000
DTSTAMP:20260419T223713
CREATED:20241115T154557Z
LAST-MODIFIED:20241115T163205Z
UID:10002453-1746212400-1746223200@sbhrf.net
SUMMARY:Nashville on the Coast
DESCRIPTION:Nashville Tennessee is the heart of country music.  It is home to places like the Country Music Hall of Fame\, RCA Studio B\, The Grand Ole Opry\, and Lower Broadway. Lower Broadway in Nashville is like Main St. in Seal Beach\, it’s filled with people having fun\, eating good food\, and listening to great music. We are bringing that Nashville vibe to Seal Beach so that people on the west coast can have that same experience as they walk\, shop\, and dine in this beautiful sea side town. \nOut talented group of singer-songwriters are making a name for themselves in the world of music today. Each artist has their own sound and will share it  in Seal Beach during the month March 2023.  Right now there are five different locations\, where the artists will share their music in intimate settings while sharing their inspiration and mindset behind the lyrics. \nCome join the Seal Beach Chamber of Commerce and the City of Seal Beach as we mix the sounds of Nashville with the sights of the coast.
URL:https://sbhrf.net/event/nashville-on-the-coast/2025-05-02/
CATEGORIES:Music,Nonprofits,Seal Beach
ATTACH;FMTTYPE=image/webp:https://sbhrf.net/wp-content/uploads/2024/11/Nashville-on-the-Coast-logo.webp
ORGANIZER;CN="Nashville on the Coast":MAILTO:daren@nashvilleonthecoast.com
END:VEVENT
BEGIN:VEVENT
DTSTART;TZID=America/Los_Angeles:20250501T190000
DTEND;TZID=America/Los_Angeles:20250501T220000
DTSTAMP:20260419T223713
CREATED:20241115T154557Z
LAST-MODIFIED:20241115T163205Z
UID:10002452-1746126000-1746136800@sbhrf.net
SUMMARY:Nashville on the Coast
DESCRIPTION:Nashville Tennessee is the heart of country music.  It is home to places like the Country Music Hall of Fame\, RCA Studio B\, The Grand Ole Opry\, and Lower Broadway. Lower Broadway in Nashville is like Main St. in Seal Beach\, it’s filled with people having fun\, eating good food\, and listening to great music. We are bringing that Nashville vibe to Seal Beach so that people on the west coast can have that same experience as they walk\, shop\, and dine in this beautiful sea side town. \nOut talented group of singer-songwriters are making a name for themselves in the world of music today. Each artist has their own sound and will share it  in Seal Beach during the month March 2023.  Right now there are five different locations\, where the artists will share their music in intimate settings while sharing their inspiration and mindset behind the lyrics. \nCome join the Seal Beach Chamber of Commerce and the City of Seal Beach as we mix the sounds of Nashville with the sights of the coast.
URL:https://sbhrf.net/event/nashville-on-the-coast/2025-05-01/
CATEGORIES:Music,Nonprofits,Seal Beach
ATTACH;FMTTYPE=image/webp:https://sbhrf.net/wp-content/uploads/2024/11/Nashville-on-the-Coast-logo.webp
ORGANIZER;CN="Nashville on the Coast":MAILTO:daren@nashvilleonthecoast.com
END:VEVENT
BEGIN:VEVENT
DTSTART;TZID=America/Los_Angeles:20250430T190000
DTEND;TZID=America/Los_Angeles:20250430T220000
DTSTAMP:20260419T223713
CREATED:20241115T154557Z
LAST-MODIFIED:20241115T163205Z
UID:10002119-1746039600-1746050400@sbhrf.net
SUMMARY:Nashville on the Coast
DESCRIPTION:Nashville Tennessee is the heart of country music.  It is home to places like the Country Music Hall of Fame\, RCA Studio B\, The Grand Ole Opry\, and Lower Broadway. Lower Broadway in Nashville is like Main St. in Seal Beach\, it’s filled with people having fun\, eating good food\, and listening to great music. We are bringing that Nashville vibe to Seal Beach so that people on the west coast can have that same experience as they walk\, shop\, and dine in this beautiful sea side town. \nOut talented group of singer-songwriters are making a name for themselves in the world of music today. Each artist has their own sound and will share it  in Seal Beach during the month March 2023.  Right now there are five different locations\, where the artists will share their music in intimate settings while sharing their inspiration and mindset behind the lyrics. \nCome join the Seal Beach Chamber of Commerce and the City of Seal Beach as we mix the sounds of Nashville with the sights of the coast.
URL:https://sbhrf.net/event/nashville-on-the-coast/2025-04-30/
CATEGORIES:Music,Nonprofits,Seal Beach
ATTACH;FMTTYPE=image/webp:https://sbhrf.net/wp-content/uploads/2024/11/Nashville-on-the-Coast-logo.webp
ORGANIZER;CN="Nashville on the Coast":MAILTO:daren@nashvilleonthecoast.com
END:VEVENT
BEGIN:VEVENT
DTSTART;TZID=America/Los_Angeles:20250429T190000
DTEND;TZID=America/Los_Angeles:20250429T213000
DTSTAMP:20260419T223713
CREATED:20240509T184208Z
LAST-MODIFIED:20240509T184327Z
UID:10000855-1745953200-1745962200@sbhrf.net
SUMMARY:Trivia Night @ Marni's
DESCRIPTION:
URL:https://sbhrf.net/event/trivia-night-marnis/2025-04-29/
LOCATION:Marni’s\, 620 Pacific Coast Highway\, Seal Beach\, CA\, 90740
ATTACH;FMTTYPE=image/png:https://sbhrf.net/wp-content/uploads/2024/05/Marnis-Trivia.png
END:VEVENT
BEGIN:VEVENT
DTSTART;TZID=America/Los_Angeles:20250429T190000
DTEND;TZID=America/Los_Angeles:20250429T210000
DTSTAMP:20260419T223713
CREATED:20240415T235559Z
LAST-MODIFIED:20240415T235559Z
UID:10000514-1745953200-1745960400@sbhrf.net
SUMMARY:Bogart's Coffee House - Open Mic Night
DESCRIPTION:
URL:https://sbhrf.net/event/bogarts-coffee-house-open-mic-night/2025-04-29/
LOCATION:Bogart’s Coffee House\, 905 Ocean Ave\, Seal Beach\, CA\, 90740\, United States
CATEGORIES:Music
ATTACH;FMTTYPE=image/png:https://sbhrf.net/wp-content/uploads/2024/04/2024-0502-Bogarts-Open-Mic-1.png
END:VEVENT
BEGIN:VEVENT
DTSTART;TZID=America/Los_Angeles:20250428T180000
DTEND;TZID=America/Los_Angeles:20250428T210000
DTSTAMP:20260419T223713
CREATED:20241113T161442Z
LAST-MODIFIED:20241113T162246Z
UID:10001990-1745863200-1745874000@sbhrf.net
SUMMARY:Seal Beach City Council Meeting
DESCRIPTION:City Council and Planning Commission meetings can be viewed on SBTV-3 and on the City’s YouTube Channel. A recording of the meeting will be posted online within 24 hours of adjournment.
URL:https://sbhrf.net/event/seal-beach-city-council-meeting-2/2025-04-28/
CATEGORIES:Government,Seal Beach
ATTACH;FMTTYPE=image/png:https://sbhrf.net/wp-content/uploads/2024/11/SB-City-Council-meeting-generic.png
END:VEVENT
BEGIN:VEVENT
DTSTART;TZID=America/Los_Angeles:20250427T180000
DTEND;TZID=America/Los_Angeles:20250427T200000
DTSTAMP:20260419T223713
CREATED:20241122T145107Z
LAST-MODIFIED:20241122T151410Z
UID:10002555-1745776800-1745784000@sbhrf.net
SUMMARY:American Legion Hall:  Open Mic Night
DESCRIPTION:Calling all music lovers!\nWhether you’re an aspiring musician or just want to join some great tunes\, come join our open jam sessions.  Bring your instrument and play a few songs. \nMicrophones and speakers will be provided\, so just bring your talent and energy! \nStarting Nov. 3.  Every Sunday!
URL:https://sbhrf.net/event/american-legion-hall-open-mic-night/2025-04-27/
LOCATION:American Legion Post 716\, 3252 Florista Street\, Los Angeles\, CA\, 90720\, United States
CATEGORIES:Music,Nonprofits
ATTACH;FMTTYPE=image/png:https://sbhrf.net/wp-content/uploads/2024/11/AmLegion-Open-Mic.png
ORGANIZER;CN="American Legion Post 716":MAILTO:info@losalamitospost716.org
END:VEVENT
BEGIN:VEVENT
DTSTART;TZID=America/Los_Angeles:20250426T200000
DTEND;TZID=America/Los_Angeles:20250426T230000
DTSTAMP:20260419T223713
CREATED:20241122T152128Z
LAST-MODIFIED:20241122T152128Z
UID:10002817-1745697600-1745708400@sbhrf.net
SUMMARY:GRIFFINS GRILL:  Saturday Night Live
DESCRIPTION:
URL:https://sbhrf.net/event/griffins-grill-saturday-night-live/2025-04-26/
LOCATION:Griffins Grill\, 11272 Los Alamitos Blvd.\, Los Alamitos\, CA\, 90740\, United States
CATEGORIES:Los Alamitos,Music
END:VEVENT
BEGIN:VEVENT
DTSTART;TZID=America/Los_Angeles:20250426T080000
DTEND;TZID=America/Los_Angeles:20250426T170000
DTSTAMP:20260419T223713
CREATED:20241111T192501Z
LAST-MODIFIED:20241111T192623Z
UID:10001142-1745654400-1745686800@sbhrf.net
SUMMARY:SB Classic Car Show
DESCRIPTION:
URL:https://sbhrf.net/event/sb-classic-car-show/
CATEGORIES:SB Chamber
ATTACH;FMTTYPE=image/png:https://sbhrf.net/wp-content/uploads/2024/11/2025-0426-SB-Classic-Car-Show.png
END:VEVENT
BEGIN:VEVENT
DTSTART;TZID=America/Los_Angeles:20250422T190000
DTEND;TZID=America/Los_Angeles:20250422T213000
DTSTAMP:20260419T223713
CREATED:20240509T184208Z
LAST-MODIFIED:20240509T184327Z
UID:10000854-1745348400-1745357400@sbhrf.net
SUMMARY:Trivia Night @ Marni's
DESCRIPTION:
URL:https://sbhrf.net/event/trivia-night-marnis/2025-04-22/
LOCATION:Marni’s\, 620 Pacific Coast Highway\, Seal Beach\, CA\, 90740
ATTACH;FMTTYPE=image/png:https://sbhrf.net/wp-content/uploads/2024/05/Marnis-Trivia.png
END:VEVENT
BEGIN:VEVENT
DTSTART;TZID=America/Los_Angeles:20250422T190000
DTEND;TZID=America/Los_Angeles:20250422T210000
DTSTAMP:20260419T223713
CREATED:20240415T235559Z
LAST-MODIFIED:20240415T235559Z
UID:10000513-1745348400-1745355600@sbhrf.net
SUMMARY:Bogart's Coffee House - Open Mic Night
DESCRIPTION:
URL:https://sbhrf.net/event/bogarts-coffee-house-open-mic-night/2025-04-22/
LOCATION:Bogart’s Coffee House\, 905 Ocean Ave\, Seal Beach\, CA\, 90740\, United States
CATEGORIES:Music
ATTACH;FMTTYPE=image/png:https://sbhrf.net/wp-content/uploads/2024/04/2024-0502-Bogarts-Open-Mic-1.png
END:VEVENT
BEGIN:VEVENT
DTSTART;TZID=America/Los_Angeles:20250421T180000
DTEND;TZID=America/Los_Angeles:20250421T210000
DTSTAMP:20260419T223713
CREATED:20241113T163121Z
LAST-MODIFIED:20241113T163121Z
UID:10002050-1745258400-1745269200@sbhrf.net
SUMMARY:GOVERNMENT:  Los Alamitos City Council Meeting
DESCRIPTION:
URL:https://sbhrf.net/event/government-los-alamitos-city-council-meeting/2025-04-21/
CATEGORIES:Government,Los Alamitos
ATTACH;FMTTYPE=image/png:https://sbhrf.net/wp-content/uploads/2024/11/Los-Al-City-Council-meeting-generic.png
END:VEVENT
BEGIN:VEVENT
DTSTART;TZID=America/Los_Angeles:20250420T180000
DTEND;TZID=America/Los_Angeles:20250420T200000
DTSTAMP:20260419T223713
CREATED:20241122T145107Z
LAST-MODIFIED:20241122T151410Z
UID:10002554-1745172000-1745179200@sbhrf.net
SUMMARY:American Legion Hall:  Open Mic Night
DESCRIPTION:Calling all music lovers!\nWhether you’re an aspiring musician or just want to join some great tunes\, come join our open jam sessions.  Bring your instrument and play a few songs. \nMicrophones and speakers will be provided\, so just bring your talent and energy! \nStarting Nov. 3.  Every Sunday!
URL:https://sbhrf.net/event/american-legion-hall-open-mic-night/2025-04-20/
LOCATION:American Legion Post 716\, 3252 Florista Street\, Los Angeles\, CA\, 90720\, United States
CATEGORIES:Music,Nonprofits
ATTACH;FMTTYPE=image/png:https://sbhrf.net/wp-content/uploads/2024/11/AmLegion-Open-Mic.png
ORGANIZER;CN="American Legion Post 716":MAILTO:info@losalamitospost716.org
END:VEVENT
BEGIN:VEVENT
DTSTART;TZID=America/Los_Angeles:20250419T200000
DTEND;TZID=America/Los_Angeles:20250419T230000
DTSTAMP:20260419T223713
CREATED:20241122T152128Z
LAST-MODIFIED:20241122T152128Z
UID:10002816-1745092800-1745103600@sbhrf.net
SUMMARY:GRIFFINS GRILL:  Saturday Night Live
DESCRIPTION:
URL:https://sbhrf.net/event/griffins-grill-saturday-night-live/2025-04-19/
LOCATION:Griffins Grill\, 11272 Los Alamitos Blvd.\, Los Alamitos\, CA\, 90740\, United States
CATEGORIES:Los Alamitos,Music
END:VEVENT
BEGIN:VEVENT
DTSTART;TZID=America/Los_Angeles:20250419T093000
DTEND;TZID=America/Los_Angeles:20250419T120000
DTSTAMP:20260419T223713
CREATED:20241112T161114Z
LAST-MODIFIED:20241112T161315Z
UID:10001528-1745055000-1745064000@sbhrf.net
SUMMARY:Los Alamitos Rec: Spring Carnival
DESCRIPTION:
URL:https://sbhrf.net/event/los-alamitos-rec-spring-carnival/
LOCATION:Little Cottonwood Park\, 4000 Farquhar\, Los Alamitos\, CA\, 90720\, United States
CATEGORIES:Family,Los Alamitos
ATTACH;FMTTYPE=image/jpeg:https://sbhrf.net/wp-content/uploads/2024/11/2024-0419-Spring-carnival-event.jpg
END:VEVENT
BEGIN:VEVENT
DTSTART;TZID=America/Los_Angeles:20250419T090000
DTEND;TZID=America/Los_Angeles:20250419T170000
DTSTAMP:20260419T223713
CREATED:20241126T042703Z
LAST-MODIFIED:20241126T042703Z
UID:10003059-1745053200-1745082000@sbhrf.net
SUMMARY:SB LIONS:  Springfest Lions Egg Hunt
DESCRIPTION:
URL:https://sbhrf.net/event/sb-lions-springfest-lions-egg-hunt/
LOCATION:Eisenhower Park
CATEGORIES:Seal Beach
END:VEVENT
BEGIN:VEVENT
DTSTART;TZID=America/Los_Angeles:20250418T170000
DTEND;TZID=America/Los_Angeles:20250418T200000
DTSTAMP:20260419T223713
CREATED:20241121T132148Z
LAST-MODIFIED:20241121T132148Z
UID:10002461-1744995600-1745006400@sbhrf.net
SUMMARY:YOUTH CENTER:  Night Among the Stars
DESCRIPTION:
URL:https://sbhrf.net/event/youth-center-night-among-the-stars/
LOCATION:On the Greens\, 5660 Orangewood Ave.\, Cypress\, CA\, 90630\, United States
CATEGORIES:Nonprofits
ATTACH;FMTTYPE=image/png:https://sbhrf.net/wp-content/uploads/2024/11/YC-Night-Among-the-Stars.png
END:VEVENT
BEGIN:VEVENT
DTSTART;TZID=America/Los_Angeles:20250416T090000
DTEND;TZID=America/Los_Angeles:20250416T150000
DTSTAMP:20260419T223713
CREATED:20241112T184032Z
LAST-MODIFIED:20241112T184032Z
UID:10001540-1744794000-1744815600@sbhrf.net
SUMMARY:RHA / Red Cross Blood Drive
DESCRIPTION:Through the generosity of volunteer blood donors at Red Cross Blood Drives\, the American Red Cross helps millions of patients in over 2\,600 hospitals across the country each year. Patients receiving treatment for cancer or blood disorders\, those undergoing transplant surgery\, mothers suffering from birthing complications\, and premature babies are all examples of patients who need blood. Chances are you know someone who has needed or currently needs blood. \nIn less than an hour’s time\, you can help save up to three lives with a blood donation. And right here in Rossmoor at our monthly Rossmoor Red Cross Blood Drive at Rush Park. \nRemember: \n\n\n\n\n\nEvery 2 seconds someone in America needs blood\n14\,000 units of blood need to be collected by the Red Cross each day\n\n\n\n\n\nPlease join us in giving the gift of life.  Register here
URL:https://sbhrf.net/event/rha-red-cross-blood-drive/2025-04-16/
LOCATION:Rush Park Auditorium\, 3021 Blume Ave\, Rossmoor\, 90720\, United States
CATEGORIES:Rossmoor
ATTACH;FMTTYPE=image/png:https://sbhrf.net/wp-content/uploads/2024/11/Rossmoor-Red-Cross-Blood-Drive-undated-3-1.png
END:VEVENT
BEGIN:VEVENT
DTSTART;TZID=America/Los_Angeles:20250415T190000
DTEND;TZID=America/Los_Angeles:20250415T213000
DTSTAMP:20260419T223713
CREATED:20240509T184208Z
LAST-MODIFIED:20240509T184327Z
UID:10000853-1744743600-1744752600@sbhrf.net
SUMMARY:Trivia Night @ Marni's
DESCRIPTION:
URL:https://sbhrf.net/event/trivia-night-marnis/2025-04-15/
LOCATION:Marni’s\, 620 Pacific Coast Highway\, Seal Beach\, CA\, 90740
ATTACH;FMTTYPE=image/png:https://sbhrf.net/wp-content/uploads/2024/05/Marnis-Trivia.png
END:VEVENT
BEGIN:VEVENT
DTSTART;TZID=America/Los_Angeles:20250415T190000
DTEND;TZID=America/Los_Angeles:20250415T210000
DTSTAMP:20260419T223713
CREATED:20240415T235559Z
LAST-MODIFIED:20240415T235559Z
UID:10000512-1744743600-1744750800@sbhrf.net
SUMMARY:Bogart's Coffee House - Open Mic Night
DESCRIPTION:
URL:https://sbhrf.net/event/bogarts-coffee-house-open-mic-night/2025-04-15/
LOCATION:Bogart’s Coffee House\, 905 Ocean Ave\, Seal Beach\, CA\, 90740\, United States
CATEGORIES:Music
ATTACH;FMTTYPE=image/png:https://sbhrf.net/wp-content/uploads/2024/04/2024-0502-Bogarts-Open-Mic-1.png
END:VEVENT
BEGIN:VEVENT
DTSTART;TZID=America/Los_Angeles:20250414T180000
DTEND;TZID=America/Los_Angeles:20250414T210000
DTSTAMP:20260419T223713
CREATED:20241113T160828Z
LAST-MODIFIED:20241113T162103Z
UID:10001870-1744653600-1744664400@sbhrf.net
SUMMARY:Seal Beach City Council Meeting
DESCRIPTION:City Council and Planning Commission meetings can be viewed on SBTV-3 and on the City’s YouTube Channel. A recording of the meeting will be posted online within 24 hours of adjournment.
URL:https://sbhrf.net/event/seal-beach-city-council-meeting/2025-04-14/
CATEGORIES:Government,Seal Beach
ATTACH;FMTTYPE=image/png:https://sbhrf.net/wp-content/uploads/2024/11/SB-City-Council-meeting-generic.png
END:VEVENT
BEGIN:VEVENT
DTSTART;TZID=America/Los_Angeles:20250413T180000
DTEND;TZID=America/Los_Angeles:20250413T200000
DTSTAMP:20260419T223713
CREATED:20241122T145107Z
LAST-MODIFIED:20241122T151410Z
UID:10002553-1744567200-1744574400@sbhrf.net
SUMMARY:American Legion Hall:  Open Mic Night
DESCRIPTION:Calling all music lovers!\nWhether you’re an aspiring musician or just want to join some great tunes\, come join our open jam sessions.  Bring your instrument and play a few songs. \nMicrophones and speakers will be provided\, so just bring your talent and energy! \nStarting Nov. 3.  Every Sunday!
URL:https://sbhrf.net/event/american-legion-hall-open-mic-night/2025-04-13/
LOCATION:American Legion Post 716\, 3252 Florista Street\, Los Angeles\, CA\, 90720\, United States
CATEGORIES:Music,Nonprofits
ATTACH;FMTTYPE=image/png:https://sbhrf.net/wp-content/uploads/2024/11/AmLegion-Open-Mic.png
ORGANIZER;CN="American Legion Post 716":MAILTO:info@losalamitospost716.org
END:VEVENT
END:VCALENDAR