BEGIN:VCALENDAR
VERSION:2.0
PRODID:-//Seal Beach Historic Resources Foundation - ECPv6.15.17.1//NONSGML v1.0//EN
CALSCALE:GREGORIAN
METHOD:PUBLISH
X-ORIGINAL-URL:https://sbhrf.net
X-WR-CALDESC:Events for Seal Beach Historic Resources Foundation
REFRESH-INTERVAL;VALUE=DURATION:PT1H
X-Robots-Tag:noindex
X-PUBLISHED-TTL:PT1H
BEGIN:VTIMEZONE
TZID:America/Los_Angeles
BEGIN:DAYLIGHT
TZOFFSETFROM:-0800
TZOFFSETTO:-0700
TZNAME:PDT
DTSTART:20230312T100000
END:DAYLIGHT
BEGIN:STANDARD
TZOFFSETFROM:-0700
TZOFFSETTO:-0800
TZNAME:PST
DTSTART:20231105T090000
END:STANDARD
BEGIN:DAYLIGHT
TZOFFSETFROM:-0800
TZOFFSETTO:-0700
TZNAME:PDT
DTSTART:20240310T100000
END:DAYLIGHT
BEGIN:STANDARD
TZOFFSETFROM:-0700
TZOFFSETTO:-0800
TZNAME:PST
DTSTART:20241103T090000
END:STANDARD
BEGIN:DAYLIGHT
TZOFFSETFROM:-0800
TZOFFSETTO:-0700
TZNAME:PDT
DTSTART:20250309T100000
END:DAYLIGHT
BEGIN:STANDARD
TZOFFSETFROM:-0700
TZOFFSETTO:-0800
TZNAME:PST
DTSTART:20251102T090000
END:STANDARD
END:VTIMEZONE
BEGIN:VEVENT
DTSTART;TZID=America/Los_Angeles:20240709T190000
DTEND;TZID=America/Los_Angeles:20240709T213000
DTSTAMP:20260419T230821
CREATED:20240509T184208Z
LAST-MODIFIED:20240509T184327Z
UID:10000813-1720551600-1720560600@sbhrf.net
SUMMARY:Trivia Night @ Marni's
DESCRIPTION:
URL:https://sbhrf.net/event/trivia-night-marnis/2024-07-09/
LOCATION:Marni’s\, 620 Pacific Coast Highway\, Seal Beach\, CA\, 90740
ATTACH;FMTTYPE=image/png:https://sbhrf.net/wp-content/uploads/2024/05/Marnis-Trivia.png
END:VEVENT
BEGIN:VEVENT
DTSTART;TZID=America/Los_Angeles:20240709T190000
DTEND;TZID=America/Los_Angeles:20240709T210000
DTSTAMP:20260419T230821
CREATED:20240415T235559Z
LAST-MODIFIED:20240415T235559Z
UID:10000472-1720551600-1720558800@sbhrf.net
SUMMARY:Bogart's Coffee House - Open Mic Night
DESCRIPTION:
URL:https://sbhrf.net/event/bogarts-coffee-house-open-mic-night/2024-07-09/
LOCATION:Bogart’s Coffee House\, 905 Ocean Ave\, Seal Beach\, CA\, 90740\, United States
CATEGORIES:Music
ATTACH;FMTTYPE=image/png:https://sbhrf.net/wp-content/uploads/2024/04/2024-0502-Bogarts-Open-Mic-1.png
END:VEVENT
BEGIN:VEVENT
DTSTART;TZID=America/Los_Angeles:20240708T190000
DTEND;TZID=America/Los_Angeles:20240708T210000
DTSTAMP:20260419T230821
CREATED:20240507T222009Z
LAST-MODIFIED:20240507T222349Z
UID:10000733-1720465200-1720472400@sbhrf.net
SUMMARY:Seal Beach City Council - 2nd & 4th Mondays
DESCRIPTION:The Seal Beach City Council generally meets on the second and fourth Monday of each month. \nThis meeting schedule can change\, particularly in months with national holidays\, so be sure to check the status of a meeting at the agenda link below. Make sure to check the agency’s website also for the latest protocols on in-person and/or virtual attendance. \nCity Council meeting agendas are published online and in the city clerk’s office no later than the Friday before the city council meeting date. Agendas are also posted in the kiosk adjacent to the council chamber doors. \nLATEST AGENDAS: CLICK HERE \nMEETING MINUTES: CLICK HERE \nMEETING TIME: The council’s regular meeting typically begins at 7 p.m. If there are any closed session items\, that portion of the meeting usually begins around 5:30 p.m. \nMEETING LOCATION: City Council Chambers at 211 Eighth Street. \nThe meeting can be viewed on local cable television channel 3 or on the city’s website. \nPUBLIC COMMENT: Residents can submit comments on any item via email to the city clerk at gharper@sealbeachca.gov or via the comment icon through the online portal.  All email comments the city clerk receives before the start of the meeting will be posted on the city website and distributed to the council. Email comments received after the start of the meeting will be posted on the city’s website and forwarded to the city council after the meeting. \nThe in-person public comments portion of the meeting is towards the beginning of open session. Comments are limited to five minutes. Any documents for review should be presented to the city clerk for distribution. \nCURRENT OFFICIALS: Click here to see and contact the current members.
URL:https://sbhrf.net/event/seal-beach-city-council-2nd-4th-mondays/2024-07-08/
LOCATION:Seal Beach City Hall\, 211 8th Street\, Seal Beach\, CA\, 90740
ATTACH;FMTTYPE=image/png:https://sbhrf.net/wp-content/uploads/2024/05/SB-City-Council.png
END:VEVENT
BEGIN:VEVENT
DTSTART;TZID=America/Los_Angeles:20240702T190000
DTEND;TZID=America/Los_Angeles:20240702T213000
DTSTAMP:20260419T230821
CREATED:20240509T184208Z
LAST-MODIFIED:20240509T184327Z
UID:10000812-1719946800-1719955800@sbhrf.net
SUMMARY:Trivia Night @ Marni's
DESCRIPTION:
URL:https://sbhrf.net/event/trivia-night-marnis/2024-07-02/
LOCATION:Marni’s\, 620 Pacific Coast Highway\, Seal Beach\, CA\, 90740
ATTACH;FMTTYPE=image/png:https://sbhrf.net/wp-content/uploads/2024/05/Marnis-Trivia.png
END:VEVENT
BEGIN:VEVENT
DTSTART;TZID=America/Los_Angeles:20240702T190000
DTEND;TZID=America/Los_Angeles:20240702T210000
DTSTAMP:20260419T230821
CREATED:20240415T235559Z
LAST-MODIFIED:20240415T235559Z
UID:10000471-1719946800-1719954000@sbhrf.net
SUMMARY:Bogart's Coffee House - Open Mic Night
DESCRIPTION:
URL:https://sbhrf.net/event/bogarts-coffee-house-open-mic-night/2024-07-02/
LOCATION:Bogart’s Coffee House\, 905 Ocean Ave\, Seal Beach\, CA\, 90740\, United States
CATEGORIES:Music
ATTACH;FMTTYPE=image/png:https://sbhrf.net/wp-content/uploads/2024/04/2024-0502-Bogarts-Open-Mic-1.png
END:VEVENT
BEGIN:VEVENT
DTSTART;TZID=America/Los_Angeles:20240625T190000
DTEND;TZID=America/Los_Angeles:20240625T213000
DTSTAMP:20260419T230821
CREATED:20240509T184208Z
LAST-MODIFIED:20240509T184327Z
UID:10000811-1719342000-1719351000@sbhrf.net
SUMMARY:Trivia Night @ Marni's
DESCRIPTION:
URL:https://sbhrf.net/event/trivia-night-marnis/2024-06-25/
LOCATION:Marni’s\, 620 Pacific Coast Highway\, Seal Beach\, CA\, 90740
ATTACH;FMTTYPE=image/png:https://sbhrf.net/wp-content/uploads/2024/05/Marnis-Trivia.png
END:VEVENT
BEGIN:VEVENT
DTSTART;TZID=America/Los_Angeles:20240625T190000
DTEND;TZID=America/Los_Angeles:20240625T210000
DTSTAMP:20260419T230821
CREATED:20240415T235559Z
LAST-MODIFIED:20240415T235559Z
UID:10000470-1719342000-1719349200@sbhrf.net
SUMMARY:Bogart's Coffee House - Open Mic Night
DESCRIPTION:
URL:https://sbhrf.net/event/bogarts-coffee-house-open-mic-night/2024-06-25/
LOCATION:Bogart’s Coffee House\, 905 Ocean Ave\, Seal Beach\, CA\, 90740\, United States
CATEGORIES:Music
ATTACH;FMTTYPE=image/png:https://sbhrf.net/wp-content/uploads/2024/04/2024-0502-Bogarts-Open-Mic-1.png
END:VEVENT
BEGIN:VEVENT
DTSTART;TZID=America/Los_Angeles:20240624T190000
DTEND;TZID=America/Los_Angeles:20240624T210000
DTSTAMP:20260419T230821
CREATED:20240507T222009Z
LAST-MODIFIED:20240507T222349Z
UID:10000732-1719255600-1719262800@sbhrf.net
SUMMARY:Seal Beach City Council - 2nd & 4th Mondays
DESCRIPTION:The Seal Beach City Council generally meets on the second and fourth Monday of each month. \nThis meeting schedule can change\, particularly in months with national holidays\, so be sure to check the status of a meeting at the agenda link below. Make sure to check the agency’s website also for the latest protocols on in-person and/or virtual attendance. \nCity Council meeting agendas are published online and in the city clerk’s office no later than the Friday before the city council meeting date. Agendas are also posted in the kiosk adjacent to the council chamber doors. \nLATEST AGENDAS: CLICK HERE \nMEETING MINUTES: CLICK HERE \nMEETING TIME: The council’s regular meeting typically begins at 7 p.m. If there are any closed session items\, that portion of the meeting usually begins around 5:30 p.m. \nMEETING LOCATION: City Council Chambers at 211 Eighth Street. \nThe meeting can be viewed on local cable television channel 3 or on the city’s website. \nPUBLIC COMMENT: Residents can submit comments on any item via email to the city clerk at gharper@sealbeachca.gov or via the comment icon through the online portal.  All email comments the city clerk receives before the start of the meeting will be posted on the city website and distributed to the council. Email comments received after the start of the meeting will be posted on the city’s website and forwarded to the city council after the meeting. \nThe in-person public comments portion of the meeting is towards the beginning of open session. Comments are limited to five minutes. Any documents for review should be presented to the city clerk for distribution. \nCURRENT OFFICIALS: Click here to see and contact the current members.
URL:https://sbhrf.net/event/seal-beach-city-council-2nd-4th-mondays/2024-06-24/
LOCATION:Seal Beach City Hall\, 211 8th Street\, Seal Beach\, CA\, 90740
ATTACH;FMTTYPE=image/png:https://sbhrf.net/wp-content/uploads/2024/05/SB-City-Council.png
END:VEVENT
BEGIN:VEVENT
DTSTART;TZID=America/Los_Angeles:20240618T190000
DTEND;TZID=America/Los_Angeles:20240618T213000
DTSTAMP:20260419T230821
CREATED:20240509T184208Z
LAST-MODIFIED:20240509T184327Z
UID:10000810-1718737200-1718746200@sbhrf.net
SUMMARY:Trivia Night @ Marni's
DESCRIPTION:
URL:https://sbhrf.net/event/trivia-night-marnis/2024-06-18/
LOCATION:Marni’s\, 620 Pacific Coast Highway\, Seal Beach\, CA\, 90740
ATTACH;FMTTYPE=image/png:https://sbhrf.net/wp-content/uploads/2024/05/Marnis-Trivia.png
END:VEVENT
BEGIN:VEVENT
DTSTART;TZID=America/Los_Angeles:20240618T190000
DTEND;TZID=America/Los_Angeles:20240618T210000
DTSTAMP:20260419T230821
CREATED:20240415T235559Z
LAST-MODIFIED:20240415T235559Z
UID:10000469-1718737200-1718744400@sbhrf.net
SUMMARY:Bogart's Coffee House - Open Mic Night
DESCRIPTION:
URL:https://sbhrf.net/event/bogarts-coffee-house-open-mic-night/2024-06-18/
LOCATION:Bogart’s Coffee House\, 905 Ocean Ave\, Seal Beach\, CA\, 90740\, United States
CATEGORIES:Music
ATTACH;FMTTYPE=image/png:https://sbhrf.net/wp-content/uploads/2024/04/2024-0502-Bogarts-Open-Mic-1.png
END:VEVENT
BEGIN:VEVENT
DTSTART;TZID=America/Los_Angeles:20240611T190000
DTEND;TZID=America/Los_Angeles:20240611T213000
DTSTAMP:20260419T230821
CREATED:20240509T184208Z
LAST-MODIFIED:20240509T184327Z
UID:10000809-1718132400-1718141400@sbhrf.net
SUMMARY:Trivia Night @ Marni's
DESCRIPTION:
URL:https://sbhrf.net/event/trivia-night-marnis/2024-06-11/
LOCATION:Marni’s\, 620 Pacific Coast Highway\, Seal Beach\, CA\, 90740
ATTACH;FMTTYPE=image/png:https://sbhrf.net/wp-content/uploads/2024/05/Marnis-Trivia.png
END:VEVENT
BEGIN:VEVENT
DTSTART;TZID=America/Los_Angeles:20240611T190000
DTEND;TZID=America/Los_Angeles:20240611T210000
DTSTAMP:20260419T230821
CREATED:20240415T235559Z
LAST-MODIFIED:20240415T235559Z
UID:10000468-1718132400-1718139600@sbhrf.net
SUMMARY:Bogart's Coffee House - Open Mic Night
DESCRIPTION:
URL:https://sbhrf.net/event/bogarts-coffee-house-open-mic-night/2024-06-11/
LOCATION:Bogart’s Coffee House\, 905 Ocean Ave\, Seal Beach\, CA\, 90740\, United States
CATEGORIES:Music
ATTACH;FMTTYPE=image/png:https://sbhrf.net/wp-content/uploads/2024/04/2024-0502-Bogarts-Open-Mic-1.png
END:VEVENT
BEGIN:VEVENT
DTSTART;TZID=America/Los_Angeles:20240610T190000
DTEND;TZID=America/Los_Angeles:20240610T210000
DTSTAMP:20260419T230821
CREATED:20240507T222009Z
LAST-MODIFIED:20240507T222349Z
UID:10000731-1718046000-1718053200@sbhrf.net
SUMMARY:Seal Beach City Council - 2nd & 4th Mondays
DESCRIPTION:The Seal Beach City Council generally meets on the second and fourth Monday of each month. \nThis meeting schedule can change\, particularly in months with national holidays\, so be sure to check the status of a meeting at the agenda link below. Make sure to check the agency’s website also for the latest protocols on in-person and/or virtual attendance. \nCity Council meeting agendas are published online and in the city clerk’s office no later than the Friday before the city council meeting date. Agendas are also posted in the kiosk adjacent to the council chamber doors. \nLATEST AGENDAS: CLICK HERE \nMEETING MINUTES: CLICK HERE \nMEETING TIME: The council’s regular meeting typically begins at 7 p.m. If there are any closed session items\, that portion of the meeting usually begins around 5:30 p.m. \nMEETING LOCATION: City Council Chambers at 211 Eighth Street. \nThe meeting can be viewed on local cable television channel 3 or on the city’s website. \nPUBLIC COMMENT: Residents can submit comments on any item via email to the city clerk at gharper@sealbeachca.gov or via the comment icon through the online portal.  All email comments the city clerk receives before the start of the meeting will be posted on the city website and distributed to the council. Email comments received after the start of the meeting will be posted on the city’s website and forwarded to the city council after the meeting. \nThe in-person public comments portion of the meeting is towards the beginning of open session. Comments are limited to five minutes. Any documents for review should be presented to the city clerk for distribution. \nCURRENT OFFICIALS: Click here to see and contact the current members.
URL:https://sbhrf.net/event/seal-beach-city-council-2nd-4th-mondays/2024-06-10/
LOCATION:Seal Beach City Hall\, 211 8th Street\, Seal Beach\, CA\, 90740
ATTACH;FMTTYPE=image/png:https://sbhrf.net/wp-content/uploads/2024/05/SB-City-Council.png
END:VEVENT
BEGIN:VEVENT
DTSTART;TZID=America/Los_Angeles:20240604T190000
DTEND;TZID=America/Los_Angeles:20240604T213000
DTSTAMP:20260419T230821
CREATED:20240509T184208Z
LAST-MODIFIED:20240509T184327Z
UID:10000808-1717527600-1717536600@sbhrf.net
SUMMARY:Trivia Night @ Marni's
DESCRIPTION:
URL:https://sbhrf.net/event/trivia-night-marnis/2024-06-04/
LOCATION:Marni’s\, 620 Pacific Coast Highway\, Seal Beach\, CA\, 90740
ATTACH;FMTTYPE=image/png:https://sbhrf.net/wp-content/uploads/2024/05/Marnis-Trivia.png
END:VEVENT
BEGIN:VEVENT
DTSTART;TZID=America/Los_Angeles:20240604T190000
DTEND;TZID=America/Los_Angeles:20240604T210000
DTSTAMP:20260419T230821
CREATED:20240415T235559Z
LAST-MODIFIED:20240415T235559Z
UID:10000467-1717527600-1717534800@sbhrf.net
SUMMARY:Bogart's Coffee House - Open Mic Night
DESCRIPTION:
URL:https://sbhrf.net/event/bogarts-coffee-house-open-mic-night/2024-06-04/
LOCATION:Bogart’s Coffee House\, 905 Ocean Ave\, Seal Beach\, CA\, 90740\, United States
CATEGORIES:Music
ATTACH;FMTTYPE=image/png:https://sbhrf.net/wp-content/uploads/2024/04/2024-0502-Bogarts-Open-Mic-1.png
END:VEVENT
BEGIN:VEVENT
DTSTART;VALUE=DATE:20240604
DTEND;VALUE=DATE:20240605
DTSTAMP:20260419T230821
CREATED:20240507T232706Z
LAST-MODIFIED:20240507T232821Z
UID:10000799-1717459200-1717545599@sbhrf.net
SUMMARY:Los Al USD - Last Day of School
DESCRIPTION:Summer vacation starts \nSchool returns August 14
URL:https://sbhrf.net/event/los-al-usd-last-day-of-school/
LOCATION:CA
ATTACH;FMTTYPE=image/webp:https://sbhrf.net/wp-content/uploads/2024/05/Last-Day-of-School-01.webp
END:VEVENT
BEGIN:VEVENT
DTSTART;TZID=America/Los_Angeles:20240601T100000
DTEND;TZID=America/Los_Angeles:20240601T120000
DTSTAMP:20260419T230821
CREATED:20240507T233335Z
LAST-MODIFIED:20240507T233335Z
UID:10000800-1717236000-1717243200@sbhrf.net
SUMMARY:LAHS Senior Grad Parade thru Rossmoor
DESCRIPTION:
URL:https://sbhrf.net/event/lahs-senior-grad-parade-thru-rossmoor/
LOCATION:CA
ATTACH;FMTTYPE=image/png:https://sbhrf.net/wp-content/uploads/2024/05/2024-0601-LAHS-Grad-Parade.png
END:VEVENT
BEGIN:VEVENT
DTSTART;TZID=America/Los_Angeles:20240529T080000
DTEND;TZID=America/Los_Angeles:20240529T170000
DTSTAMP:20260419T230821
CREATED:20240415T233658Z
LAST-MODIFIED:20240415T233658Z
UID:10000457-1716969600-1717002000@sbhrf.net
SUMMARY:Non-Profit Panel Discussion
DESCRIPTION:
URL:https://sbhrf.net/event/non-profit-panel-discussion/
LOCATION:Epson\, 3131 Katella Ave\,\, Los Alamitos\, CA\, 90720\, United States
CATEGORIES:SB Chamber
ATTACH;FMTTYPE=image/png:https://sbhrf.net/wp-content/uploads/2024/04/2024-0529-Non-Profit-Paneol-Discussion-1.png
END:VEVENT
BEGIN:VEVENT
DTSTART;TZID=America/Los_Angeles:20240528T190000
DTEND;TZID=America/Los_Angeles:20240528T213000
DTSTAMP:20260419T230821
CREATED:20240509T184208Z
LAST-MODIFIED:20240509T184327Z
UID:10000807-1716922800-1716931800@sbhrf.net
SUMMARY:Trivia Night @ Marni's
DESCRIPTION:
URL:https://sbhrf.net/event/trivia-night-marnis/2024-05-28/
LOCATION:Marni’s\, 620 Pacific Coast Highway\, Seal Beach\, CA\, 90740
ATTACH;FMTTYPE=image/png:https://sbhrf.net/wp-content/uploads/2024/05/Marnis-Trivia.png
END:VEVENT
BEGIN:VEVENT
DTSTART;TZID=America/Los_Angeles:20240528T190000
DTEND;TZID=America/Los_Angeles:20240528T210000
DTSTAMP:20260419T230821
CREATED:20240415T235559Z
LAST-MODIFIED:20240415T235559Z
UID:10000466-1716922800-1716930000@sbhrf.net
SUMMARY:Bogart's Coffee House - Open Mic Night
DESCRIPTION:
URL:https://sbhrf.net/event/bogarts-coffee-house-open-mic-night/2024-05-28/
LOCATION:Bogart’s Coffee House\, 905 Ocean Ave\, Seal Beach\, CA\, 90740\, United States
CATEGORIES:Music
ATTACH;FMTTYPE=image/png:https://sbhrf.net/wp-content/uploads/2024/04/2024-0502-Bogarts-Open-Mic-1.png
END:VEVENT
BEGIN:VEVENT
DTSTART;TZID=America/Los_Angeles:20240527T190000
DTEND;TZID=America/Los_Angeles:20240527T210000
DTSTAMP:20260419T230821
CREATED:20240507T222009Z
LAST-MODIFIED:20240507T222349Z
UID:10000725-1716836400-1716843600@sbhrf.net
SUMMARY:Seal Beach City Council - 2nd & 4th Mondays
DESCRIPTION:The Seal Beach City Council generally meets on the second and fourth Monday of each month. \nThis meeting schedule can change\, particularly in months with national holidays\, so be sure to check the status of a meeting at the agenda link below. Make sure to check the agency’s website also for the latest protocols on in-person and/or virtual attendance. \nCity Council meeting agendas are published online and in the city clerk’s office no later than the Friday before the city council meeting date. Agendas are also posted in the kiosk adjacent to the council chamber doors. \nLATEST AGENDAS: CLICK HERE \nMEETING MINUTES: CLICK HERE \nMEETING TIME: The council’s regular meeting typically begins at 7 p.m. If there are any closed session items\, that portion of the meeting usually begins around 5:30 p.m. \nMEETING LOCATION: City Council Chambers at 211 Eighth Street. \nThe meeting can be viewed on local cable television channel 3 or on the city’s website. \nPUBLIC COMMENT: Residents can submit comments on any item via email to the city clerk at gharper@sealbeachca.gov or via the comment icon through the online portal.  All email comments the city clerk receives before the start of the meeting will be posted on the city website and distributed to the council. Email comments received after the start of the meeting will be posted on the city’s website and forwarded to the city council after the meeting. \nThe in-person public comments portion of the meeting is towards the beginning of open session. Comments are limited to five minutes. Any documents for review should be presented to the city clerk for distribution. \nCURRENT OFFICIALS: Click here to see and contact the current members.
URL:https://sbhrf.net/event/seal-beach-city-council-2nd-4th-mondays/2024-05-27/
LOCATION:Seal Beach City Hall\, 211 8th Street\, Seal Beach\, CA\, 90740
ATTACH;FMTTYPE=image/png:https://sbhrf.net/wp-content/uploads/2024/05/SB-City-Council.png
END:VEVENT
BEGIN:VEVENT
DTSTART;VALUE=DATE:20240527
DTEND;VALUE=DATE:20240528
DTSTAMP:20260419T230821
CREATED:20240508T011240Z
LAST-MODIFIED:20240508T011240Z
UID:10000803-1716768000-1716854399@sbhrf.net
SUMMARY:Memorial Day
DESCRIPTION:
URL:https://sbhrf.net/event/memorial-day/
LOCATION:CA
ATTACH;FMTTYPE=image/webp:https://sbhrf.net/wp-content/uploads/2024/05/memorial-day-banner-as203563041-950x532-1.webp
END:VEVENT
BEGIN:VEVENT
DTSTART;TZID=America/Los_Angeles:20240521T190000
DTEND;TZID=America/Los_Angeles:20240521T213000
DTSTAMP:20260419T230821
CREATED:20240509T184208Z
LAST-MODIFIED:20240509T184327Z
UID:10000806-1716318000-1716327000@sbhrf.net
SUMMARY:Trivia Night @ Marni's
DESCRIPTION:
URL:https://sbhrf.net/event/trivia-night-marnis/2024-05-21/
LOCATION:Marni’s\, 620 Pacific Coast Highway\, Seal Beach\, CA\, 90740
ATTACH;FMTTYPE=image/png:https://sbhrf.net/wp-content/uploads/2024/05/Marnis-Trivia.png
END:VEVENT
BEGIN:VEVENT
DTSTART;TZID=America/Los_Angeles:20240521T190000
DTEND;TZID=America/Los_Angeles:20240521T210000
DTSTAMP:20260419T230821
CREATED:20240415T235559Z
LAST-MODIFIED:20240415T235559Z
UID:10000465-1716318000-1716325200@sbhrf.net
SUMMARY:Bogart's Coffee House - Open Mic Night
DESCRIPTION:
URL:https://sbhrf.net/event/bogarts-coffee-house-open-mic-night/2024-05-21/
LOCATION:Bogart’s Coffee House\, 905 Ocean Ave\, Seal Beach\, CA\, 90740\, United States
CATEGORIES:Music
ATTACH;FMTTYPE=image/png:https://sbhrf.net/wp-content/uploads/2024/04/2024-0502-Bogarts-Open-Mic-1.png
END:VEVENT
BEGIN:VEVENT
DTSTART;TZID=America/Los_Angeles:20240518T120000
DTEND;TZID=America/Los_Angeles:20240518T130000
DTSTAMP:20260419T230821
CREATED:20240509T192050Z
LAST-MODIFIED:20240509T192050Z
UID:10001069-1716033600-1716037200@sbhrf.net
SUMMARY:Rubber Ducky Drop
DESCRIPTION:
URL:https://sbhrf.net/event/rubber-ducky-drop/
LOCATION:Seal Beach Pier\, Seal Beach\, CA\, 90740
ATTACH;FMTTYPE=image/jpeg:https://sbhrf.net/wp-content/uploads/2024/05/ddbackground.jpg
END:VEVENT
BEGIN:VEVENT
DTSTART;TZID=America/Los_Angeles:20240518T090000
DTEND;TZID=America/Los_Angeles:20240518T130000
DTSTAMP:20260419T230821
CREATED:20240507T225552Z
LAST-MODIFIED:20240507T233007Z
UID:10000796-1716022800-1716037200@sbhrf.net
SUMMARY:17TH ANNUAL SEAL BEACH BE MORE HEALTHY EXPO
DESCRIPTION:What better place is there to “Be More Healthy” than in beautiful Eisenhower Park at the foot of the Seal Beach Pier?  The “Be More Healthy” Expo is free\, open to the public\, and will take place on  May 18\, 2024  9 a.m. to 1 p.m.  rain or shine\n\n\n\nThe Seal Beach Chamber of Commerce proudly presents the 17th Annual Seal Beach” Be More Healthy” Expo offering something for every age and every interest . You will be engaged\, entertained\, educated and empowered to take actions and make choices to be more healthy. Best of all\, The “Be More Healthy” Expo will connect you with community resources to help you reach your health and wellness goals. \n\nClick Here For More Information
URL:https://sbhrf.net/event/17th-annual-seal-beach-be-more-healthy-expo/
LOCATION:Eisenhower Park
ATTACH;FMTTYPE=image/png:https://sbhrf.net/wp-content/uploads/2024/05/Health-Excpo.png
ORGANIZER;CN="Seal Beach Chamber of Commerce":MAILTO:nfo@sealbeachchamber.org
END:VEVENT
BEGIN:VEVENT
DTSTART;TZID=America/Los_Angeles:20240517T180000
DTEND;TZID=America/Los_Angeles:20240517T200000
DTSTAMP:20260419T230821
CREATED:20240509T190841Z
LAST-MODIFIED:20240509T190841Z
UID:10001068-1715968800-1715976000@sbhrf.net
SUMMARY:Bogart's - Music by Paul Inman
DESCRIPTION:Friday\, May 17\, 2024\n6:00 PM  8:00 PM\nBogart’s Coffee House (map)\n\n\n\n\n\n\n\n\nPaul Inman’s Delivery is comprised of singer-songwriter-guitarist/keyboard player/harmonica player and renegade avid poet/artist Paul Inman and a rotating cast of supporting musical compatriots. Raised near Detroit Michigan\, Inman digested much from that locale’s sonic landscape before emigrating to Los Angeles where he absorbed the Americana/folk stylings of California’s most compelling artists (The Band\, Tom Waits\, The Heartbreakers\, The Buffalo Springfield\, Neil Young and Crazy Horse\, Blood on The Tracks/Desire era Dylan\, Van Morrison’s Hard Nose the Highway)\, blending them into a compelling Gothic-tinged folk/pop/rock delivery. Touring both as a trio and as a solo acoustic guitar and piano act\, Paul Inman’s Delivery have released 4 full-length CD’s of deftly performed gothic-tinged Americana infused with folk and pop. Their latest\, Songs Of The Broken Earth\, further expands their sonic palette to incorporate blues and electronic stylings\, while remaining embedded in the Americana and roots rock genre. They tour intermittently both in the U.S. and in Europe while continuing to record new material. They have shared stages with the likes of Marc Olsen and Victoria Williams (Creek Dippers)\, Gram Rabbit\, Lucinda Williams\, and The Jayhawks. They are looking to release a new CD later this year… \nwww.Paulinman.net
URL:https://sbhrf.net/event/bogarts-music-by-paul-inman/
LOCATION:Bogart’s Coffee House\, 905 Ocean Ave\, Seal Beach\, CA\, 90740\, United States
END:VEVENT
BEGIN:VEVENT
DTSTART;TZID=America/Los_Angeles:20240514T190000
DTEND;TZID=America/Los_Angeles:20240514T213000
DTSTAMP:20260419T230821
CREATED:20240509T184208Z
LAST-MODIFIED:20240509T184327Z
UID:10000805-1715713200-1715722200@sbhrf.net
SUMMARY:Trivia Night @ Marni's
DESCRIPTION:
URL:https://sbhrf.net/event/trivia-night-marnis/2024-05-14/
LOCATION:Marni’s\, 620 Pacific Coast Highway\, Seal Beach\, CA\, 90740
ATTACH;FMTTYPE=image/png:https://sbhrf.net/wp-content/uploads/2024/05/Marnis-Trivia.png
END:VEVENT
BEGIN:VEVENT
DTSTART;TZID=America/Los_Angeles:20240514T190000
DTEND;TZID=America/Los_Angeles:20240514T210000
DTSTAMP:20260419T230821
CREATED:20240415T235559Z
LAST-MODIFIED:20240415T235559Z
UID:10000464-1715713200-1715720400@sbhrf.net
SUMMARY:Bogart's Coffee House - Open Mic Night
DESCRIPTION:
URL:https://sbhrf.net/event/bogarts-coffee-house-open-mic-night/2024-05-14/
LOCATION:Bogart’s Coffee House\, 905 Ocean Ave\, Seal Beach\, CA\, 90740\, United States
CATEGORIES:Music
ATTACH;FMTTYPE=image/png:https://sbhrf.net/wp-content/uploads/2024/04/2024-0502-Bogarts-Open-Mic-1.png
END:VEVENT
BEGIN:VEVENT
DTSTART;TZID=America/Los_Angeles:20240513T080000
DTEND;TZID=America/Los_Angeles:20240513T170000
DTSTAMP:20260419T230821
CREATED:20240507T222009Z
LAST-MODIFIED:20240507T222349Z
UID:10000730-1715587200-1715619600@sbhrf.net
SUMMARY:Seal Beach City Council - 2nd & 4th Mondays
DESCRIPTION:The Seal Beach City Council generally meets on the second and fourth Monday of each month. \nThis meeting schedule can change\, particularly in months with national holidays\, so be sure to check the status of a meeting at the agenda link below. Make sure to check the agency’s website also for the latest protocols on in-person and/or virtual attendance. \nCity Council meeting agendas are published online and in the city clerk’s office no later than the Friday before the city council meeting date. Agendas are also posted in the kiosk adjacent to the council chamber doors. \nLATEST AGENDAS: CLICK HERE \nMEETING MINUTES: CLICK HERE \nMEETING TIME: The council’s regular meeting typically begins at 7 p.m. If there are any closed session items\, that portion of the meeting usually begins around 5:30 p.m. \nMEETING LOCATION: City Council Chambers at 211 Eighth Street. \nThe meeting can be viewed on local cable television channel 3 or on the city’s website. \nPUBLIC COMMENT: Residents can submit comments on any item via email to the city clerk at gharper@sealbeachca.gov or via the comment icon through the online portal.  All email comments the city clerk receives before the start of the meeting will be posted on the city website and distributed to the council. Email comments received after the start of the meeting will be posted on the city’s website and forwarded to the city council after the meeting. \nThe in-person public comments portion of the meeting is towards the beginning of open session. Comments are limited to five minutes. Any documents for review should be presented to the city clerk for distribution. \nCURRENT OFFICIALS: Click here to see and contact the current members.
URL:https://sbhrf.net/event/seal-beach-city-council-2nd-4th-mondays/2024-05-13/
LOCATION:Seal Beach City Hall\, 211 8th Street\, Seal Beach\, CA\, 90740
ATTACH;FMTTYPE=image/png:https://sbhrf.net/wp-content/uploads/2024/05/SB-City-Council.png
END:VEVENT
END:VCALENDAR