BEGIN:VCALENDAR
VERSION:2.0
PRODID:-//Seal Beach Historic Resources Foundation - ECPv6.15.17.1//NONSGML v1.0//EN
CALSCALE:GREGORIAN
METHOD:PUBLISH
X-WR-CALNAME:Seal Beach Historic Resources Foundation
X-ORIGINAL-URL:https://sbhrf.net
X-WR-CALDESC:Events for Seal Beach Historic Resources Foundation
REFRESH-INTERVAL;VALUE=DURATION:PT1H
X-Robots-Tag:noindex
X-PUBLISHED-TTL:PT1H
BEGIN:VTIMEZONE
TZID:America/Los_Angeles
BEGIN:DAYLIGHT
TZOFFSETFROM:-0800
TZOFFSETTO:-0700
TZNAME:PDT
DTSTART:20230312T100000
END:DAYLIGHT
BEGIN:STANDARD
TZOFFSETFROM:-0700
TZOFFSETTO:-0800
TZNAME:PST
DTSTART:20231105T090000
END:STANDARD
BEGIN:DAYLIGHT
TZOFFSETFROM:-0800
TZOFFSETTO:-0700
TZNAME:PDT
DTSTART:20240310T100000
END:DAYLIGHT
BEGIN:STANDARD
TZOFFSETFROM:-0700
TZOFFSETTO:-0800
TZNAME:PST
DTSTART:20241103T090000
END:STANDARD
BEGIN:DAYLIGHT
TZOFFSETFROM:-0800
TZOFFSETTO:-0700
TZNAME:PDT
DTSTART:20250309T100000
END:DAYLIGHT
BEGIN:STANDARD
TZOFFSETFROM:-0700
TZOFFSETTO:-0800
TZNAME:PST
DTSTART:20251102T090000
END:STANDARD
END:VTIMEZONE
BEGIN:VEVENT
DTSTART;TZID=America/Los_Angeles:20241122T200000
DTEND;TZID=America/Los_Angeles:20241122T230000
DTSTAMP:20260419T192419
CREATED:20241122T151744Z
LAST-MODIFIED:20241122T151744Z
UID:10002794-1732305600-1732316400@sbhrf.net
SUMMARY:GRIFFINS GRILL:  Fat Dog Maybe
DESCRIPTION:
URL:https://sbhrf.net/event/griffins-grill-fat-dog-maybe/
LOCATION:Griffins Grill\, 11272 Los Alamitos Blvd.\, Los Alamitos\, CA\, 90740\, United States
CATEGORIES:Music
ATTACH;FMTTYPE=image/png:https://sbhrf.net/wp-content/uploads/2024/11/Griffins-Grill-Nov-22.png
END:VEVENT
BEGIN:VEVENT
DTSTART;VALUE=DATE:20241122
DTEND;VALUE=DATE:20241123
DTSTAMP:20260419T192419
CREATED:20241112T190918Z
LAST-MODIFIED:20241122T224303Z
UID:10001596-1732233600-1732319999@sbhrf.net
SUMMARY:TODAY IN HISTORY: 1945 - Bay Theater Opens (as Beach Theatre)
DESCRIPTION:After an almost two year ordeal in obtaining land and permits\, Seal Beach got its first real full-time theater when the Beach Theatre opened on Thanksgiving Night in 1945. \nThe theater was the project of Oscar Johnson\, who had been involved with theaters in Southern California for many years\, and thought Seal Beach\, with its newly opened Naval Base and its 1200 sailors\, civilian workers and some of their families\, would be a perfect location for a new theater.  He originally tried to obtain a hall around 208 Main Street as a theater in early 1944.  It had been a bingo and gambling hall in the 1930s\, but when those operations were ended in the early 1940s it lay unused until it was leased as a storage facility. But this came to an end when it was pointed out Main Street was permitted only for retail businesses.  But then Johnson found out there was not enough space on the property.  Seal Beach Mayor William Gauntner came to the rescue and made available the northernmost part of the land he had recently purchased on the 300 block of Main Street\, and where he just starting to build the new block of buildings that would become Brock’s Drugs (and later Warno Sports\, and now Bistro St. Germaine.). \nThe Beach finally opened on Thanksgiving Eve 1944 and Johnson operated it for about six months\, until he sold it to Fox West Coast Theaters chain (actually owned by National General Theaters)\, run by Charles Skouras whose family had been very involved with both Paramount and Twentieth Century-Fox family.  Skouras\, who would be the highest paid man in America in 1946\, and Fox West Coast did many upgrades\, including adding an extended marquee over the entrance\, an improved sound system and ornate features over the restrooms and snack areas. \nThe theatre operated for many years as a Fox West Coast/National General operation\, although in the mid 1960s it became well-known for running art and international films during the week and recent-release Hollywood films on weekends.  Fox/National General was taken over by Mann Theatres in 1973\, which began selling off single screen theaters soon after that.  In 1975\, the Bay was sold to Richard Loderhouse\, who purchased it to feature his Wurlitzer Opus pipe organ.  Loderhouse continued the Bay’s eclectic booking policy over the next 30 years.  In 2007\, with Loderhouse’s health failing\, his family sold the organ to a church-based retirement community in Arizona.  Loderhose died a year later and the Bay failed to attract a buyer for years until Paul Dunlap stepped in to purchase the property in 2015. \nAfter years of planning\, plan checks and lots of proverbial red tape\, Dunlap hopes to have the theatre open by Christmas.  He reportedly has only one item left to install to meet fire department sign on.  Once that piece is delivered he thinks it will be open within a week.  . \n   
URL:https://sbhrf.net/event/today-in-history-bay-theater-opens-as-beach-theatre/
LOCATION:CA
CATEGORIES:Historical Event,Seal Beach,Seal Beach History
ATTACH;FMTTYPE=image/webp:https://sbhrf.net/wp-content/uploads/2024/11/1946-03-26-through-28-sb-beach-theatre.webp
END:VEVENT
BEGIN:VEVENT
DTSTART;TZID=America/Los_Angeles:20241120T120000
DTEND;TZID=America/Los_Angeles:20241120T140000
DTSTAMP:20260419T192419
CREATED:20241112T141935Z
LAST-MODIFIED:20241112T141935Z
UID:10001146-1732104000-1732111200@sbhrf.net
SUMMARY:Let's Do Lunch! - Finbar's
DESCRIPTION:
URL:https://sbhrf.net/event/lets-do-lunch-finbars/
LOCATION:Finbar’s Italian Kitchen\, 1041 PCH\, Seal Beach\, CA\, CA\, 90740
CATEGORIES:SB Chamber,Seal Beach
ATTACH;FMTTYPE=image/png:https://sbhrf.net/wp-content/uploads/2024/11/2024-1120-Lets-Do-Lunchunnamed.png
END:VEVENT
BEGIN:VEVENT
DTSTART;TZID=America/Los_Angeles:20241120T090000
DTEND;TZID=America/Los_Angeles:20241120T150000
DTSTAMP:20260419T192419
CREATED:20241112T184032Z
LAST-MODIFIED:20241112T184032Z
UID:10001535-1732093200-1732114800@sbhrf.net
SUMMARY:RHA / Red Cross Blood Drive
DESCRIPTION:Through the generosity of volunteer blood donors at Red Cross Blood Drives\, the American Red Cross helps millions of patients in over 2\,600 hospitals across the country each year. Patients receiving treatment for cancer or blood disorders\, those undergoing transplant surgery\, mothers suffering from birthing complications\, and premature babies are all examples of patients who need blood. Chances are you know someone who has needed or currently needs blood. \nIn less than an hour’s time\, you can help save up to three lives with a blood donation. And right here in Rossmoor at our monthly Rossmoor Red Cross Blood Drive at Rush Park. \nRemember: \n\n\n\n\n\nEvery 2 seconds someone in America needs blood\n14\,000 units of blood need to be collected by the Red Cross each day\n\n\n\n\n\nPlease join us in giving the gift of life.  Register here
URL:https://sbhrf.net/event/rha-red-cross-blood-drive/2024-11-20/
LOCATION:Rush Park Auditorium\, 3021 Blume Ave\, Rossmoor\, 90720\, United States
CATEGORIES:Rossmoor
ATTACH;FMTTYPE=image/png:https://sbhrf.net/wp-content/uploads/2024/11/Rossmoor-Red-Cross-Blood-Drive-undated-3-1.png
END:VEVENT
BEGIN:VEVENT
DTSTART;TZID=America/Los_Angeles:20241119T190000
DTEND;TZID=America/Los_Angeles:20241119T213000
DTSTAMP:20260419T192419
CREATED:20240509T184208Z
LAST-MODIFIED:20240509T184327Z
UID:10000832-1732042800-1732051800@sbhrf.net
SUMMARY:Trivia Night @ Marni's
DESCRIPTION:
URL:https://sbhrf.net/event/trivia-night-marnis/2024-11-19/
LOCATION:Marni’s\, 620 Pacific Coast Highway\, Seal Beach\, CA\, 90740
ATTACH;FMTTYPE=image/png:https://sbhrf.net/wp-content/uploads/2024/05/Marnis-Trivia.png
END:VEVENT
BEGIN:VEVENT
DTSTART;TZID=America/Los_Angeles:20241119T190000
DTEND;TZID=America/Los_Angeles:20241119T210000
DTSTAMP:20260419T192419
CREATED:20240415T235559Z
LAST-MODIFIED:20240415T235559Z
UID:10000491-1732042800-1732050000@sbhrf.net
SUMMARY:Bogart's Coffee House - Open Mic Night
DESCRIPTION:
URL:https://sbhrf.net/event/bogarts-coffee-house-open-mic-night/2024-11-19/
LOCATION:Bogart’s Coffee House\, 905 Ocean Ave\, Seal Beach\, CA\, 90740\, United States
CATEGORIES:Music
ATTACH;FMTTYPE=image/png:https://sbhrf.net/wp-content/uploads/2024/04/2024-0502-Bogarts-Open-Mic-1.png
END:VEVENT
BEGIN:VEVENT
DTSTART;TZID=America/Los_Angeles:20241118T180000
DTEND;TZID=America/Los_Angeles:20241118T210000
DTSTAMP:20260419T192419
CREATED:20241113T163121Z
LAST-MODIFIED:20241113T163121Z
UID:10002045-1731952800-1731963600@sbhrf.net
SUMMARY:GOVERNMENT:  Los Alamitos City Council Meeting
DESCRIPTION:
URL:https://sbhrf.net/event/government-los-alamitos-city-council-meeting/2024-11-18/
LOCATION:CA
CATEGORIES:Government,Los Alamitos
ATTACH;FMTTYPE=image/png:https://sbhrf.net/wp-content/uploads/2024/11/Los-Al-City-Council-meeting-generic.png
END:VEVENT
BEGIN:VEVENT
DTSTART;TZID=America/Los_Angeles:20241116T190000
DTEND;TZID=America/Los_Angeles:20241116T210000
DTSTAMP:20260419T192419
CREATED:20241112T151833Z
LAST-MODIFIED:20241112T151921Z
UID:10001521-1731783600-1731790800@sbhrf.net
SUMMARY:LAHS Dance: Terra Volta
DESCRIPTION:
URL:https://sbhrf.net/event/lahs-dance-terra-volta/2024-11-16/
LOCATION:Los Alamitos HS Performing Arts Center\, 3591 Cerritos Ave.\, Los Alamitos\,\, CA\, 90720\, United States
CATEGORIES:Los Alamitos High School,Music
ATTACH;FMTTYPE=image/png:https://sbhrf.net/wp-content/uploads/2024/11/screenshot-lahs-dance_ticketleap_com-2024_11_12-06_29_12.png
END:VEVENT
BEGIN:VEVENT
DTSTART;TZID=America/Los_Angeles:20241116T160000
DTEND;TZID=America/Los_Angeles:20241116T200000
DTSTAMP:20260419T192419
CREATED:20241112T154741Z
LAST-MODIFIED:20241112T155031Z
UID:10001524-1731772800-1731787200@sbhrf.net
SUMMARY:Los Alamitos: Nites on Pine
DESCRIPTION:
URL:https://sbhrf.net/event/los-alamitos-nites-on-pine/
LOCATION:Pine Street\, Los Alamitos\, 10902 Pine St\, Los Alamitos\, CA\, 90720\, United States
CATEGORIES:Los Alamitos
ATTACH;FMTTYPE=image/jpeg:https://sbhrf.net/wp-content/uploads/2024/11/11-16-Nites-on-Pine-1.jpg
END:VEVENT
BEGIN:VEVENT
DTSTART;TZID=America/Los_Angeles:20241115T190000
DTEND;TZID=America/Los_Angeles:20241115T210000
DTSTAMP:20260419T192419
CREATED:20241112T151833Z
LAST-MODIFIED:20241112T151921Z
UID:10001520-1731697200-1731704400@sbhrf.net
SUMMARY:LAHS Dance: Terra Volta
DESCRIPTION:
URL:https://sbhrf.net/event/lahs-dance-terra-volta/2024-11-15/
LOCATION:Los Alamitos HS Performing Arts Center\, 3591 Cerritos Ave.\, Los Alamitos\,\, CA\, 90720\, United States
CATEGORIES:Los Alamitos High School,Music
ATTACH;FMTTYPE=image/png:https://sbhrf.net/wp-content/uploads/2024/11/screenshot-lahs-dance_ticketleap_com-2024_11_12-06_29_12.png
END:VEVENT
BEGIN:VEVENT
DTSTART;TZID=America/Los_Angeles:20241114T190000
DTEND;TZID=America/Los_Angeles:20241114T210000
DTSTAMP:20260419T192419
CREATED:20241112T151833Z
LAST-MODIFIED:20241112T151921Z
UID:10001519-1731610800-1731618000@sbhrf.net
SUMMARY:LAHS Dance: Terra Volta
DESCRIPTION:
URL:https://sbhrf.net/event/lahs-dance-terra-volta/2024-11-14/
LOCATION:Los Alamitos HS Performing Arts Center\, 3591 Cerritos Ave.\, Los Alamitos\,\, CA\, 90720\, United States
CATEGORIES:Los Alamitos High School,Music
ATTACH;FMTTYPE=image/png:https://sbhrf.net/wp-content/uploads/2024/11/screenshot-lahs-dance_ticketleap_com-2024_11_12-06_29_12.png
END:VEVENT
BEGIN:VEVENT
DTSTART;TZID=America/Los_Angeles:20241114T073000
DTEND;TZID=America/Los_Angeles:20241114T090000
DTSTAMP:20260419T192419
CREATED:20241111T203749Z
LAST-MODIFIED:20241111T203749Z
UID:10001144-1731569400-1731574800@sbhrf.net
SUMMARY:SB Chamber Network Breakfast
DESCRIPTION:
URL:https://sbhrf.net/event/sb-chamber-network-breakfast/
LOCATION:CA
CATEGORIES:SB Chamber
ATTACH;FMTTYPE=image/jpeg:https://sbhrf.net/wp-content/uploads/2024/05/2024-1114-SB-Chamber-breakfast-67096e7ff92429d4500c5c82.jpg
END:VEVENT
BEGIN:VEVENT
DTSTART;TZID=America/Los_Angeles:20241112T190000
DTEND;TZID=America/Los_Angeles:20241112T213000
DTSTAMP:20260419T192419
CREATED:20240509T184208Z
LAST-MODIFIED:20240509T184327Z
UID:10000831-1731438000-1731447000@sbhrf.net
SUMMARY:Trivia Night @ Marni's
DESCRIPTION:
URL:https://sbhrf.net/event/trivia-night-marnis/2024-11-12/
LOCATION:Marni’s\, 620 Pacific Coast Highway\, Seal Beach\, CA\, 90740
ATTACH;FMTTYPE=image/png:https://sbhrf.net/wp-content/uploads/2024/05/Marnis-Trivia.png
END:VEVENT
BEGIN:VEVENT
DTSTART;TZID=America/Los_Angeles:20241112T190000
DTEND;TZID=America/Los_Angeles:20241112T210000
DTSTAMP:20260419T192419
CREATED:20240415T235559Z
LAST-MODIFIED:20240415T235559Z
UID:10000490-1731438000-1731445200@sbhrf.net
SUMMARY:Bogart's Coffee House - Open Mic Night
DESCRIPTION:
URL:https://sbhrf.net/event/bogarts-coffee-house-open-mic-night/2024-11-12/
LOCATION:Bogart’s Coffee House\, 905 Ocean Ave\, Seal Beach\, CA\, 90740\, United States
CATEGORIES:Music
ATTACH;FMTTYPE=image/png:https://sbhrf.net/wp-content/uploads/2024/04/2024-0502-Bogarts-Open-Mic-1.png
END:VEVENT
BEGIN:VEVENT
DTSTART;TZID=America/Los_Angeles:20241111T080000
DTEND;TZID=America/Los_Angeles:20241111T170000
DTSTAMP:20260419T192419
CREATED:20241111T193344Z
LAST-MODIFIED:20241111T193344Z
UID:10001143-1731312000-1731344400@sbhrf.net
SUMMARY:Popups at the Pier
DESCRIPTION:The perfect place for retailers without a brick and mortar site. \n$75 a booth for non-members. \nEmail info@sealbeachchamber.org for more information.
URL:https://sbhrf.net/event/popups-at-the-pier/
LOCATION:CA
CATEGORIES:SB Chamber
ATTACH;FMTTYPE=image/png:https://sbhrf.net/wp-content/uploads/2024/11/2024-1207-Popups-at-Pier-event.png
END:VEVENT
BEGIN:VEVENT
DTSTART;TZID=America/Los_Angeles:20241105T190000
DTEND;TZID=America/Los_Angeles:20241105T213000
DTSTAMP:20260419T192419
CREATED:20240509T184208Z
LAST-MODIFIED:20240509T184327Z
UID:10000830-1730833200-1730842200@sbhrf.net
SUMMARY:Trivia Night @ Marni's
DESCRIPTION:
URL:https://sbhrf.net/event/trivia-night-marnis/2024-11-05/
LOCATION:Marni’s\, 620 Pacific Coast Highway\, Seal Beach\, CA\, 90740
ATTACH;FMTTYPE=image/png:https://sbhrf.net/wp-content/uploads/2024/05/Marnis-Trivia.png
END:VEVENT
BEGIN:VEVENT
DTSTART;TZID=America/Los_Angeles:20241105T190000
DTEND;TZID=America/Los_Angeles:20241105T210000
DTSTAMP:20260419T192419
CREATED:20240415T235559Z
LAST-MODIFIED:20240415T235559Z
UID:10000489-1730833200-1730840400@sbhrf.net
SUMMARY:Bogart's Coffee House - Open Mic Night
DESCRIPTION:
URL:https://sbhrf.net/event/bogarts-coffee-house-open-mic-night/2024-11-05/
LOCATION:Bogart’s Coffee House\, 905 Ocean Ave\, Seal Beach\, CA\, 90740\, United States
CATEGORIES:Music
ATTACH;FMTTYPE=image/png:https://sbhrf.net/wp-content/uploads/2024/04/2024-0502-Bogarts-Open-Mic-1.png
END:VEVENT
BEGIN:VEVENT
DTSTART;TZID=America/Los_Angeles:20241029T190000
DTEND;TZID=America/Los_Angeles:20241029T213000
DTSTAMP:20260419T192419
CREATED:20240509T184208Z
LAST-MODIFIED:20240509T184327Z
UID:10000829-1730228400-1730237400@sbhrf.net
SUMMARY:Trivia Night @ Marni's
DESCRIPTION:
URL:https://sbhrf.net/event/trivia-night-marnis/2024-10-29/
LOCATION:Marni’s\, 620 Pacific Coast Highway\, Seal Beach\, CA\, 90740
ATTACH;FMTTYPE=image/png:https://sbhrf.net/wp-content/uploads/2024/05/Marnis-Trivia.png
END:VEVENT
BEGIN:VEVENT
DTSTART;TZID=America/Los_Angeles:20241029T190000
DTEND;TZID=America/Los_Angeles:20241029T210000
DTSTAMP:20260419T192419
CREATED:20240415T235559Z
LAST-MODIFIED:20240415T235559Z
UID:10000488-1730228400-1730235600@sbhrf.net
SUMMARY:Bogart's Coffee House - Open Mic Night
DESCRIPTION:
URL:https://sbhrf.net/event/bogarts-coffee-house-open-mic-night/2024-10-29/
LOCATION:Bogart’s Coffee House\, 905 Ocean Ave\, Seal Beach\, CA\, 90740\, United States
CATEGORIES:Music
ATTACH;FMTTYPE=image/png:https://sbhrf.net/wp-content/uploads/2024/04/2024-0502-Bogarts-Open-Mic-1.png
END:VEVENT
BEGIN:VEVENT
DTSTART;TZID=America/Los_Angeles:20241022T190000
DTEND;TZID=America/Los_Angeles:20241022T213000
DTSTAMP:20260419T192419
CREATED:20240509T184208Z
LAST-MODIFIED:20240509T184327Z
UID:10000828-1729623600-1729632600@sbhrf.net
SUMMARY:Trivia Night @ Marni's
DESCRIPTION:
URL:https://sbhrf.net/event/trivia-night-marnis/2024-10-22/
LOCATION:Marni’s\, 620 Pacific Coast Highway\, Seal Beach\, CA\, 90740
ATTACH;FMTTYPE=image/png:https://sbhrf.net/wp-content/uploads/2024/05/Marnis-Trivia.png
END:VEVENT
BEGIN:VEVENT
DTSTART;TZID=America/Los_Angeles:20241022T190000
DTEND;TZID=America/Los_Angeles:20241022T210000
DTSTAMP:20260419T192419
CREATED:20240415T235559Z
LAST-MODIFIED:20240415T235559Z
UID:10000487-1729623600-1729630800@sbhrf.net
SUMMARY:Bogart's Coffee House - Open Mic Night
DESCRIPTION:
URL:https://sbhrf.net/event/bogarts-coffee-house-open-mic-night/2024-10-22/
LOCATION:Bogart’s Coffee House\, 905 Ocean Ave\, Seal Beach\, CA\, 90740\, United States
CATEGORIES:Music
ATTACH;FMTTYPE=image/png:https://sbhrf.net/wp-content/uploads/2024/04/2024-0502-Bogarts-Open-Mic-1.png
END:VEVENT
BEGIN:VEVENT
DTSTART;TZID=America/Los_Angeles:20241015T190000
DTEND;TZID=America/Los_Angeles:20241015T213000
DTSTAMP:20260419T192419
CREATED:20240509T184208Z
LAST-MODIFIED:20240509T184327Z
UID:10000827-1729018800-1729027800@sbhrf.net
SUMMARY:Trivia Night @ Marni's
DESCRIPTION:
URL:https://sbhrf.net/event/trivia-night-marnis/2024-10-15/
LOCATION:Marni’s\, 620 Pacific Coast Highway\, Seal Beach\, CA\, 90740
ATTACH;FMTTYPE=image/png:https://sbhrf.net/wp-content/uploads/2024/05/Marnis-Trivia.png
END:VEVENT
BEGIN:VEVENT
DTSTART;TZID=America/Los_Angeles:20241015T190000
DTEND;TZID=America/Los_Angeles:20241015T210000
DTSTAMP:20260419T192419
CREATED:20240415T235559Z
LAST-MODIFIED:20240415T235559Z
UID:10000486-1729018800-1729026000@sbhrf.net
SUMMARY:Bogart's Coffee House - Open Mic Night
DESCRIPTION:
URL:https://sbhrf.net/event/bogarts-coffee-house-open-mic-night/2024-10-15/
LOCATION:Bogart’s Coffee House\, 905 Ocean Ave\, Seal Beach\, CA\, 90740\, United States
CATEGORIES:Music
ATTACH;FMTTYPE=image/png:https://sbhrf.net/wp-content/uploads/2024/04/2024-0502-Bogarts-Open-Mic-1.png
END:VEVENT
BEGIN:VEVENT
DTSTART;TZID=America/Los_Angeles:20241008T190000
DTEND;TZID=America/Los_Angeles:20241008T213000
DTSTAMP:20260419T192419
CREATED:20240509T184208Z
LAST-MODIFIED:20240509T184327Z
UID:10000826-1728414000-1728423000@sbhrf.net
SUMMARY:Trivia Night @ Marni's
DESCRIPTION:
URL:https://sbhrf.net/event/trivia-night-marnis/2024-10-08/
LOCATION:Marni’s\, 620 Pacific Coast Highway\, Seal Beach\, CA\, 90740
ATTACH;FMTTYPE=image/png:https://sbhrf.net/wp-content/uploads/2024/05/Marnis-Trivia.png
END:VEVENT
BEGIN:VEVENT
DTSTART;TZID=America/Los_Angeles:20241008T190000
DTEND;TZID=America/Los_Angeles:20241008T210000
DTSTAMP:20260419T192419
CREATED:20240415T235559Z
LAST-MODIFIED:20240415T235559Z
UID:10000485-1728414000-1728421200@sbhrf.net
SUMMARY:Bogart's Coffee House - Open Mic Night
DESCRIPTION:
URL:https://sbhrf.net/event/bogarts-coffee-house-open-mic-night/2024-10-08/
LOCATION:Bogart’s Coffee House\, 905 Ocean Ave\, Seal Beach\, CA\, 90740\, United States
CATEGORIES:Music
ATTACH;FMTTYPE=image/png:https://sbhrf.net/wp-content/uploads/2024/04/2024-0502-Bogarts-Open-Mic-1.png
END:VEVENT
BEGIN:VEVENT
DTSTART;TZID=America/Los_Angeles:20241001T190000
DTEND;TZID=America/Los_Angeles:20241001T213000
DTSTAMP:20260419T192419
CREATED:20240509T184208Z
LAST-MODIFIED:20240509T184327Z
UID:10000825-1727809200-1727818200@sbhrf.net
SUMMARY:Trivia Night @ Marni's
DESCRIPTION:
URL:https://sbhrf.net/event/trivia-night-marnis/2024-10-01/
LOCATION:Marni’s\, 620 Pacific Coast Highway\, Seal Beach\, CA\, 90740
ATTACH;FMTTYPE=image/png:https://sbhrf.net/wp-content/uploads/2024/05/Marnis-Trivia.png
END:VEVENT
BEGIN:VEVENT
DTSTART;TZID=America/Los_Angeles:20241001T190000
DTEND;TZID=America/Los_Angeles:20241001T210000
DTSTAMP:20260419T192419
CREATED:20240415T235559Z
LAST-MODIFIED:20240415T235559Z
UID:10000484-1727809200-1727816400@sbhrf.net
SUMMARY:Bogart's Coffee House - Open Mic Night
DESCRIPTION:
URL:https://sbhrf.net/event/bogarts-coffee-house-open-mic-night/2024-10-01/
LOCATION:Bogart’s Coffee House\, 905 Ocean Ave\, Seal Beach\, CA\, 90740\, United States
CATEGORIES:Music
ATTACH;FMTTYPE=image/png:https://sbhrf.net/wp-content/uploads/2024/04/2024-0502-Bogarts-Open-Mic-1.png
END:VEVENT
BEGIN:VEVENT
DTSTART;TZID=America/Los_Angeles:20240924T190000
DTEND;TZID=America/Los_Angeles:20240924T213000
DTSTAMP:20260419T192419
CREATED:20240509T184208Z
LAST-MODIFIED:20240509T184327Z
UID:10000824-1727204400-1727213400@sbhrf.net
SUMMARY:Trivia Night @ Marni's
DESCRIPTION:
URL:https://sbhrf.net/event/trivia-night-marnis/2024-09-24/
LOCATION:Marni’s\, 620 Pacific Coast Highway\, Seal Beach\, CA\, 90740
ATTACH;FMTTYPE=image/png:https://sbhrf.net/wp-content/uploads/2024/05/Marnis-Trivia.png
END:VEVENT
BEGIN:VEVENT
DTSTART;TZID=America/Los_Angeles:20240924T190000
DTEND;TZID=America/Los_Angeles:20240924T210000
DTSTAMP:20260419T192419
CREATED:20240415T235559Z
LAST-MODIFIED:20240415T235559Z
UID:10000483-1727204400-1727211600@sbhrf.net
SUMMARY:Bogart's Coffee House - Open Mic Night
DESCRIPTION:
URL:https://sbhrf.net/event/bogarts-coffee-house-open-mic-night/2024-09-24/
LOCATION:Bogart’s Coffee House\, 905 Ocean Ave\, Seal Beach\, CA\, 90740\, United States
CATEGORIES:Music
ATTACH;FMTTYPE=image/png:https://sbhrf.net/wp-content/uploads/2024/04/2024-0502-Bogarts-Open-Mic-1.png
END:VEVENT
BEGIN:VEVENT
DTSTART;TZID=America/Los_Angeles:20240917T190000
DTEND;TZID=America/Los_Angeles:20240917T213000
DTSTAMP:20260419T192419
CREATED:20240509T184208Z
LAST-MODIFIED:20240509T184327Z
UID:10000823-1726599600-1726608600@sbhrf.net
SUMMARY:Trivia Night @ Marni's
DESCRIPTION:
URL:https://sbhrf.net/event/trivia-night-marnis/2024-09-17/
LOCATION:Marni’s\, 620 Pacific Coast Highway\, Seal Beach\, CA\, 90740
ATTACH;FMTTYPE=image/png:https://sbhrf.net/wp-content/uploads/2024/05/Marnis-Trivia.png
END:VEVENT
END:VCALENDAR