BEGIN:VCALENDAR
VERSION:2.0
PRODID:-//Seal Beach Historic Resources Foundation - ECPv6.15.20//NONSGML v1.0//EN
CALSCALE:GREGORIAN
METHOD:PUBLISH
X-ORIGINAL-URL:https://sbhrf.net
X-WR-CALDESC:Events for Seal Beach Historic Resources Foundation
REFRESH-INTERVAL;VALUE=DURATION:PT1H
X-Robots-Tag:noindex
X-PUBLISHED-TTL:PT1H
BEGIN:VTIMEZONE
TZID:America/Los_Angeles
BEGIN:DAYLIGHT
TZOFFSETFROM:-0800
TZOFFSETTO:-0700
TZNAME:PDT
DTSTART:20280312T100000
END:DAYLIGHT
BEGIN:STANDARD
TZOFFSETFROM:-0700
TZOFFSETTO:-0800
TZNAME:PST
DTSTART:20281105T090000
END:STANDARD
BEGIN:DAYLIGHT
TZOFFSETFROM:-0800
TZOFFSETTO:-0700
TZNAME:PDT
DTSTART:20290311T100000
END:DAYLIGHT
BEGIN:STANDARD
TZOFFSETFROM:-0700
TZOFFSETTO:-0800
TZNAME:PST
DTSTART:20291104T090000
END:STANDARD
BEGIN:DAYLIGHT
TZOFFSETFROM:-0800
TZOFFSETTO:-0700
TZNAME:PDT
DTSTART:20300310T100000
END:DAYLIGHT
BEGIN:STANDARD
TZOFFSETFROM:-0700
TZOFFSETTO:-0800
TZNAME:PST
DTSTART:20301103T090000
END:STANDARD
END:VTIMEZONE
BEGIN:VEVENT
DTSTART;TZID=America/Los_Angeles:20290701T180000
DTEND;TZID=America/Los_Angeles:20290701T200000
DTSTAMP:20260421T152304
CREATED:20241122T145107Z
LAST-MODIFIED:20241122T151410Z
UID:10002773-1877623200-1877630400@sbhrf.net
SUMMARY:American Legion Hall:  Open Mic Night
DESCRIPTION:Calling all music lovers!\nWhether you’re an aspiring musician or just want to join some great tunes\, come join our open jam sessions.  Bring your instrument and play a few songs. \nMicrophones and speakers will be provided\, so just bring your talent and energy! \nStarting Nov. 3.  Every Sunday!
URL:https://sbhrf.net/event/american-legion-hall-open-mic-night/2029-07-01/
LOCATION:American Legion Post 716\, 3252 Florista Street\, Los Angeles\, CA\, 90720\, United States
CATEGORIES:Music,Nonprofits
ATTACH;FMTTYPE=image/png:https://sbhrf.net/wp-content/uploads/2024/11/AmLegion-Open-Mic.png
ORGANIZER;CN="American Legion Post 716":MAILTO:info@losalamitospost716.org
END:VEVENT
BEGIN:VEVENT
DTSTART;TZID=America/Los_Angeles:20290707T200000
DTEND;TZID=America/Los_Angeles:20290707T230000
DTSTAMP:20260421T152304
CREATED:20241122T152128Z
LAST-MODIFIED:20241122T152128Z
UID:10003036-1878148800-1878159600@sbhrf.net
SUMMARY:GRIFFINS GRILL:  Saturday Night Live
DESCRIPTION:
URL:https://sbhrf.net/event/griffins-grill-saturday-night-live/2029-07-07/
LOCATION:Griffins Grill\, 11272 Los Alamitos Blvd.\, Los Alamitos\, CA\, 90740\, United States
CATEGORIES:Los Alamitos,Music
END:VEVENT
BEGIN:VEVENT
DTSTART;TZID=America/Los_Angeles:20290708T180000
DTEND;TZID=America/Los_Angeles:20290708T200000
DTSTAMP:20260421T152304
CREATED:20241122T145107Z
LAST-MODIFIED:20241122T151410Z
UID:10002774-1878228000-1878235200@sbhrf.net
SUMMARY:American Legion Hall:  Open Mic Night
DESCRIPTION:Calling all music lovers!\nWhether you’re an aspiring musician or just want to join some great tunes\, come join our open jam sessions.  Bring your instrument and play a few songs. \nMicrophones and speakers will be provided\, so just bring your talent and energy! \nStarting Nov. 3.  Every Sunday!
URL:https://sbhrf.net/event/american-legion-hall-open-mic-night/2029-07-08/
LOCATION:American Legion Post 716\, 3252 Florista Street\, Los Angeles\, CA\, 90720\, United States
CATEGORIES:Music,Nonprofits
ATTACH;FMTTYPE=image/png:https://sbhrf.net/wp-content/uploads/2024/11/AmLegion-Open-Mic.png
ORGANIZER;CN="American Legion Post 716":MAILTO:info@losalamitospost716.org
END:VEVENT
BEGIN:VEVENT
DTSTART;TZID=America/Los_Angeles:20290709T180000
DTEND;TZID=America/Los_Angeles:20290709T210000
DTSTAMP:20260421T152304
CREATED:20241113T160828Z
LAST-MODIFIED:20241113T162103Z
UID:10001921-1878314400-1878325200@sbhrf.net
SUMMARY:Seal Beach City Council Meeting
DESCRIPTION:City Council and Planning Commission meetings can be viewed on SBTV-3 and on the City’s YouTube Channel. A recording of the meeting will be posted online within 24 hours of adjournment.
URL:https://sbhrf.net/event/seal-beach-city-council-meeting/2029-07-09/
CATEGORIES:Government,Seal Beach
ATTACH;FMTTYPE=image/png:https://sbhrf.net/wp-content/uploads/2024/11/SB-City-Council-meeting-generic.png
END:VEVENT
BEGIN:VEVENT
DTSTART;TZID=America/Los_Angeles:20290714T200000
DTEND;TZID=America/Los_Angeles:20290714T230000
DTSTAMP:20260421T152304
CREATED:20241122T152128Z
LAST-MODIFIED:20241122T152128Z
UID:10003037-1878753600-1878764400@sbhrf.net
SUMMARY:GRIFFINS GRILL:  Saturday Night Live
DESCRIPTION:
URL:https://sbhrf.net/event/griffins-grill-saturday-night-live/2029-07-14/
LOCATION:Griffins Grill\, 11272 Los Alamitos Blvd.\, Los Alamitos\, CA\, 90740\, United States
CATEGORIES:Los Alamitos,Music
END:VEVENT
BEGIN:VEVENT
DTSTART;TZID=America/Los_Angeles:20290715T180000
DTEND;TZID=America/Los_Angeles:20290715T200000
DTSTAMP:20260421T152304
CREATED:20241122T145107Z
LAST-MODIFIED:20241122T151410Z
UID:10002775-1878832800-1878840000@sbhrf.net
SUMMARY:American Legion Hall:  Open Mic Night
DESCRIPTION:Calling all music lovers!\nWhether you’re an aspiring musician or just want to join some great tunes\, come join our open jam sessions.  Bring your instrument and play a few songs. \nMicrophones and speakers will be provided\, so just bring your talent and energy! \nStarting Nov. 3.  Every Sunday!
URL:https://sbhrf.net/event/american-legion-hall-open-mic-night/2029-07-15/
LOCATION:American Legion Post 716\, 3252 Florista Street\, Los Angeles\, CA\, 90720\, United States
CATEGORIES:Music,Nonprofits
ATTACH;FMTTYPE=image/png:https://sbhrf.net/wp-content/uploads/2024/11/AmLegion-Open-Mic.png
ORGANIZER;CN="American Legion Post 716":MAILTO:info@losalamitospost716.org
END:VEVENT
BEGIN:VEVENT
DTSTART;TZID=America/Los_Angeles:20290716T180000
DTEND;TZID=America/Los_Angeles:20290716T210000
DTSTAMP:20260421T152304
CREATED:20241113T163121Z
LAST-MODIFIED:20241113T163121Z
UID:10002101-1878919200-1878930000@sbhrf.net
SUMMARY:GOVERNMENT:  Los Alamitos City Council Meeting
DESCRIPTION:
URL:https://sbhrf.net/event/government-los-alamitos-city-council-meeting/2029-07-16/
CATEGORIES:Government,Los Alamitos
ATTACH;FMTTYPE=image/png:https://sbhrf.net/wp-content/uploads/2024/11/Los-Al-City-Council-meeting-generic.png
END:VEVENT
BEGIN:VEVENT
DTSTART;TZID=America/Los_Angeles:20290718T090000
DTEND;TZID=America/Los_Angeles:20290718T150000
DTSTAMP:20260421T152304
CREATED:20241112T184032Z
LAST-MODIFIED:20241112T184032Z
UID:10001591-1879059600-1879081200@sbhrf.net
SUMMARY:RHA / Red Cross Blood Drive
DESCRIPTION:Through the generosity of volunteer blood donors at Red Cross Blood Drives\, the American Red Cross helps millions of patients in over 2\,600 hospitals across the country each year. Patients receiving treatment for cancer or blood disorders\, those undergoing transplant surgery\, mothers suffering from birthing complications\, and premature babies are all examples of patients who need blood. Chances are you know someone who has needed or currently needs blood. \nIn less than an hour’s time\, you can help save up to three lives with a blood donation. And right here in Rossmoor at our monthly Rossmoor Red Cross Blood Drive at Rush Park. \nRemember: \n\n\n\n\n\nEvery 2 seconds someone in America needs blood\n14\,000 units of blood need to be collected by the Red Cross each day\n\n\n\n\n\nPlease join us in giving the gift of life.  Register here
URL:https://sbhrf.net/event/rha-red-cross-blood-drive/2029-07-18/
LOCATION:Rush Park Auditorium\, 3021 Blume Ave\, Rossmoor\, 90720\, United States
CATEGORIES:Rossmoor
ATTACH;FMTTYPE=image/png:https://sbhrf.net/wp-content/uploads/2024/11/Rossmoor-Red-Cross-Blood-Drive-undated-3-1.png
END:VEVENT
BEGIN:VEVENT
DTSTART;TZID=America/Los_Angeles:20290721T200000
DTEND;TZID=America/Los_Angeles:20290721T230000
DTSTAMP:20260421T152304
CREATED:20241122T152128Z
LAST-MODIFIED:20241122T152128Z
UID:10003038-1879358400-1879369200@sbhrf.net
SUMMARY:GRIFFINS GRILL:  Saturday Night Live
DESCRIPTION:
URL:https://sbhrf.net/event/griffins-grill-saturday-night-live/2029-07-21/
LOCATION:Griffins Grill\, 11272 Los Alamitos Blvd.\, Los Alamitos\, CA\, 90740\, United States
CATEGORIES:Los Alamitos,Music
END:VEVENT
BEGIN:VEVENT
DTSTART;TZID=America/Los_Angeles:20290722T180000
DTEND;TZID=America/Los_Angeles:20290722T200000
DTSTAMP:20260421T152304
CREATED:20241122T145107Z
LAST-MODIFIED:20241122T151410Z
UID:10002776-1879437600-1879444800@sbhrf.net
SUMMARY:American Legion Hall:  Open Mic Night
DESCRIPTION:Calling all music lovers!\nWhether you’re an aspiring musician or just want to join some great tunes\, come join our open jam sessions.  Bring your instrument and play a few songs. \nMicrophones and speakers will be provided\, so just bring your talent and energy! \nStarting Nov. 3.  Every Sunday!
URL:https://sbhrf.net/event/american-legion-hall-open-mic-night/2029-07-22/
LOCATION:American Legion Post 716\, 3252 Florista Street\, Los Angeles\, CA\, 90720\, United States
CATEGORIES:Music,Nonprofits
ATTACH;FMTTYPE=image/png:https://sbhrf.net/wp-content/uploads/2024/11/AmLegion-Open-Mic.png
ORGANIZER;CN="American Legion Post 716":MAILTO:info@losalamitospost716.org
END:VEVENT
BEGIN:VEVENT
DTSTART;TZID=America/Los_Angeles:20290723T180000
DTEND;TZID=America/Los_Angeles:20290723T210000
DTSTAMP:20260421T152304
CREATED:20241113T161442Z
LAST-MODIFIED:20241113T162246Z
UID:10002041-1879524000-1879534800@sbhrf.net
SUMMARY:Seal Beach City Council Meeting
DESCRIPTION:City Council and Planning Commission meetings can be viewed on SBTV-3 and on the City’s YouTube Channel. A recording of the meeting will be posted online within 24 hours of adjournment.
URL:https://sbhrf.net/event/seal-beach-city-council-meeting-2/2029-07-23/
CATEGORIES:Government,Seal Beach
ATTACH;FMTTYPE=image/png:https://sbhrf.net/wp-content/uploads/2024/11/SB-City-Council-meeting-generic.png
END:VEVENT
BEGIN:VEVENT
DTSTART;TZID=America/Los_Angeles:20290727T180000
DTEND;TZID=America/Los_Angeles:20290727T193000
DTSTAMP:20260421T152304
CREATED:20260319T225422Z
LAST-MODIFIED:20260319T225604Z
UID:10003190-1879869600-1879875000@sbhrf.net
SUMMARY:Steak Night at the American Legion
DESCRIPTION:Friday\, March 27th \nSteak Night at the American Legion! \n6-7:30 pm\n$22
URL:https://sbhrf.net/event/steak-night-at-the-american-legion/2029-07-27/
LOCATION:American Legion Post 716\, 3252 Florista Street\, Los Angeles\, CA\, 90720\, United States
CATEGORIES:Nonprofits
ATTACH;FMTTYPE=image/jpeg:https://ci3.googleusercontent.com/meips/ADKq_NbLZ9pkMbIpqPUas-9oVhzScQQc1901GTYr5VwtP9LrLRw8ipsmkji7UuLgeUHPMET6R9OEDrRfsW4Mo9FxuZ0XtnQKF02DVsNDYiB6W3fQ7xq-SdgVmAHgfgw9rl54T3gqyoCftKCdpndjTFM7z0_0LQ-Bx30Te8D4HUFEH5E=s0-d-e1-ft#https://mcusercontent.com/26736b74912e9c9f2ba46f742/_compresseds/cd55f229-0508-da0b-cefc-257d74fdcf30.jpg
ORGANIZER;CN="American Legion Post 716":MAILTO:info@losalamitospost716.org
END:VEVENT
BEGIN:VEVENT
DTSTART;TZID=America/Los_Angeles:20290728T200000
DTEND;TZID=America/Los_Angeles:20290728T230000
DTSTAMP:20260421T152304
CREATED:20241122T152128Z
LAST-MODIFIED:20241122T152128Z
UID:10003039-1879963200-1879974000@sbhrf.net
SUMMARY:GRIFFINS GRILL:  Saturday Night Live
DESCRIPTION:
URL:https://sbhrf.net/event/griffins-grill-saturday-night-live/2029-07-28/
LOCATION:Griffins Grill\, 11272 Los Alamitos Blvd.\, Los Alamitos\, CA\, 90740\, United States
CATEGORIES:Los Alamitos,Music
END:VEVENT
BEGIN:VEVENT
DTSTART;TZID=America/Los_Angeles:20290729T180000
DTEND;TZID=America/Los_Angeles:20290729T200000
DTSTAMP:20260421T152304
CREATED:20241122T145107Z
LAST-MODIFIED:20241122T151410Z
UID:10002777-1880042400-1880049600@sbhrf.net
SUMMARY:American Legion Hall:  Open Mic Night
DESCRIPTION:Calling all music lovers!\nWhether you’re an aspiring musician or just want to join some great tunes\, come join our open jam sessions.  Bring your instrument and play a few songs. \nMicrophones and speakers will be provided\, so just bring your talent and energy! \nStarting Nov. 3.  Every Sunday!
URL:https://sbhrf.net/event/american-legion-hall-open-mic-night/2029-07-29/
LOCATION:American Legion Post 716\, 3252 Florista Street\, Los Angeles\, CA\, 90720\, United States
CATEGORIES:Music,Nonprofits
ATTACH;FMTTYPE=image/png:https://sbhrf.net/wp-content/uploads/2024/11/AmLegion-Open-Mic.png
ORGANIZER;CN="American Legion Post 716":MAILTO:info@losalamitospost716.org
END:VEVENT
BEGIN:VEVENT
DTSTART;TZID=America/Los_Angeles:20290804T200000
DTEND;TZID=America/Los_Angeles:20290804T230000
DTSTAMP:20260421T152304
CREATED:20241122T152128Z
LAST-MODIFIED:20241122T152128Z
UID:10003040-1880568000-1880578800@sbhrf.net
SUMMARY:GRIFFINS GRILL:  Saturday Night Live
DESCRIPTION:
URL:https://sbhrf.net/event/griffins-grill-saturday-night-live/2029-08-04/
LOCATION:Griffins Grill\, 11272 Los Alamitos Blvd.\, Los Alamitos\, CA\, 90740\, United States
CATEGORIES:Los Alamitos,Music
END:VEVENT
BEGIN:VEVENT
DTSTART;TZID=America/Los_Angeles:20290805T180000
DTEND;TZID=America/Los_Angeles:20290805T200000
DTSTAMP:20260421T152304
CREATED:20241122T145107Z
LAST-MODIFIED:20241122T151410Z
UID:10002778-1880647200-1880654400@sbhrf.net
SUMMARY:American Legion Hall:  Open Mic Night
DESCRIPTION:Calling all music lovers!\nWhether you’re an aspiring musician or just want to join some great tunes\, come join our open jam sessions.  Bring your instrument and play a few songs. \nMicrophones and speakers will be provided\, so just bring your talent and energy! \nStarting Nov. 3.  Every Sunday!
URL:https://sbhrf.net/event/american-legion-hall-open-mic-night/2029-08-05/
LOCATION:American Legion Post 716\, 3252 Florista Street\, Los Angeles\, CA\, 90720\, United States
CATEGORIES:Music,Nonprofits
ATTACH;FMTTYPE=image/png:https://sbhrf.net/wp-content/uploads/2024/11/AmLegion-Open-Mic.png
ORGANIZER;CN="American Legion Post 716":MAILTO:info@losalamitospost716.org
END:VEVENT
BEGIN:VEVENT
DTSTART;TZID=America/Los_Angeles:20290811T200000
DTEND;TZID=America/Los_Angeles:20290811T230000
DTSTAMP:20260421T152304
CREATED:20241122T152128Z
LAST-MODIFIED:20241122T152128Z
UID:10003041-1881172800-1881183600@sbhrf.net
SUMMARY:GRIFFINS GRILL:  Saturday Night Live
DESCRIPTION:
URL:https://sbhrf.net/event/griffins-grill-saturday-night-live/2029-08-11/
LOCATION:Griffins Grill\, 11272 Los Alamitos Blvd.\, Los Alamitos\, CA\, 90740\, United States
CATEGORIES:Los Alamitos,Music
END:VEVENT
BEGIN:VEVENT
DTSTART;TZID=America/Los_Angeles:20290812T180000
DTEND;TZID=America/Los_Angeles:20290812T200000
DTSTAMP:20260421T152304
CREATED:20241122T145107Z
LAST-MODIFIED:20241122T151410Z
UID:10002779-1881252000-1881259200@sbhrf.net
SUMMARY:American Legion Hall:  Open Mic Night
DESCRIPTION:Calling all music lovers!\nWhether you’re an aspiring musician or just want to join some great tunes\, come join our open jam sessions.  Bring your instrument and play a few songs. \nMicrophones and speakers will be provided\, so just bring your talent and energy! \nStarting Nov. 3.  Every Sunday!
URL:https://sbhrf.net/event/american-legion-hall-open-mic-night/2029-08-12/
LOCATION:American Legion Post 716\, 3252 Florista Street\, Los Angeles\, CA\, 90720\, United States
CATEGORIES:Music,Nonprofits
ATTACH;FMTTYPE=image/png:https://sbhrf.net/wp-content/uploads/2024/11/AmLegion-Open-Mic.png
ORGANIZER;CN="American Legion Post 716":MAILTO:info@losalamitospost716.org
END:VEVENT
BEGIN:VEVENT
DTSTART;TZID=America/Los_Angeles:20290813T180000
DTEND;TZID=America/Los_Angeles:20290813T210000
DTSTAMP:20260421T152304
CREATED:20241113T160828Z
LAST-MODIFIED:20241113T162103Z
UID:10001922-1881338400-1881349200@sbhrf.net
SUMMARY:Seal Beach City Council Meeting
DESCRIPTION:City Council and Planning Commission meetings can be viewed on SBTV-3 and on the City’s YouTube Channel. A recording of the meeting will be posted online within 24 hours of adjournment.
URL:https://sbhrf.net/event/seal-beach-city-council-meeting/2029-08-13/
CATEGORIES:Government,Seal Beach
ATTACH;FMTTYPE=image/png:https://sbhrf.net/wp-content/uploads/2024/11/SB-City-Council-meeting-generic.png
END:VEVENT
BEGIN:VEVENT
DTSTART;TZID=America/Los_Angeles:20290815T090000
DTEND;TZID=America/Los_Angeles:20290815T150000
DTSTAMP:20260421T152304
CREATED:20241112T184032Z
LAST-MODIFIED:20241112T184032Z
UID:10001592-1881478800-1881500400@sbhrf.net
SUMMARY:RHA / Red Cross Blood Drive
DESCRIPTION:Through the generosity of volunteer blood donors at Red Cross Blood Drives\, the American Red Cross helps millions of patients in over 2\,600 hospitals across the country each year. Patients receiving treatment for cancer or blood disorders\, those undergoing transplant surgery\, mothers suffering from birthing complications\, and premature babies are all examples of patients who need blood. Chances are you know someone who has needed or currently needs blood. \nIn less than an hour’s time\, you can help save up to three lives with a blood donation. And right here in Rossmoor at our monthly Rossmoor Red Cross Blood Drive at Rush Park. \nRemember: \n\n\n\n\n\nEvery 2 seconds someone in America needs blood\n14\,000 units of blood need to be collected by the Red Cross each day\n\n\n\n\n\nPlease join us in giving the gift of life.  Register here
URL:https://sbhrf.net/event/rha-red-cross-blood-drive/2029-08-15/
LOCATION:Rush Park Auditorium\, 3021 Blume Ave\, Rossmoor\, 90720\, United States
CATEGORIES:Rossmoor
ATTACH;FMTTYPE=image/png:https://sbhrf.net/wp-content/uploads/2024/11/Rossmoor-Red-Cross-Blood-Drive-undated-3-1.png
END:VEVENT
BEGIN:VEVENT
DTSTART;TZID=America/Los_Angeles:20290818T200000
DTEND;TZID=America/Los_Angeles:20290818T230000
DTSTAMP:20260421T152304
CREATED:20241122T152128Z
LAST-MODIFIED:20241122T152128Z
UID:10003042-1881777600-1881788400@sbhrf.net
SUMMARY:GRIFFINS GRILL:  Saturday Night Live
DESCRIPTION:
URL:https://sbhrf.net/event/griffins-grill-saturday-night-live/2029-08-18/
LOCATION:Griffins Grill\, 11272 Los Alamitos Blvd.\, Los Alamitos\, CA\, 90740\, United States
CATEGORIES:Los Alamitos,Music
END:VEVENT
BEGIN:VEVENT
DTSTART;TZID=America/Los_Angeles:20290819T180000
DTEND;TZID=America/Los_Angeles:20290819T200000
DTSTAMP:20260421T152304
CREATED:20241122T145107Z
LAST-MODIFIED:20241122T151410Z
UID:10002780-1881856800-1881864000@sbhrf.net
SUMMARY:American Legion Hall:  Open Mic Night
DESCRIPTION:Calling all music lovers!\nWhether you’re an aspiring musician or just want to join some great tunes\, come join our open jam sessions.  Bring your instrument and play a few songs. \nMicrophones and speakers will be provided\, so just bring your talent and energy! \nStarting Nov. 3.  Every Sunday!
URL:https://sbhrf.net/event/american-legion-hall-open-mic-night/2029-08-19/
LOCATION:American Legion Post 716\, 3252 Florista Street\, Los Angeles\, CA\, 90720\, United States
CATEGORIES:Music,Nonprofits
ATTACH;FMTTYPE=image/png:https://sbhrf.net/wp-content/uploads/2024/11/AmLegion-Open-Mic.png
ORGANIZER;CN="American Legion Post 716":MAILTO:info@losalamitospost716.org
END:VEVENT
BEGIN:VEVENT
DTSTART;TZID=America/Los_Angeles:20290820T180000
DTEND;TZID=America/Los_Angeles:20290820T210000
DTSTAMP:20260421T152304
CREATED:20241113T163121Z
LAST-MODIFIED:20241113T163121Z
UID:10002102-1881943200-1881954000@sbhrf.net
SUMMARY:GOVERNMENT:  Los Alamitos City Council Meeting
DESCRIPTION:
URL:https://sbhrf.net/event/government-los-alamitos-city-council-meeting/2029-08-20/
CATEGORIES:Government,Los Alamitos
ATTACH;FMTTYPE=image/png:https://sbhrf.net/wp-content/uploads/2024/11/Los-Al-City-Council-meeting-generic.png
END:VEVENT
BEGIN:VEVENT
DTSTART;TZID=America/Los_Angeles:20290824T180000
DTEND;TZID=America/Los_Angeles:20290824T193000
DTSTAMP:20260421T152304
CREATED:20260319T225422Z
LAST-MODIFIED:20260319T225604Z
UID:10003191-1882288800-1882294200@sbhrf.net
SUMMARY:Steak Night at the American Legion
DESCRIPTION:Friday\, March 27th \nSteak Night at the American Legion! \n6-7:30 pm\n$22
URL:https://sbhrf.net/event/steak-night-at-the-american-legion/2029-08-24/
LOCATION:American Legion Post 716\, 3252 Florista Street\, Los Angeles\, CA\, 90720\, United States
CATEGORIES:Nonprofits
ATTACH;FMTTYPE=image/jpeg:https://ci3.googleusercontent.com/meips/ADKq_NbLZ9pkMbIpqPUas-9oVhzScQQc1901GTYr5VwtP9LrLRw8ipsmkji7UuLgeUHPMET6R9OEDrRfsW4Mo9FxuZ0XtnQKF02DVsNDYiB6W3fQ7xq-SdgVmAHgfgw9rl54T3gqyoCftKCdpndjTFM7z0_0LQ-Bx30Te8D4HUFEH5E=s0-d-e1-ft#https://mcusercontent.com/26736b74912e9c9f2ba46f742/_compresseds/cd55f229-0508-da0b-cefc-257d74fdcf30.jpg
ORGANIZER;CN="American Legion Post 716":MAILTO:info@losalamitospost716.org
END:VEVENT
BEGIN:VEVENT
DTSTART;TZID=America/Los_Angeles:20290825T200000
DTEND;TZID=America/Los_Angeles:20290825T230000
DTSTAMP:20260421T152304
CREATED:20241122T152128Z
LAST-MODIFIED:20241122T152128Z
UID:10003043-1882382400-1882393200@sbhrf.net
SUMMARY:GRIFFINS GRILL:  Saturday Night Live
DESCRIPTION:
URL:https://sbhrf.net/event/griffins-grill-saturday-night-live/2029-08-25/
LOCATION:Griffins Grill\, 11272 Los Alamitos Blvd.\, Los Alamitos\, CA\, 90740\, United States
CATEGORIES:Los Alamitos,Music
END:VEVENT
BEGIN:VEVENT
DTSTART;TZID=America/Los_Angeles:20290826T180000
DTEND;TZID=America/Los_Angeles:20290826T200000
DTSTAMP:20260421T152304
CREATED:20241122T145107Z
LAST-MODIFIED:20241122T151410Z
UID:10002781-1882461600-1882468800@sbhrf.net
SUMMARY:American Legion Hall:  Open Mic Night
DESCRIPTION:Calling all music lovers!\nWhether you’re an aspiring musician or just want to join some great tunes\, come join our open jam sessions.  Bring your instrument and play a few songs. \nMicrophones and speakers will be provided\, so just bring your talent and energy! \nStarting Nov. 3.  Every Sunday!
URL:https://sbhrf.net/event/american-legion-hall-open-mic-night/2029-08-26/
LOCATION:American Legion Post 716\, 3252 Florista Street\, Los Angeles\, CA\, 90720\, United States
CATEGORIES:Music,Nonprofits
ATTACH;FMTTYPE=image/png:https://sbhrf.net/wp-content/uploads/2024/11/AmLegion-Open-Mic.png
ORGANIZER;CN="American Legion Post 716":MAILTO:info@losalamitospost716.org
END:VEVENT
BEGIN:VEVENT
DTSTART;TZID=America/Los_Angeles:20290827T180000
DTEND;TZID=America/Los_Angeles:20290827T210000
DTSTAMP:20260421T152304
CREATED:20241113T161442Z
LAST-MODIFIED:20241113T162246Z
UID:10002042-1882548000-1882558800@sbhrf.net
SUMMARY:Seal Beach City Council Meeting
DESCRIPTION:City Council and Planning Commission meetings can be viewed on SBTV-3 and on the City’s YouTube Channel. A recording of the meeting will be posted online within 24 hours of adjournment.
URL:https://sbhrf.net/event/seal-beach-city-council-meeting-2/2029-08-27/
CATEGORIES:Government,Seal Beach
ATTACH;FMTTYPE=image/png:https://sbhrf.net/wp-content/uploads/2024/11/SB-City-Council-meeting-generic.png
END:VEVENT
BEGIN:VEVENT
DTSTART;TZID=America/Los_Angeles:20290901T200000
DTEND;TZID=America/Los_Angeles:20290901T230000
DTSTAMP:20260421T152304
CREATED:20241122T152128Z
LAST-MODIFIED:20241122T152128Z
UID:10003044-1882987200-1882998000@sbhrf.net
SUMMARY:GRIFFINS GRILL:  Saturday Night Live
DESCRIPTION:
URL:https://sbhrf.net/event/griffins-grill-saturday-night-live/2029-09-01/
LOCATION:Griffins Grill\, 11272 Los Alamitos Blvd.\, Los Alamitos\, CA\, 90740\, United States
CATEGORIES:Los Alamitos,Music
END:VEVENT
BEGIN:VEVENT
DTSTART;TZID=America/Los_Angeles:20290902T180000
DTEND;TZID=America/Los_Angeles:20290902T200000
DTSTAMP:20260421T152304
CREATED:20241122T145107Z
LAST-MODIFIED:20241122T151410Z
UID:10002782-1883066400-1883073600@sbhrf.net
SUMMARY:American Legion Hall:  Open Mic Night
DESCRIPTION:Calling all music lovers!\nWhether you’re an aspiring musician or just want to join some great tunes\, come join our open jam sessions.  Bring your instrument and play a few songs. \nMicrophones and speakers will be provided\, so just bring your talent and energy! \nStarting Nov. 3.  Every Sunday!
URL:https://sbhrf.net/event/american-legion-hall-open-mic-night/2029-09-02/
LOCATION:American Legion Post 716\, 3252 Florista Street\, Los Angeles\, CA\, 90720\, United States
CATEGORIES:Music,Nonprofits
ATTACH;FMTTYPE=image/png:https://sbhrf.net/wp-content/uploads/2024/11/AmLegion-Open-Mic.png
ORGANIZER;CN="American Legion Post 716":MAILTO:info@losalamitospost716.org
END:VEVENT
BEGIN:VEVENT
DTSTART;TZID=America/Los_Angeles:20290908T200000
DTEND;TZID=America/Los_Angeles:20290908T230000
DTSTAMP:20260421T152304
CREATED:20241122T152128Z
LAST-MODIFIED:20241122T152128Z
UID:10003045-1883592000-1883602800@sbhrf.net
SUMMARY:GRIFFINS GRILL:  Saturday Night Live
DESCRIPTION:
URL:https://sbhrf.net/event/griffins-grill-saturday-night-live/2029-09-08/
LOCATION:Griffins Grill\, 11272 Los Alamitos Blvd.\, Los Alamitos\, CA\, 90740\, United States
CATEGORIES:Los Alamitos,Music
END:VEVENT
END:VCALENDAR