BEGIN:VCALENDAR
VERSION:2.0
PRODID:-//Seal Beach Historic Resources Foundation - ECPv6.15.17.1//NONSGML v1.0//EN
CALSCALE:GREGORIAN
METHOD:PUBLISH
X-ORIGINAL-URL:https://sbhrf.net
X-WR-CALDESC:Events for Seal Beach Historic Resources Foundation
REFRESH-INTERVAL;VALUE=DURATION:PT1H
X-Robots-Tag:noindex
X-PUBLISHED-TTL:PT1H
BEGIN:VTIMEZONE
TZID:America/Los_Angeles
BEGIN:DAYLIGHT
TZOFFSETFROM:-0800
TZOFFSETTO:-0700
TZNAME:PDT
DTSTART:20230312T100000
END:DAYLIGHT
BEGIN:STANDARD
TZOFFSETFROM:-0700
TZOFFSETTO:-0800
TZNAME:PST
DTSTART:20231105T090000
END:STANDARD
BEGIN:DAYLIGHT
TZOFFSETFROM:-0800
TZOFFSETTO:-0700
TZNAME:PDT
DTSTART:20240310T100000
END:DAYLIGHT
BEGIN:STANDARD
TZOFFSETFROM:-0700
TZOFFSETTO:-0800
TZNAME:PST
DTSTART:20241103T090000
END:STANDARD
BEGIN:DAYLIGHT
TZOFFSETFROM:-0800
TZOFFSETTO:-0700
TZNAME:PDT
DTSTART:20250309T100000
END:DAYLIGHT
BEGIN:STANDARD
TZOFFSETFROM:-0700
TZOFFSETTO:-0800
TZNAME:PST
DTSTART:20251102T090000
END:STANDARD
BEGIN:DAYLIGHT
TZOFFSETFROM:-0800
TZOFFSETTO:-0700
TZNAME:PDT
DTSTART:20260308T100000
END:DAYLIGHT
BEGIN:STANDARD
TZOFFSETFROM:-0700
TZOFFSETTO:-0800
TZNAME:PST
DTSTART:20261101T090000
END:STANDARD
END:VTIMEZONE
BEGIN:VEVENT
DTSTART;TZID=America/Los_Angeles:20250114T190000
DTEND;TZID=America/Los_Angeles:20250114T210000
DTSTAMP:20260420T080753
CREATED:20240415T235559Z
LAST-MODIFIED:20240415T235559Z
UID:10000499-1736881200-1736888400@sbhrf.net
SUMMARY:Bogart's Coffee House - Open Mic Night
DESCRIPTION:
URL:https://sbhrf.net/event/bogarts-coffee-house-open-mic-night/2025-01-14/
LOCATION:Bogart’s Coffee House\, 905 Ocean Ave\, Seal Beach\, CA\, 90740\, United States
CATEGORIES:Music
ATTACH;FMTTYPE=image/png:https://sbhrf.net/wp-content/uploads/2024/04/2024-0502-Bogarts-Open-Mic-1.png
END:VEVENT
BEGIN:VEVENT
DTSTART;TZID=America/Los_Angeles:20250113T180000
DTEND;TZID=America/Los_Angeles:20250113T210000
DTSTAMP:20260420T080753
CREATED:20241113T160828Z
LAST-MODIFIED:20241113T162103Z
UID:10001867-1736791200-1736802000@sbhrf.net
SUMMARY:Seal Beach City Council Meeting
DESCRIPTION:City Council and Planning Commission meetings can be viewed on SBTV-3 and on the City’s YouTube Channel. A recording of the meeting will be posted online within 24 hours of adjournment.
URL:https://sbhrf.net/event/seal-beach-city-council-meeting/2025-01-13/
LOCATION:CA
CATEGORIES:Government,Seal Beach
ATTACH;FMTTYPE=image/png:https://sbhrf.net/wp-content/uploads/2024/11/SB-City-Council-meeting-generic.png
END:VEVENT
BEGIN:VEVENT
DTSTART;TZID=America/Los_Angeles:20250112T180000
DTEND;TZID=America/Los_Angeles:20250112T200000
DTSTAMP:20260420T080753
CREATED:20241122T145107Z
LAST-MODIFIED:20241122T151410Z
UID:10002540-1736704800-1736712000@sbhrf.net
SUMMARY:American Legion Hall:  Open Mic Night
DESCRIPTION:Calling all music lovers!\nWhether you’re an aspiring musician or just want to join some great tunes\, come join our open jam sessions.  Bring your instrument and play a few songs. \nMicrophones and speakers will be provided\, so just bring your talent and energy! \nStarting Nov. 3.  Every Sunday!
URL:https://sbhrf.net/event/american-legion-hall-open-mic-night/2025-01-12/
LOCATION:American Legion Post 716\, 3252 Florista Street\, Los Angeles\, CA\, 90720\, United States
CATEGORIES:Music,Nonprofits
ATTACH;FMTTYPE=image/png:https://sbhrf.net/wp-content/uploads/2024/11/AmLegion-Open-Mic.png
ORGANIZER;CN="American Legion Post 716":MAILTO:info@losalamitospost716.org
END:VEVENT
BEGIN:VEVENT
DTSTART;TZID=America/Los_Angeles:20250111T200000
DTEND;TZID=America/Los_Angeles:20250111T230000
DTSTAMP:20260420T080753
CREATED:20241122T152128Z
LAST-MODIFIED:20241122T152128Z
UID:10002802-1736625600-1736636400@sbhrf.net
SUMMARY:GRIFFINS GRILL:  Saturday Night Live
DESCRIPTION:
URL:https://sbhrf.net/event/griffins-grill-saturday-night-live/2025-01-11/
LOCATION:Griffins Grill\, 11272 Los Alamitos Blvd.\, Los Alamitos\, CA\, 90740\, United States
CATEGORIES:Los Alamitos,Music
END:VEVENT
BEGIN:VEVENT
DTSTART;TZID=America/Los_Angeles:20250107T190000
DTEND;TZID=America/Los_Angeles:20250107T213000
DTSTAMP:20260420T080753
CREATED:20240509T184208Z
LAST-MODIFIED:20240509T184327Z
UID:10000839-1736276400-1736285400@sbhrf.net
SUMMARY:Trivia Night @ Marni's
DESCRIPTION:
URL:https://sbhrf.net/event/trivia-night-marnis/2025-01-07/
LOCATION:Marni’s\, 620 Pacific Coast Highway\, Seal Beach\, CA\, 90740
ATTACH;FMTTYPE=image/png:https://sbhrf.net/wp-content/uploads/2024/05/Marnis-Trivia.png
END:VEVENT
BEGIN:VEVENT
DTSTART;TZID=America/Los_Angeles:20250107T190000
DTEND;TZID=America/Los_Angeles:20250107T210000
DTSTAMP:20260420T080753
CREATED:20240415T235559Z
LAST-MODIFIED:20240415T235559Z
UID:10000498-1736276400-1736283600@sbhrf.net
SUMMARY:Bogart's Coffee House - Open Mic Night
DESCRIPTION:
URL:https://sbhrf.net/event/bogarts-coffee-house-open-mic-night/2025-01-07/
LOCATION:Bogart’s Coffee House\, 905 Ocean Ave\, Seal Beach\, CA\, 90740\, United States
CATEGORIES:Music
ATTACH;FMTTYPE=image/png:https://sbhrf.net/wp-content/uploads/2024/04/2024-0502-Bogarts-Open-Mic-1.png
END:VEVENT
BEGIN:VEVENT
DTSTART;TZID=America/Los_Angeles:20250105T180000
DTEND;TZID=America/Los_Angeles:20250105T200000
DTSTAMP:20260420T080753
CREATED:20241122T145107Z
LAST-MODIFIED:20241122T151410Z
UID:10002539-1736100000-1736107200@sbhrf.net
SUMMARY:American Legion Hall:  Open Mic Night
DESCRIPTION:Calling all music lovers!\nWhether you’re an aspiring musician or just want to join some great tunes\, come join our open jam sessions.  Bring your instrument and play a few songs. \nMicrophones and speakers will be provided\, so just bring your talent and energy! \nStarting Nov. 3.  Every Sunday!
URL:https://sbhrf.net/event/american-legion-hall-open-mic-night/2025-01-05/
LOCATION:American Legion Post 716\, 3252 Florista Street\, Los Angeles\, CA\, 90720\, United States
CATEGORIES:Music,Nonprofits
ATTACH;FMTTYPE=image/png:https://sbhrf.net/wp-content/uploads/2024/11/AmLegion-Open-Mic.png
ORGANIZER;CN="American Legion Post 716":MAILTO:info@losalamitospost716.org
END:VEVENT
BEGIN:VEVENT
DTSTART;TZID=America/Los_Angeles:20250104T200000
DTEND;TZID=America/Los_Angeles:20250104T230000
DTSTAMP:20260420T080753
CREATED:20241122T152128Z
LAST-MODIFIED:20241122T152128Z
UID:10002801-1736020800-1736031600@sbhrf.net
SUMMARY:GRIFFINS GRILL:  Saturday Night Live
DESCRIPTION:
URL:https://sbhrf.net/event/griffins-grill-saturday-night-live/2025-01-04/
LOCATION:Griffins Grill\, 11272 Los Alamitos Blvd.\, Los Alamitos\, CA\, 90740\, United States
CATEGORIES:Los Alamitos,Music
END:VEVENT
BEGIN:VEVENT
DTSTART;TZID=America/Los_Angeles:20241231T190000
DTEND;TZID=America/Los_Angeles:20241231T213000
DTSTAMP:20260420T080753
CREATED:20240509T184208Z
LAST-MODIFIED:20240509T184327Z
UID:10000838-1735671600-1735680600@sbhrf.net
SUMMARY:Trivia Night @ Marni's
DESCRIPTION:
URL:https://sbhrf.net/event/trivia-night-marnis/2024-12-31/
LOCATION:Marni’s\, 620 Pacific Coast Highway\, Seal Beach\, CA\, 90740
ATTACH;FMTTYPE=image/png:https://sbhrf.net/wp-content/uploads/2024/05/Marnis-Trivia.png
END:VEVENT
BEGIN:VEVENT
DTSTART;TZID=America/Los_Angeles:20241231T190000
DTEND;TZID=America/Los_Angeles:20241231T210000
DTSTAMP:20260420T080753
CREATED:20240415T235559Z
LAST-MODIFIED:20240415T235559Z
UID:10000497-1735671600-1735678800@sbhrf.net
SUMMARY:Bogart's Coffee House - Open Mic Night
DESCRIPTION:
URL:https://sbhrf.net/event/bogarts-coffee-house-open-mic-night/2024-12-31/
LOCATION:Bogart’s Coffee House\, 905 Ocean Ave\, Seal Beach\, CA\, 90740\, United States
CATEGORIES:Music
ATTACH;FMTTYPE=image/png:https://sbhrf.net/wp-content/uploads/2024/04/2024-0502-Bogarts-Open-Mic-1.png
END:VEVENT
BEGIN:VEVENT
DTSTART;TZID=America/Los_Angeles:20241229T180000
DTEND;TZID=America/Los_Angeles:20241229T200000
DTSTAMP:20260420T080753
CREATED:20241122T145107Z
LAST-MODIFIED:20241122T151410Z
UID:10002538-1735495200-1735502400@sbhrf.net
SUMMARY:American Legion Hall:  Open Mic Night
DESCRIPTION:Calling all music lovers!\nWhether you’re an aspiring musician or just want to join some great tunes\, come join our open jam sessions.  Bring your instrument and play a few songs. \nMicrophones and speakers will be provided\, so just bring your talent and energy! \nStarting Nov. 3.  Every Sunday!
URL:https://sbhrf.net/event/american-legion-hall-open-mic-night/2024-12-29/
LOCATION:American Legion Post 716\, 3252 Florista Street\, Los Angeles\, CA\, 90720\, United States
CATEGORIES:Music,Nonprofits
ATTACH;FMTTYPE=image/png:https://sbhrf.net/wp-content/uploads/2024/11/AmLegion-Open-Mic.png
ORGANIZER;CN="American Legion Post 716":MAILTO:info@losalamitospost716.org
END:VEVENT
BEGIN:VEVENT
DTSTART;TZID=America/Los_Angeles:20241228T200000
DTEND;TZID=America/Los_Angeles:20241228T230000
DTSTAMP:20260420T080753
CREATED:20241122T152128Z
LAST-MODIFIED:20241122T152128Z
UID:10002800-1735416000-1735426800@sbhrf.net
SUMMARY:GRIFFINS GRILL:  Saturday Night Live
DESCRIPTION:
URL:https://sbhrf.net/event/griffins-grill-saturday-night-live/2024-12-28/
LOCATION:Griffins Grill\, 11272 Los Alamitos Blvd.\, Los Alamitos\, CA\, 90740\, United States
CATEGORIES:Los Alamitos,Music
END:VEVENT
BEGIN:VEVENT
DTSTART;TZID=America/Los_Angeles:20241224T190000
DTEND;TZID=America/Los_Angeles:20241224T213000
DTSTAMP:20260420T080753
CREATED:20240509T184208Z
LAST-MODIFIED:20240509T184327Z
UID:10000837-1735066800-1735075800@sbhrf.net
SUMMARY:Trivia Night @ Marni's
DESCRIPTION:
URL:https://sbhrf.net/event/trivia-night-marnis/2024-12-24/
LOCATION:Marni’s\, 620 Pacific Coast Highway\, Seal Beach\, CA\, 90740
ATTACH;FMTTYPE=image/png:https://sbhrf.net/wp-content/uploads/2024/05/Marnis-Trivia.png
END:VEVENT
BEGIN:VEVENT
DTSTART;TZID=America/Los_Angeles:20241224T190000
DTEND;TZID=America/Los_Angeles:20241224T210000
DTSTAMP:20260420T080753
CREATED:20240415T235559Z
LAST-MODIFIED:20240415T235559Z
UID:10000496-1735066800-1735074000@sbhrf.net
SUMMARY:Bogart's Coffee House - Open Mic Night
DESCRIPTION:
URL:https://sbhrf.net/event/bogarts-coffee-house-open-mic-night/2024-12-24/
LOCATION:Bogart’s Coffee House\, 905 Ocean Ave\, Seal Beach\, CA\, 90740\, United States
CATEGORIES:Music
ATTACH;FMTTYPE=image/png:https://sbhrf.net/wp-content/uploads/2024/04/2024-0502-Bogarts-Open-Mic-1.png
END:VEVENT
BEGIN:VEVENT
DTSTART;TZID=America/Los_Angeles:20241223T180000
DTEND;TZID=America/Los_Angeles:20241223T210000
DTSTAMP:20260420T080753
CREATED:20241113T161442Z
LAST-MODIFIED:20241113T162246Z
UID:10001986-1734976800-1734987600@sbhrf.net
SUMMARY:Seal Beach City Council Meeting
DESCRIPTION:City Council and Planning Commission meetings can be viewed on SBTV-3 and on the City’s YouTube Channel. A recording of the meeting will be posted online within 24 hours of adjournment.
URL:https://sbhrf.net/event/seal-beach-city-council-meeting-2/2024-12-23/
LOCATION:CA
CATEGORIES:Government,Seal Beach
ATTACH;FMTTYPE=image/png:https://sbhrf.net/wp-content/uploads/2024/11/SB-City-Council-meeting-generic.png
END:VEVENT
BEGIN:VEVENT
DTSTART;TZID=America/Los_Angeles:20241222T180000
DTEND;TZID=America/Los_Angeles:20241222T200000
DTSTAMP:20260420T080753
CREATED:20241122T145107Z
LAST-MODIFIED:20241122T151410Z
UID:10002537-1734890400-1734897600@sbhrf.net
SUMMARY:American Legion Hall:  Open Mic Night
DESCRIPTION:Calling all music lovers!\nWhether you’re an aspiring musician or just want to join some great tunes\, come join our open jam sessions.  Bring your instrument and play a few songs. \nMicrophones and speakers will be provided\, so just bring your talent and energy! \nStarting Nov. 3.  Every Sunday!
URL:https://sbhrf.net/event/american-legion-hall-open-mic-night/2024-12-22/
LOCATION:American Legion Post 716\, 3252 Florista Street\, Los Angeles\, CA\, 90720\, United States
CATEGORIES:Music,Nonprofits
ATTACH;FMTTYPE=image/png:https://sbhrf.net/wp-content/uploads/2024/11/AmLegion-Open-Mic.png
ORGANIZER;CN="American Legion Post 716":MAILTO:info@losalamitospost716.org
END:VEVENT
BEGIN:VEVENT
DTSTART;TZID=America/Los_Angeles:20241221T200000
DTEND;TZID=America/Los_Angeles:20241221T230000
DTSTAMP:20260420T080753
CREATED:20241205T140517Z
LAST-MODIFIED:20241205T140526Z
UID:10002799-1734811200-1734822000@sbhrf.net
SUMMARY:GRIFFINS GRILL:  Saturday Night Music - Hair Nation
DESCRIPTION:
URL:https://sbhrf.net/event/griffins-grill-saturday-night-live-6/
LOCATION:Griffins Grill\, 11272 Los Alamitos Blvd.\, Los Alamitos\, CA\, 90740\, United States
CATEGORIES:Los Alamitos,Music
ATTACH;FMTTYPE=image/png:https://sbhrf.net/wp-content/uploads/2024/11/Bands-Hair-Nation.png
END:VEVENT
BEGIN:VEVENT
DTSTART;TZID=America/Los_Angeles:20241221T080000
DTEND;TZID=America/Los_Angeles:20241221T170000
DTSTAMP:20260420T080753
CREATED:20241112T175451Z
LAST-MODIFIED:20241112T175451Z
UID:10001531-1734768000-1734800400@sbhrf.net
SUMMARY:First Day of Winter
DESCRIPTION:
URL:https://sbhrf.net/event/first-day-of-winter/
LOCATION:CA
ATTACH;FMTTYPE=image/webp:https://sbhrf.net/wp-content/uploads/2024/11/First-Day-of-Winter-_-Winter-Solstice.webp
END:VEVENT
BEGIN:VEVENT
DTSTART;VALUE=DATE:20241221
DTEND;VALUE=DATE:20250106
DTSTAMP:20260420T080753
CREATED:20241111T185707Z
LAST-MODIFIED:20241111T185707Z
UID:10001083-1734739200-1736121599@sbhrf.net
SUMMARY:Christmas School Break
DESCRIPTION:
URL:https://sbhrf.net/event/christmas-school-break/
LOCATION:CA
ATTACH;FMTTYPE=image/png:https://sbhrf.net/wp-content/uploads/2024/11/2024-1221-Xmas-Schoool-Break.png
END:VEVENT
BEGIN:VEVENT
DTSTART;TZID=America/Los_Angeles:20241218T090000
DTEND;TZID=America/Los_Angeles:20241218T150000
DTSTAMP:20260420T080753
CREATED:20241112T184032Z
LAST-MODIFIED:20241112T184032Z
UID:10001536-1734512400-1734534000@sbhrf.net
SUMMARY:RHA / Red Cross Blood Drive
DESCRIPTION:Through the generosity of volunteer blood donors at Red Cross Blood Drives\, the American Red Cross helps millions of patients in over 2\,600 hospitals across the country each year. Patients receiving treatment for cancer or blood disorders\, those undergoing transplant surgery\, mothers suffering from birthing complications\, and premature babies are all examples of patients who need blood. Chances are you know someone who has needed or currently needs blood. \nIn less than an hour’s time\, you can help save up to three lives with a blood donation. And right here in Rossmoor at our monthly Rossmoor Red Cross Blood Drive at Rush Park. \nRemember: \n\n\n\n\n\nEvery 2 seconds someone in America needs blood\n14\,000 units of blood need to be collected by the Red Cross each day\n\n\n\n\n\nPlease join us in giving the gift of life.  Register here
URL:https://sbhrf.net/event/rha-red-cross-blood-drive/2024-12-18/
LOCATION:Rush Park Auditorium\, 3021 Blume Ave\, Rossmoor\, 90720\, United States
CATEGORIES:Rossmoor
ATTACH;FMTTYPE=image/png:https://sbhrf.net/wp-content/uploads/2024/11/Rossmoor-Red-Cross-Blood-Drive-undated-3-1.png
END:VEVENT
BEGIN:VEVENT
DTSTART;TZID=America/Los_Angeles:20241217T190000
DTEND;TZID=America/Los_Angeles:20241217T213000
DTSTAMP:20260420T080753
CREATED:20240509T184208Z
LAST-MODIFIED:20240509T184327Z
UID:10000836-1734462000-1734471000@sbhrf.net
SUMMARY:Trivia Night @ Marni's
DESCRIPTION:
URL:https://sbhrf.net/event/trivia-night-marnis/2024-12-17/
LOCATION:Marni’s\, 620 Pacific Coast Highway\, Seal Beach\, CA\, 90740
ATTACH;FMTTYPE=image/png:https://sbhrf.net/wp-content/uploads/2024/05/Marnis-Trivia.png
END:VEVENT
BEGIN:VEVENT
DTSTART;TZID=America/Los_Angeles:20241217T190000
DTEND;TZID=America/Los_Angeles:20241217T210000
DTSTAMP:20260420T080753
CREATED:20240415T235559Z
LAST-MODIFIED:20240415T235559Z
UID:10000495-1734462000-1734469200@sbhrf.net
SUMMARY:Bogart's Coffee House - Open Mic Night
DESCRIPTION:
URL:https://sbhrf.net/event/bogarts-coffee-house-open-mic-night/2024-12-17/
LOCATION:Bogart’s Coffee House\, 905 Ocean Ave\, Seal Beach\, CA\, 90740\, United States
CATEGORIES:Music
ATTACH;FMTTYPE=image/png:https://sbhrf.net/wp-content/uploads/2024/04/2024-0502-Bogarts-Open-Mic-1.png
END:VEVENT
BEGIN:VEVENT
DTSTART;TZID=America/Los_Angeles:20241216T190000
DTEND;TZID=America/Los_Angeles:20241216T210000
DTSTAMP:20260420T080753
CREATED:20241113T014529Z
LAST-MODIFIED:20241121T151250Z
UID:10001599-1734375600-1734382800@sbhrf.net
SUMMARY:St. Anne's Christmas Concert
DESCRIPTION:Dec.16th: St Anne’s Christmas Concert 7pm
URL:https://sbhrf.net/event/st-annes-christmas-concert/
LOCATION:St. Anne’s Catholic Church
CATEGORIES:Community Events,Family
ATTACH;FMTTYPE=image/png:https://sbhrf.net/wp-content/uploads/2024/11/St-Annes-Xmas-concert.png
END:VEVENT
BEGIN:VEVENT
DTSTART;TZID=America/Los_Angeles:20241216T180000
DTEND;TZID=America/Los_Angeles:20241216T210000
DTSTAMP:20260420T080753
CREATED:20241113T163121Z
LAST-MODIFIED:20241113T163121Z
UID:10002046-1734372000-1734382800@sbhrf.net
SUMMARY:GOVERNMENT:  Los Alamitos City Council Meeting
DESCRIPTION:
URL:https://sbhrf.net/event/government-los-alamitos-city-council-meeting/2024-12-16/
LOCATION:CA
CATEGORIES:Government,Los Alamitos
ATTACH;FMTTYPE=image/png:https://sbhrf.net/wp-content/uploads/2024/11/Los-Al-City-Council-meeting-generic.png
END:VEVENT
BEGIN:VEVENT
DTSTART;TZID=America/Los_Angeles:20241215T180000
DTEND;TZID=America/Los_Angeles:20241215T200000
DTSTAMP:20260420T080753
CREATED:20241122T145107Z
LAST-MODIFIED:20241122T151410Z
UID:10002536-1734285600-1734292800@sbhrf.net
SUMMARY:American Legion Hall:  Open Mic Night
DESCRIPTION:Calling all music lovers!\nWhether you’re an aspiring musician or just want to join some great tunes\, come join our open jam sessions.  Bring your instrument and play a few songs. \nMicrophones and speakers will be provided\, so just bring your talent and energy! \nStarting Nov. 3.  Every Sunday!
URL:https://sbhrf.net/event/american-legion-hall-open-mic-night/2024-12-15/
LOCATION:American Legion Post 716\, 3252 Florista Street\, Los Angeles\, CA\, 90720\, United States
CATEGORIES:Music,Nonprofits
ATTACH;FMTTYPE=image/png:https://sbhrf.net/wp-content/uploads/2024/11/AmLegion-Open-Mic.png
ORGANIZER;CN="American Legion Post 716":MAILTO:info@losalamitospost716.org
END:VEVENT
BEGIN:VEVENT
DTSTART;TZID=America/Los_Angeles:20241215T120000
DTEND;TZID=America/Los_Angeles:20241215T160000
DTSTAMP:20260420T080753
CREATED:20241115T152842Z
LAST-MODIFIED:20241115T152842Z
UID:10002118-1734264000-1734278400@sbhrf.net
SUMMARY:St\, Isidore Tamale Workshop
DESCRIPTION:
URL:https://sbhrf.net/event/st-isidore-tamale-workshop/
LOCATION:St. Isidore Historical Plaza\, 10961 Katella Ave.\, Los Alamitos\, CA\, 90720\, United States
ATTACH;FMTTYPE=image/png:https://sbhrf.net/wp-content/uploads/2024/11/2024-1215-event-St-Iz-Tamale-Workshop.png
END:VEVENT
BEGIN:VEVENT
DTSTART;TZID=America/Los_Angeles:20241214T200000
DTEND;TZID=America/Los_Angeles:20241214T230000
DTSTAMP:20260420T080753
CREATED:20241205T140336Z
LAST-MODIFIED:20241205T140337Z
UID:10002798-1734206400-1734217200@sbhrf.net
SUMMARY:GRIFFINS GRILL:  Saturday Night Live
DESCRIPTION:
URL:https://sbhrf.net/event/griffins-grill-saturday-night-live-5/
LOCATION:Griffins Grill\, 11272 Los Alamitos Blvd.\, Los Alamitos\, CA\, 90740\, United States
CATEGORIES:Los Alamitos,Music
ATTACH;FMTTYPE=image/png:https://sbhrf.net/wp-content/uploads/2024/11/Bands-Hair-Nation.png
END:VEVENT
BEGIN:VEVENT
DTSTART;TZID=America/Los_Angeles:20241214T150000
DTEND;TZID=America/Los_Angeles:20241214T170000
DTSTAMP:20260420T080753
CREATED:20241126T221527Z
LAST-MODIFIED:20241126T221714Z
UID:10003077-1734188400-1734195600@sbhrf.net
SUMMARY:LAHS Orchestra & Friends: Nutcracker in a Shell
DESCRIPTION:
URL:https://sbhrf.net/event/lahs-orchestra-friends-nutcracker-in-a-shell/2024-12-14/
LOCATION:Los Alamitos HS Performing Arts Center\, 3591 Cerritos Ave.\, Los Alamitos\,\, CA\, 90720\, United States
CATEGORIES:Arts,Los Alamitos High School,Music
ATTACH;FMTTYPE=image/png:https://sbhrf.net/wp-content/uploads/2024/11/LAHS-Band-Nutcracker.png
END:VEVENT
BEGIN:VEVENT
DTSTART;TZID=America/Los_Angeles:20241214T080000
DTEND;TZID=America/Los_Angeles:20241214T170000
DTSTAMP:20260420T080753
CREATED:20241112T182118Z
LAST-MODIFIED:20241205T135439Z
UID:10001534-1734163200-1734195600@sbhrf.net
SUMMARY:Rossmoor Winter Festival
DESCRIPTION:
URL:https://sbhrf.net/event/rossmoor-winter-festival/
LOCATION:Rush Park Auditorium\, 3021 Blume Ave\, Rossmoor\, 90720\, United States
CATEGORIES:Community Events,Family
ATTACH;FMTTYPE=image/png:https://sbhrf.net/wp-content/uploads/2024/11/2024-1214-Rossmoor-Winter-festival-1.png
END:VEVENT
BEGIN:VEVENT
DTSTART;TZID=America/Los_Angeles:20241213T190000
DTEND;TZID=America/Los_Angeles:20241213T210000
DTSTAMP:20260420T080753
CREATED:20241126T221527Z
LAST-MODIFIED:20241126T221714Z
UID:10003076-1734116400-1734123600@sbhrf.net
SUMMARY:LAHS Orchestra & Friends: Nutcracker in a Shell
DESCRIPTION:
URL:https://sbhrf.net/event/lahs-orchestra-friends-nutcracker-in-a-shell/2024-12-13/
LOCATION:Los Alamitos HS Performing Arts Center\, 3591 Cerritos Ave.\, Los Alamitos\,\, CA\, 90720\, United States
CATEGORIES:Arts,Los Alamitos High School,Music
ATTACH;FMTTYPE=image/png:https://sbhrf.net/wp-content/uploads/2024/11/LAHS-Band-Nutcracker.png
END:VEVENT
END:VCALENDAR