BEGIN:VCALENDAR
VERSION:2.0
PRODID:-//Seal Beach Historic Resources Foundation - ECPv6.15.17.1//NONSGML v1.0//EN
CALSCALE:GREGORIAN
METHOD:PUBLISH
X-ORIGINAL-URL:https://sbhrf.net
X-WR-CALDESC:Events for Seal Beach Historic Resources Foundation
REFRESH-INTERVAL;VALUE=DURATION:PT1H
X-Robots-Tag:noindex
X-PUBLISHED-TTL:PT1H
BEGIN:VTIMEZONE
TZID:America/Los_Angeles
BEGIN:DAYLIGHT
TZOFFSETFROM:-0800
TZOFFSETTO:-0700
TZNAME:PDT
DTSTART:20230312T100000
END:DAYLIGHT
BEGIN:STANDARD
TZOFFSETFROM:-0700
TZOFFSETTO:-0800
TZNAME:PST
DTSTART:20231105T090000
END:STANDARD
BEGIN:DAYLIGHT
TZOFFSETFROM:-0800
TZOFFSETTO:-0700
TZNAME:PDT
DTSTART:20240310T100000
END:DAYLIGHT
BEGIN:STANDARD
TZOFFSETFROM:-0700
TZOFFSETTO:-0800
TZNAME:PST
DTSTART:20241103T090000
END:STANDARD
BEGIN:DAYLIGHT
TZOFFSETFROM:-0800
TZOFFSETTO:-0700
TZNAME:PDT
DTSTART:20250309T100000
END:DAYLIGHT
BEGIN:STANDARD
TZOFFSETFROM:-0700
TZOFFSETTO:-0800
TZNAME:PST
DTSTART:20251102T090000
END:STANDARD
END:VTIMEZONE
BEGIN:VEVENT
DTSTART;TZID=America/Los_Angeles:20240511T110000
DTEND;TZID=America/Los_Angeles:20240511T120000
DTSTAMP:20260420T171840
CREATED:20240416T000411Z
LAST-MODIFIED:20240416T000411Z
UID:10000721-1715425200-1715428800@sbhrf.net
SUMMARY:Prep Cooking Classes -Ribbon Cutting
DESCRIPTION:
URL:https://sbhrf.net/event/prep-cooking-classes-ribbon-cutting/
LOCATION:Prep Cooking Classes\, 12207 Seal Beach Blvd.\, Seal Beach\, CA\, 90740\, United States
CATEGORIES:SB Chamber
ATTACH;FMTTYPE=image/jpeg:https://sbhrf.net/wp-content/uploads/2024/04/2024-0511-Prep-Kitchen-Ribbon-Cutting-65eb6506c4137b695608653d-1.jpg
ORGANIZER;CN="Seal Beach Chamber of Commerce":MAILTO:nfo@sealbeachchamber.org
END:VEVENT
BEGIN:VEVENT
DTSTART;TZID=America/Los_Angeles:20240511T100000
DTEND;TZID=America/Los_Angeles:20240511T130000
DTSTAMP:20260420T171840
CREATED:20240507T220104Z
LAST-MODIFIED:20240507T220126Z
UID:10000722-1715421600-1715432400@sbhrf.net
SUMMARY:Lifeguard Horseshoe Tournament
DESCRIPTION:The 4th Annual Seal Beach Lifesaving Association Horseshoe Tournament. A fundraiser to benefit the Seal Beach Lifeguard Association. Come out and play on the sand for a good cause!
URL:https://sbhrf.net/event/lifeguard-horseshoe-tournament/
LOCATION:Seal Beach Pier\, Seal Beach\, CA\, 90740
ATTACH;FMTTYPE=image/jpeg:https://sbhrf.net/wp-content/uploads/2024/05/horseshoes-game-sm-1024x567-1.jpg
END:VEVENT
BEGIN:VEVENT
DTSTART;TZID=America/Los_Angeles:20240511T093000
DTEND;TZID=America/Los_Angeles:20240511T120000
DTSTAMP:20260420T171840
CREATED:20240509T192659Z
LAST-MODIFIED:20240509T192659Z
UID:10001070-1715419800-1715428800@sbhrf.net
SUMMARY:Watch Party:  Chelsea vs Nottingham
DESCRIPTION:Event by OC Blues – Chelsea In America\n\n\n\n\n\n\n\n\n\n\n\n\nO’Malley’s on Main\, 140 Main Street\, Seal Beach\, CA
URL:https://sbhrf.net/event/watch-party-chelsea-vs-nottingham/
LOCATION:O’Malley’s on Main\, 142 Main St.\, Seal Beach\, CA\, 90740
ATTACH;FMTTYPE=image/jpeg:https://sbhrf.net/wp-content/uploads/2024/05/441327207_854947969991953_3518637106624708395_n.jpg
END:VEVENT
BEGIN:VEVENT
DTSTART;TZID=America/Los_Angeles:20240511T080000
DTEND;TZID=America/Los_Angeles:20240511T170000
DTSTAMP:20260420T171840
CREATED:20240508T005528Z
LAST-MODIFIED:20240508T005557Z
UID:10000801-1715414400-1715446800@sbhrf.net
SUMMARY:SB Pony Closing Day & SB Lions Home Run Derby & BBQ
DESCRIPTION:
URL:https://sbhrf.net/event/sb-pony-closing-day-sb-lions-home-run-derby-bbq/
LOCATION:CA
ATTACH;FMTTYPE=image/png:https://sbhrf.net/wp-content/uploads/2024/05/440341542_18431655649059809_3186958671260980463_n-copy.png
END:VEVENT
BEGIN:VEVENT
DTSTART;TZID=America/Los_Angeles:20240510T180000
DTEND;TZID=America/Los_Angeles:20240510T200000
DTSTAMP:20260420T171840
CREATED:20240509T185224Z
LAST-MODIFIED:20240509T185224Z
UID:10001066-1715364000-1715371200@sbhrf.net
SUMMARY:Bogarts - Nick Justice
DESCRIPTION:Friday\, May 10\, 2024\n6:00 PM  8:00 PM\nBogart’s Coffee House (map)\n\n\n\n\n\n\n\n\nIf Nick Justice’s career has found him lurking below the radar\, it’s only because he’s the one that initially put the brakes on. Weaned on the Southern California sound — as represented by the Eagles\, Crosby\, Stills and Nash and Jackson Browne — he was lured to the Golden State in the late ‘80s and became a journeyman troubador of sorts — busking\, paying his dues  in various itinerate ensembles and playing for whoever would listen. Eventually he worked his way up to the status  of an opening act\, serving a support role to number of important outfits — X\, the Blasters\, the Radiators\, INXS\, the Del Fuegos and other ‘80s and ‘90s scene-setters. Justice has a knack for sharing a kind of breezy balladry and while his is a generally unassuming sound\, the music is still seeped in sentiment and an easy\, affable embrace. Nick Justice is a great story teller in the true fashion of the traveling Troubador. With 5 previous critically acclaimed solo records and one collaboration with The SideMen\, Justice is currently finishing up his 6th solo record titled “Stranger inMy Town” produced by folk legend Joel Rafael and a supporting cast of Greg Leisz on pedal steel and dobro (Jackson Browne Band)\, Mai Leisz on bass (David Crosby Band)\, and Richard Stekol on guitar (Honk\, Funky Kings).
URL:https://sbhrf.net/event/bogarts-nick-justice/
LOCATION:Bogart’s Coffee House\, 905 Ocean Ave\, Seal Beach\, CA\, 90740\, United States
ATTACH;FMTTYPE=image/jpeg:https://sbhrf.net/wp-content/uploads/2024/05/Nick-Justice.jpeg
END:VEVENT
BEGIN:VEVENT
DTSTART;TZID=America/Los_Angeles:20240509T190000
DTEND;TZID=America/Los_Angeles:20240509T213000
DTSTAMP:20260420T171840
CREATED:20240509T193956Z
LAST-MODIFIED:20240509T194216Z
UID:10001071-1715281200-1715290200@sbhrf.net
SUMMARY:Trivia Night - O'Malley's
DESCRIPTION:Thursdays mean it’s #TriviaNight at @omalleys_sealbeach hosted by @americaspubquiz. Test your trivia knowledge and win prizes!\n— at O’Malley’s on Main.
URL:https://sbhrf.net/event/trivia-night-omalleys/
LOCATION:CA
ATTACH;FMTTYPE=image/png:https://sbhrf.net/wp-content/uploads/2024/05/OMalleys-Trivia-Night.png
END:VEVENT
BEGIN:VEVENT
DTSTART;TZID=America/Los_Angeles:20240509T073000
DTEND;TZID=America/Los_Angeles:20240509T090000
DTSTAMP:20260420T171841
CREATED:20241108T171658Z
LAST-MODIFIED:20241108T171724Z
UID:10000736-1715239800-1715245200@sbhrf.net
SUMMARY:SB Chamber Networking Breakfast
DESCRIPTION:
URL:https://sbhrf.net/event/sb-chamber-networking-breakfast-3/
LOCATION:CA
CATEGORIES:SB Chamber
ATTACH;FMTTYPE=image/jpeg:https://sbhrf.net/wp-content/uploads/2024/05/2024-1114-SB-Chamber-breakfast-67096e7ff92429d4500c5c82.jpg
ORGANIZER;CN="Seal Beach Chamber of Commerce":MAILTO:nfo@sealbeachchamber.org
END:VEVENT
BEGIN:VEVENT
DTSTART;TZID=America/Los_Angeles:20240507T190000
DTEND;TZID=America/Los_Angeles:20240507T210000
DTSTAMP:20260420T171841
CREATED:20240415T235559Z
LAST-MODIFIED:20240415T235559Z
UID:10000463-1715108400-1715115600@sbhrf.net
SUMMARY:Bogart's Coffee House - Open Mic Night
DESCRIPTION:
URL:https://sbhrf.net/event/bogarts-coffee-house-open-mic-night/2024-05-07/
LOCATION:Bogart’s Coffee House\, 905 Ocean Ave\, Seal Beach\, CA\, 90740\, United States
CATEGORIES:Music
ATTACH;FMTTYPE=image/png:https://sbhrf.net/wp-content/uploads/2024/04/2024-0502-Bogarts-Open-Mic-1.png
END:VEVENT
BEGIN:VEVENT
DTSTART;TZID=America/Los_Angeles:20240502T080000
DTEND;TZID=America/Los_Angeles:20240502T100000
DTSTAMP:20260420T171841
CREATED:20240415T234335Z
LAST-MODIFIED:20240415T234827Z
UID:10000459-1714636800-1714644000@sbhrf.net
SUMMARY:Annual Public Safety Awards
DESCRIPTION:
URL:https://sbhrf.net/event/annual-public-safety-awards/
LOCATION:CA
ATTACH;FMTTYPE=image/png:https://sbhrf.net/wp-content/uploads/2024/04/2024-0502-SB-Police-League-Awards-copy-1.png
END:VEVENT
BEGIN:VEVENT
DTSTART;TZID=America/Los_Angeles:20240430T190000
DTEND;TZID=America/Los_Angeles:20240430T210000
DTSTAMP:20260420T171841
CREATED:20240415T235559Z
LAST-MODIFIED:20240415T235559Z
UID:10000462-1714503600-1714510800@sbhrf.net
SUMMARY:Bogart's Coffee House - Open Mic Night
DESCRIPTION:
URL:https://sbhrf.net/event/bogarts-coffee-house-open-mic-night/2024-04-30/
LOCATION:Bogart’s Coffee House\, 905 Ocean Ave\, Seal Beach\, CA\, 90740\, United States
CATEGORIES:Music
ATTACH;FMTTYPE=image/png:https://sbhrf.net/wp-content/uploads/2024/04/2024-0502-Bogarts-Open-Mic-1.png
END:VEVENT
BEGIN:VEVENT
DTSTART;TZID=America/Los_Angeles:20240428T080000
DTEND;TZID=America/Los_Angeles:20240428T160000
DTSTAMP:20260420T171841
CREATED:20240209T150156Z
LAST-MODIFIED:20240209T150315Z
UID:10000372-1714291200-1714320000@sbhrf.net
SUMMARY:Seal Beach Classic Car Show
DESCRIPTION:
URL:https://sbhrf.net/event/seal-beach-classic-car-show/
LOCATION:CA
CATEGORIES:SB Chamber
ATTACH;FMTTYPE=image/jpeg:https://sbhrf.net/wp-content/uploads/2024/02/2024-0427-SB-Classic-Car-Show-658c72a32537568fe804e51a-1.jpg
ORGANIZER;CN="Seal Beach Chamber of Commerce":MAILTO:nfo@sealbeachchamber.org
END:VEVENT
BEGIN:VEVENT
DTSTART;TZID=America/Los_Angeles:20240423T190000
DTEND;TZID=America/Los_Angeles:20240423T210000
DTSTAMP:20260420T171841
CREATED:20240415T235559Z
LAST-MODIFIED:20240415T235559Z
UID:10000461-1713898800-1713906000@sbhrf.net
SUMMARY:Bogart's Coffee House - Open Mic Night
DESCRIPTION:
URL:https://sbhrf.net/event/bogarts-coffee-house-open-mic-night/2024-04-23/
LOCATION:Bogart’s Coffee House\, 905 Ocean Ave\, Seal Beach\, CA\, 90740\, United States
CATEGORIES:Music
ATTACH;FMTTYPE=image/png:https://sbhrf.net/wp-content/uploads/2024/04/2024-0502-Bogarts-Open-Mic-1.png
END:VEVENT
BEGIN:VEVENT
DTSTART;TZID=America/Los_Angeles:20240419T180000
DTEND;TZID=America/Los_Angeles:20240419T220000
DTSTAMP:20260420T171841
CREATED:20240415T233303Z
LAST-MODIFIED:20240415T233303Z
UID:10000456-1713549600-1713564000@sbhrf.net
SUMMARY:Youth Center - Kids Night Out
DESCRIPTION:Every 3rd Friday of the Month\n6:00 – 10:30 p.m. \n$25/child \nA monthly themed event where parents can enjoy time off while we entertain the kids from ages 5-12.\nJoin us for holiday activities\, contests\, scavenger hunt\, games\, and a movie\nLocation: 10761 Los Alamitos Blvd\, Los Alamitos\, CA 90720 \nRate: $25 for first child/ $20 for bringing your siblings OR friends! \nFun Games & Priz
URL:https://sbhrf.net/event/youth-center-kids-night-out/
LOCATION:The Youth Center\, 10761 Los Alamitos Blvd\, Los Alamitos\, CA\, 90720\, United States
CATEGORIES:Family
ATTACH;FMTTYPE=image/png:https://sbhrf.net/wp-content/uploads/2024/04/2024-0419-YC-Kids-Night-Out-1.png
END:VEVENT
BEGIN:VEVENT
DTSTART;TZID=America/Los_Angeles:20240416T190000
DTEND;TZID=America/Los_Angeles:20240416T210000
DTSTAMP:20260420T171841
CREATED:20240415T235559Z
LAST-MODIFIED:20240415T235559Z
UID:10000460-1713294000-1713301200@sbhrf.net
SUMMARY:Bogart's Coffee House - Open Mic Night
DESCRIPTION:
URL:https://sbhrf.net/event/bogarts-coffee-house-open-mic-night/2024-04-16/
LOCATION:Bogart’s Coffee House\, 905 Ocean Ave\, Seal Beach\, CA\, 90740\, United States
CATEGORIES:Music
ATTACH;FMTTYPE=image/png:https://sbhrf.net/wp-content/uploads/2024/04/2024-0502-Bogarts-Open-Mic-1.png
END:VEVENT
BEGIN:VEVENT
DTSTART;TZID=America/Los_Angeles:20240415T080000
DTEND;TZID=America/Los_Angeles:20240415T170000
DTSTAMP:20260420T171841
CREATED:20240415T233950Z
LAST-MODIFIED:20240415T233950Z
UID:10000458-1713168000-1713200400@sbhrf.net
SUMMARY:Shops at Rossmoor - Spring Fresh Giveaway
DESCRIPTION:SPRING REFRESH GIVEAWAY!\n\nIt’s time for a Spring Refresh\, and The Shops at Rossmoor wants to get you ready with a $200 gift card from Home Goods! Get ready to redecorate\, reorganize\, and shop to your heart’s content—for less. \nTo enter\, visit https://shopsatrossmoor.com/contests/spring-refresh-giveaway \nEntries will be accepted through April 16\, 2024\, and must be 18 or older to enter. Winners will be randomly selected and contacted via email on or around April 17\, 2024 and have 48 hours to reply. If the winner does not reply within the required time\, he or she forfeits the prize\, and another winner will be selected.
URL:https://sbhrf.net/event/shops-at-rossmoor-spring-fresh-giveaway/
LOCATION:CA
ATTACH;FMTTYPE=image/png:https://sbhrf.net/wp-content/uploads/2024/04/2024-Shops-at-Rossmoor-Spring-Giveaway-1.png
END:VEVENT
BEGIN:VEVENT
DTSTART;TZID=America/Los_Angeles:20240323T173000
DTEND;TZID=America/Los_Angeles:20240323T190000
DTSTAMP:20260420T171841
CREATED:20240218T153408Z
LAST-MODIFIED:20240218T153602Z
UID:10000396-1711215000-1711220400@sbhrf.net
SUMMARY:Seal Beach Lifeguard tryouts
DESCRIPTION:Seal Beach Lifeguard tryouts are on March 23rd at 08:00AM! Join our team and work as an ocean lifeguard this summer!\nFor additional information visit the link in the bio. \nAdditionally\, there will be a tryout information night on February 28th starting at 5:30PM. This is a great time to ask questions\, tour our facilities\, and meet some current lifeguards!\nRSVP is required for info night\, link is in the bio. Questions?? Call Lifeguard Headquarters@ 562-430-2613
URL:https://sbhrf.net/event/seal-beach-lifeguard-tryouts/
LOCATION:CA
ATTACH;FMTTYPE=image/png:https://sbhrf.net/wp-content/uploads/2024/02/2024-0323-SB-Lifeguard-Tryouts-1.png
END:VEVENT
BEGIN:VEVENT
DTSTART;TZID=America/Los_Angeles:20240317T150000
DTEND;TZID=America/Los_Angeles:20240317T180000
DTSTAMP:20260420T171841
CREATED:20240217T162757Z
LAST-MODIFIED:20240217T162959Z
UID:10000387-1710687600-1710698400@sbhrf.net
SUMMARY:Los Alamitos Weekend of Art
DESCRIPTION:Accepting Art Applications until Friday\, March 8. \nPlease submit to Cassidy Figueroa at cfigueroa@cityoflosalamitos.org\nThis year’s event will be held at the Oak Middle School Multi-Purpose Room located at 10821 Oak St.\, Los Alamitos\, CA 90720 \nSaturday\, March 16th from 12:00 – 6:00 p.m. \n& \nSunday\, March 17th from 3:00 – 7:00 p.m. \nAward Ceremony to be held Sunday\, March 17 at 6:30 p.m. \nArt Drop Off Location: Oak Middle School – Multi Purpose Room. 10821 Oak Street\, Los Alamitos\, CA 90720 \nArt Drop off: Friday\, March 15 3:30-8:30 pm \nArtwork Pick Up: Sunday\, March 17 from 7:00 pm to 9:00 pm. \nArtwork not picked up 2 weeks after the conclusion of the event\, will be donated. \nObjective: Our goal is to produce a show that provides each exhibitor the opportunity to show his or her work\, supports the creation of original art and craft\, and fosters art appreciation. \nAbout the Exhibition: \n\nThe exhibition will be held at the Oak Middle School – Multi Purpose Room.\nThe facility is located at 10821 Oak Street\, Los Alamitos\, CA 90720\n\nExhibitions will be available for viewing: \n\n\n\nSaturday\, March 16\, 2024\, from 12:00 p.m. to 6:00 p.m.\nSunday\, March 17\, 2024 from 3:00 p.m. to 7:00 p.m.\n\n\n\n  \n\nThe City does not charge an exhibition fee or receive a commission.\nThe City’s insurance does not cover art exhibitions. Furthermore\, the City of Los Alamitos is not responsible for any damage\, loss\, or theft that may occur to Artist’s work while it is being displayed in the Community Center gallery.\nArtists must self-insure for damage\, loss\, or theft to their work.\nArtwork description cards will be placed next to the artwork. Cards will be created and provided by the City.\n\nAwards: \n\nA closing ceremony will be held on Sunday\, March 17 at 6:30 pm. Winners will receive a ribbon\, certificate\, and gift card to the Art Supply Warehouse in Westminster in Westminster.\n\n1st place – $100 gift card\n2nd place – $50 gift card\n3rd place – $25 gift card\n\n\nWinners will be contacted starting Saturday\, March 16 after the conclusion of judging. Winners will be contacted via phone and email and invited to participate in the closing ceremony at to receive their award in front of an audience and to be broadcasted on LosAl TV.\nDivisions include:\n\nMayor’s Award: 1st place\nCommissioner’s Award: 1st place\nPeople’s Choice Award: 1st place\n\n\n\nTwo Dimensional Awards: \n\nElementary Division (Pre-K-5th grade) Awards: 1st-3rd place\nMiddle School Division (6th-8th grade) Awards: 1st-3rd place\nHigh School Division(9th-12th grade) Awards: 1st-3rd place\nAdult (High School Graduate+) Division Awards: 1st-3rd place\nOlder Adults (60+) Division Awards: 1st-3rd place\n\nThree Dimensional Awards: \n\nElementary Division (Pre-K-5th grade) Awards: 1st-3rd place\nMiddle School Division (6th-8th grade) Awards: 1st-3rd place\nHigh School Division(9th-12th grade) Awards: 1st-3rd place\nAdult (High School Graduate+) Division Awards: 1st-3rd place\nOlder Adults (60+) Division Awards: 1st-3rd place
URL:https://sbhrf.net/event/los-alamitos-weekend-of-art/2024-03-17/
LOCATION:Oak Middle School – Multi-purpose Room\, 10821 Oak Street\, Los Alamitos\, 90720\, United States
ATTACH;FMTTYPE=image/png:https://sbhrf.net/wp-content/uploads/2024/02/2024-0316-Los-Al-Weekend-of-Art-1.png
END:VEVENT
BEGIN:VEVENT
DTSTART;VALUE=DATE:20240317
DTEND;VALUE=DATE:20240318
DTSTAMP:20260420T171841
CREATED:20240217T170908Z
LAST-MODIFIED:20240217T170908Z
UID:10000391-1710633600-1710719999@sbhrf.net
SUMMARY:St. Patrick's Day
DESCRIPTION:
URL:https://sbhrf.net/event/st-patricks-day/
LOCATION:CA
ATTACH;FMTTYPE=image/png:https://sbhrf.net/wp-content/uploads/2024/02/2024-0317-Happy-St-Patricks-Day-1.png
END:VEVENT
BEGIN:VEVENT
DTSTART;TZID=America/Los_Angeles:20240316T173000
DTEND;TZID=America/Los_Angeles:20240316T220000
DTSTAMP:20260420T171841
CREATED:20240217T163118Z
LAST-MODIFIED:20240217T163118Z
UID:10000388-1710610200-1710626400@sbhrf.net
SUMMARY:Cypress College Foundation Americana Awards
DESCRIPTION:
URL:https://sbhrf.net/event/cypress-college-foundation-americana-awards/
LOCATION:CA
ATTACH;FMTTYPE=image/png:https://sbhrf.net/wp-content/uploads/2024/02/Americana-awards-2024-1.png
END:VEVENT
BEGIN:VEVENT
DTSTART;TZID=America/Los_Angeles:20240316T120000
DTEND;TZID=America/Los_Angeles:20240316T180000
DTSTAMP:20260420T171841
CREATED:20240217T162757Z
LAST-MODIFIED:20240217T162959Z
UID:10000386-1710590400-1710612000@sbhrf.net
SUMMARY:Los Alamitos Weekend of Art
DESCRIPTION:Accepting Art Applications until Friday\, March 8. \nPlease submit to Cassidy Figueroa at cfigueroa@cityoflosalamitos.org\nThis year’s event will be held at the Oak Middle School Multi-Purpose Room located at 10821 Oak St.\, Los Alamitos\, CA 90720 \nSaturday\, March 16th from 12:00 – 6:00 p.m. \n& \nSunday\, March 17th from 3:00 – 7:00 p.m. \nAward Ceremony to be held Sunday\, March 17 at 6:30 p.m. \nArt Drop Off Location: Oak Middle School – Multi Purpose Room. 10821 Oak Street\, Los Alamitos\, CA 90720 \nArt Drop off: Friday\, March 15 3:30-8:30 pm \nArtwork Pick Up: Sunday\, March 17 from 7:00 pm to 9:00 pm. \nArtwork not picked up 2 weeks after the conclusion of the event\, will be donated. \nObjective: Our goal is to produce a show that provides each exhibitor the opportunity to show his or her work\, supports the creation of original art and craft\, and fosters art appreciation. \nAbout the Exhibition: \n\nThe exhibition will be held at the Oak Middle School – Multi Purpose Room.\nThe facility is located at 10821 Oak Street\, Los Alamitos\, CA 90720\n\nExhibitions will be available for viewing: \n\n\n\nSaturday\, March 16\, 2024\, from 12:00 p.m. to 6:00 p.m.\nSunday\, March 17\, 2024 from 3:00 p.m. to 7:00 p.m.\n\n\n\n  \n\nThe City does not charge an exhibition fee or receive a commission.\nThe City’s insurance does not cover art exhibitions. Furthermore\, the City of Los Alamitos is not responsible for any damage\, loss\, or theft that may occur to Artist’s work while it is being displayed in the Community Center gallery.\nArtists must self-insure for damage\, loss\, or theft to their work.\nArtwork description cards will be placed next to the artwork. Cards will be created and provided by the City.\n\nAwards: \n\nA closing ceremony will be held on Sunday\, March 17 at 6:30 pm. Winners will receive a ribbon\, certificate\, and gift card to the Art Supply Warehouse in Westminster in Westminster.\n\n1st place – $100 gift card\n2nd place – $50 gift card\n3rd place – $25 gift card\n\n\nWinners will be contacted starting Saturday\, March 16 after the conclusion of judging. Winners will be contacted via phone and email and invited to participate in the closing ceremony at to receive their award in front of an audience and to be broadcasted on LosAl TV.\nDivisions include:\n\nMayor’s Award: 1st place\nCommissioner’s Award: 1st place\nPeople’s Choice Award: 1st place\n\n\n\nTwo Dimensional Awards: \n\nElementary Division (Pre-K-5th grade) Awards: 1st-3rd place\nMiddle School Division (6th-8th grade) Awards: 1st-3rd place\nHigh School Division(9th-12th grade) Awards: 1st-3rd place\nAdult (High School Graduate+) Division Awards: 1st-3rd place\nOlder Adults (60+) Division Awards: 1st-3rd place\n\nThree Dimensional Awards: \n\nElementary Division (Pre-K-5th grade) Awards: 1st-3rd place\nMiddle School Division (6th-8th grade) Awards: 1st-3rd place\nHigh School Division(9th-12th grade) Awards: 1st-3rd place\nAdult (High School Graduate+) Division Awards: 1st-3rd place\nOlder Adults (60+) Division Awards: 1st-3rd place
URL:https://sbhrf.net/event/los-alamitos-weekend-of-art/2024-03-16/
LOCATION:Oak Middle School – Multi-purpose Room\, 10821 Oak Street\, Los Alamitos\, 90720\, United States
ATTACH;FMTTYPE=image/png:https://sbhrf.net/wp-content/uploads/2024/02/2024-0316-Los-Al-Weekend-of-Art-1.png
END:VEVENT
BEGIN:VEVENT
DTSTART;VALUE=DATE:20240310
DTEND;VALUE=DATE:20240311
DTSTAMP:20260420T171841
CREATED:20240218T144733Z
LAST-MODIFIED:20240218T144733Z
UID:10000393-1710028800-1710115199@sbhrf.net
SUMMARY:Long Beach Earthquake strikes
DESCRIPTION:Today is the 91st anniversary of the Long Beach Earthquake which\, not surprisingly also did a lot of damage to neighboring Seal Beach\, knocking a number of houses off their foundations\, and sending many people fleeing a potential tsunami to the crests of The Hill and some fled even further inland.   The quake broke water lines and tap water was unavailable for a few days  The Navy sent over troops provide food and water at campsites across the street from City Hall\, and Mayor Elmer Hughes hauled in water from the Bixby ranches to the north of town.  One of the worst hit structures was the poorly constructed brick Tourist Hotel” at 125 Main Street which totally collapsed\, but fortunately\, it appears many of the hotel residents — ladies who engaged in more horizontal business pursuits — had been arrested the night before and were not on the premises. \nNoted town historian Michael Dobkins covered the earthquake in great detail and has many photos in his This Date in Seal Beach History blog.  Some of his writings can be read at the links below \n\nThe streets will Crack\, the pipes will pop\nOutdoor Dining Amidst the Rubble\nNow they’re just more bricks in the wall\nHow the earthquake impacted Bolsa Chica .
URL:https://sbhrf.net/event/long-beach-earthquake-strikes/
LOCATION:CA
CATEGORIES:Seal Beach History
ATTACH;FMTTYPE=image/png:https://sbhrf.net/wp-content/uploads/2024/02/On-This-Day-2024-0310-LB-Earthquake-1.png
END:VEVENT
BEGIN:VEVENT
DTSTART;VALUE=DATE:20240310
DTEND;VALUE=DATE:20240311
DTSTAMP:20260420T171841
CREATED:20240217T161838Z
LAST-MODIFIED:20240217T162326Z
UID:10000385-1710028800-1710115199@sbhrf.net
SUMMARY:Daylight Savings Time begins - Move your clocks forward
DESCRIPTION:
URL:https://sbhrf.net/event/daylight-savings-time-begins-move-your-clocks-forward/
LOCATION:CA
ATTACH;FMTTYPE=image/png:https://sbhrf.net/wp-content/uploads/2024/02/2024-0310-Daylight-Savings-begins-Spring-Forward-1.png
END:VEVENT
BEGIN:VEVENT
DTSTART;VALUE=DATE:20240307
DTEND;VALUE=DATE:20240308
DTSTAMP:20260420T171841
CREATED:20240217T154743Z
LAST-MODIFIED:20240218T140747Z
UID:10000384-1709769600-1709855999@sbhrf.net
SUMMARY:Rich Harbour opens first surfboard shop in Seal Beach
DESCRIPTION:On this day in 1962\, Rich Harbour opens his first surfboard shop at 502 Bolsa Avenue (now Marina Drive)\, using money lent to him by his parents.
URL:https://sbhrf.net/event/rich-harbour-opens-first-surfboard-shop/
LOCATION:CA
ATTACH;FMTTYPE=image/png:https://sbhrf.net/wp-content/uploads/2024/02/On-This-Day-2024-0307-Rich-Harbour-1.png
END:VEVENT
BEGIN:VEVENT
DTSTART;TZID=America/Los_Angeles:20240305T070000
DTEND;TZID=America/Los_Angeles:20240305T200000
DTSTAMP:20260420T171841
CREATED:20240217T170728Z
LAST-MODIFIED:20240217T170728Z
UID:10000390-1709622000-1709668800@sbhrf.net
SUMMARY:California Primary Election Day
DESCRIPTION:
URL:https://sbhrf.net/event/california-primary-election-day/
LOCATION:CA
ATTACH;FMTTYPE=image/png:https://sbhrf.net/wp-content/uploads/2024/02/2024-0305-Election-Day-1.png
END:VEVENT
BEGIN:VEVENT
DTSTART;TZID=America/Los_Angeles:20240228T173000
DTEND;TZID=America/Los_Angeles:20240228T190000
DTSTAMP:20260420T171841
CREATED:20240218T153811Z
LAST-MODIFIED:20240218T153812Z
UID:10000395-1709141400-1709146800@sbhrf.net
SUMMARY:Seal Beach Lifeguard Tryouts Information Night
DESCRIPTION:Seal Beach Lifeguard tryouts are on March 23rd at 08:00AM! Join our team and work as an ocean lifeguard this summer!\nFor additional information visit the link in the bio. \nAdditionally\, there will be a tryout information night on February 28th starting at 5:30PM. This is a great time to ask questions\, tour our facilities\, and meet some current lifeguards!\nRSVP is required for info night\, link is in the bio. Questions?? Call Lifeguard Headquarters@ 562-430-2613
URL:https://sbhrf.net/event/seal-beach-lifeguard-tryouts-2/
LOCATION:CA
ATTACH;FMTTYPE=image/png:https://sbhrf.net/wp-content/uploads/2024/02/2024-0323-SB-Lifeguard-Tryouts-1.png
END:VEVENT
BEGIN:VEVENT
DTSTART;TZID=America/Los_Angeles:20240221T120000
DTEND;TZID=America/Los_Angeles:20240221T133000
DTSTAMP:20260420T171841
CREATED:20240209T145843Z
LAST-MODIFIED:20240209T150006Z
UID:10000371-1708516800-1708522200@sbhrf.net
SUMMARY:SB Chamber - Let's Do Lunch
DESCRIPTION:Wednesday\, February 21st\nSB Chamber Lunch \n12:00 pm\nFinbars Italian Kitchen\n1041 PSC in SB\nPay online at www.sealbeachchamber.org
URL:https://sbhrf.net/event/sb-chamber-lets-do-lunch/
LOCATION:Finbar’s Italian Kitchen\, 1041 PCH\, Seal Beach\, CA\, CA\, 90740
CATEGORIES:SB Chamber
ATTACH;FMTTYPE=image/png:https://sbhrf.net/wp-content/uploads/2024/02/2024-0221-Lets-Do-Lunch-1.png
ORGANIZER;CN="Seal Beach Chamber of Commerce":MAILTO:nfo@sealbeachchamber.org
END:VEVENT
BEGIN:VEVENT
DTSTART;VALUE=DATE:20240220
DTEND;VALUE=DATE:20240221
DTSTAMP:20260420T171841
CREATED:20240217T170559Z
LAST-MODIFIED:20240217T170559Z
UID:10000389-1708387200-1708473599@sbhrf.net
SUMMARY:Last Day to Register to Vote (kind of...)
DESCRIPTION:
URL:https://sbhrf.net/event/last-day-to-register-to-vote-kind-of/
LOCATION:CA
ATTACH;FMTTYPE=image/png:https://sbhrf.net/wp-content/uploads/2024/02/2024-0220-Last-Day-to-Register-to-vote-1.png
END:VEVENT
BEGIN:VEVENT
DTSTART;VALUE=DATE:20240219
DTEND;VALUE=DATE:20240220
DTSTAMP:20260420T171841
CREATED:20240209T160442Z
LAST-MODIFIED:20240209T160442Z
UID:10000375-1708300800-1708387199@sbhrf.net
SUMMARY:President's Day
DESCRIPTION:
URL:https://sbhrf.net/event/presidents-day/
LOCATION:CA
ATTACH;FMTTYPE=image/jpeg:https://sbhrf.net/wp-content/uploads/2024/02/2024-0219-presidents-day-1.jpg
END:VEVENT
BEGIN:VEVENT
DTSTART;TZID=America/Los_Angeles:20240217T080000
DTEND;TZID=America/Los_Angeles:20240217T170000
DTSTAMP:20260420T171841
CREATED:20240217T154128Z
LAST-MODIFIED:20240217T154128Z
UID:10000383-1708156800-1708189200@sbhrf.net
SUMMARY:Los Alamitos celebrates its 64th birthday
DESCRIPTION:On this day in 1960\, residents of the community of Los Alamitos went to the polls to vote on whether or not to become a city.  Afraid that they might be gobbled up by fast-growing Garden Grove\, the residents came out and by a vote of 379 for and 251 opposed\, Los Alamitos became Orange County’s 22nd city.  The residents also voted in their first city council.  Chamber of Commerce President Jim Bell\, the man who had first led the campaign to reinvigorate the sleepy little town 13 years before\, received 401 votes\, followed by Chuck Long (398)\, Bill Brown (369)\, Frank Allen (359)\, and A.C. Brown (344).
URL:https://sbhrf.net/event/los-alamitos-celebrates-its-64th-birthday/
LOCATION:CA
ATTACH;FMTTYPE=image/png:https://sbhrf.net/wp-content/uploads/2024/02/1960-0224-Happy-Birthday-Los-Alamitos.png
END:VEVENT
BEGIN:VEVENT
DTSTART;TZID=America/Los_Angeles:20240216T180000
DTEND;TZID=America/Los_Angeles:20240216T220000
DTSTAMP:20260420T171841
CREATED:20240209T160848Z
LAST-MODIFIED:20240209T160848Z
UID:10000377-1708106400-1708120800@sbhrf.net
SUMMARY:Huggs & Chicken Nuggs - Kids Night Out
DESCRIPTION:
URL:https://sbhrf.net/event/huggs-chicken-nuggs-kids-night-out/
LOCATION:CA
ATTACH;FMTTYPE=image/jpeg:https://sbhrf.net/wp-content/uploads/2024/02/2024-0216-RHA-Kids-Night-Out-1.jpg
END:VEVENT
END:VCALENDAR