BEGIN:VCALENDAR
VERSION:2.0
PRODID:-//Seal Beach Historic Resources Foundation - ECPv6.15.17.1//NONSGML v1.0//EN
CALSCALE:GREGORIAN
METHOD:PUBLISH
X-ORIGINAL-URL:https://sbhrf.net
X-WR-CALDESC:Events for Seal Beach Historic Resources Foundation
REFRESH-INTERVAL;VALUE=DURATION:PT1H
X-Robots-Tag:noindex
X-PUBLISHED-TTL:PT1H
BEGIN:VTIMEZONE
TZID:America/Los_Angeles
BEGIN:DAYLIGHT
TZOFFSETFROM:-0800
TZOFFSETTO:-0700
TZNAME:PDT
DTSTART:20280312T100000
END:DAYLIGHT
BEGIN:STANDARD
TZOFFSETFROM:-0700
TZOFFSETTO:-0800
TZNAME:PST
DTSTART:20281105T090000
END:STANDARD
BEGIN:DAYLIGHT
TZOFFSETFROM:-0800
TZOFFSETTO:-0700
TZNAME:PDT
DTSTART:20290311T100000
END:DAYLIGHT
BEGIN:STANDARD
TZOFFSETFROM:-0700
TZOFFSETTO:-0800
TZNAME:PST
DTSTART:20291104T090000
END:STANDARD
BEGIN:DAYLIGHT
TZOFFSETFROM:-0800
TZOFFSETTO:-0700
TZNAME:PDT
DTSTART:20300310T100000
END:DAYLIGHT
BEGIN:STANDARD
TZOFFSETFROM:-0700
TZOFFSETTO:-0800
TZNAME:PST
DTSTART:20301103T090000
END:STANDARD
END:VTIMEZONE
BEGIN:VEVENT
DTSTART;TZID=America/Los_Angeles:20290108T180000
DTEND;TZID=America/Los_Angeles:20290108T210000
DTSTAMP:20260420T221335
CREATED:20241113T160828Z
LAST-MODIFIED:20241113T162103Z
UID:10001915-1862589600-1862600400@sbhrf.net
SUMMARY:Seal Beach City Council Meeting
DESCRIPTION:City Council and Planning Commission meetings can be viewed on SBTV-3 and on the City’s YouTube Channel. A recording of the meeting will be posted online within 24 hours of adjournment.
URL:https://sbhrf.net/event/seal-beach-city-council-meeting/2029-01-08/
LOCATION:CA
CATEGORIES:Government,Seal Beach
ATTACH;FMTTYPE=image/png:https://sbhrf.net/wp-content/uploads/2024/11/SB-City-Council-meeting-generic.png
END:VEVENT
BEGIN:VEVENT
DTSTART;TZID=America/Los_Angeles:20290109T190000
DTEND;TZID=America/Los_Angeles:20290109T210000
DTSTAMP:20260420T221335
CREATED:20240415T235559Z
LAST-MODIFIED:20240415T235559Z
UID:10000707-1862679600-1862686800@sbhrf.net
SUMMARY:Bogart's Coffee House - Open Mic Night
DESCRIPTION:
URL:https://sbhrf.net/event/bogarts-coffee-house-open-mic-night/2029-01-09/
LOCATION:Bogart’s Coffee House\, 905 Ocean Ave\, Seal Beach\, CA\, 90740\, United States
CATEGORIES:Music
ATTACH;FMTTYPE=image/png:https://sbhrf.net/wp-content/uploads/2024/04/2024-0502-Bogarts-Open-Mic-1.png
END:VEVENT
BEGIN:VEVENT
DTSTART;TZID=America/Los_Angeles:20290109T190000
DTEND;TZID=America/Los_Angeles:20290109T213000
DTSTAMP:20260420T221335
CREATED:20240509T184208Z
LAST-MODIFIED:20240509T184327Z
UID:10001048-1862679600-1862688600@sbhrf.net
SUMMARY:Trivia Night @ Marni's
DESCRIPTION:
URL:https://sbhrf.net/event/trivia-night-marnis/2029-01-09/
LOCATION:Marni’s\, 620 Pacific Coast Highway\, Seal Beach\, CA\, 90740
ATTACH;FMTTYPE=image/png:https://sbhrf.net/wp-content/uploads/2024/05/Marnis-Trivia.png
END:VEVENT
BEGIN:VEVENT
DTSTART;TZID=America/Los_Angeles:20290113T200000
DTEND;TZID=America/Los_Angeles:20290113T230000
DTSTAMP:20260420T221335
CREATED:20241122T152128Z
LAST-MODIFIED:20241122T152128Z
UID:10003011-1863028800-1863039600@sbhrf.net
SUMMARY:GRIFFINS GRILL:  Saturday Night Live
DESCRIPTION:
URL:https://sbhrf.net/event/griffins-grill-saturday-night-live/2029-01-13/
LOCATION:Griffins Grill\, 11272 Los Alamitos Blvd.\, Los Alamitos\, CA\, 90740\, United States
CATEGORIES:Los Alamitos,Music
END:VEVENT
BEGIN:VEVENT
DTSTART;TZID=America/Los_Angeles:20290114T180000
DTEND;TZID=America/Los_Angeles:20290114T200000
DTSTAMP:20260420T221335
CREATED:20241122T145107Z
LAST-MODIFIED:20241122T151410Z
UID:10002749-1863108000-1863115200@sbhrf.net
SUMMARY:American Legion Hall:  Open Mic Night
DESCRIPTION:Calling all music lovers!\nWhether you’re an aspiring musician or just want to join some great tunes\, come join our open jam sessions.  Bring your instrument and play a few songs. \nMicrophones and speakers will be provided\, so just bring your talent and energy! \nStarting Nov. 3.  Every Sunday!
URL:https://sbhrf.net/event/american-legion-hall-open-mic-night/2029-01-14/
LOCATION:American Legion Post 716\, 3252 Florista Street\, Los Angeles\, CA\, 90720\, United States
CATEGORIES:Music,Nonprofits
ATTACH;FMTTYPE=image/png:https://sbhrf.net/wp-content/uploads/2024/11/AmLegion-Open-Mic.png
ORGANIZER;CN="American Legion Post 716":MAILTO:info@losalamitospost716.org
END:VEVENT
BEGIN:VEVENT
DTSTART;TZID=America/Los_Angeles:20290115T180000
DTEND;TZID=America/Los_Angeles:20290115T210000
DTSTAMP:20260420T221335
CREATED:20241113T163121Z
LAST-MODIFIED:20241113T163121Z
UID:10002095-1863194400-1863205200@sbhrf.net
SUMMARY:GOVERNMENT:  Los Alamitos City Council Meeting
DESCRIPTION:
URL:https://sbhrf.net/event/government-los-alamitos-city-council-meeting/2029-01-15/
LOCATION:CA
CATEGORIES:Government,Los Alamitos
ATTACH;FMTTYPE=image/png:https://sbhrf.net/wp-content/uploads/2024/11/Los-Al-City-Council-meeting-generic.png
END:VEVENT
BEGIN:VEVENT
DTSTART;TZID=America/Los_Angeles:20290116T190000
DTEND;TZID=America/Los_Angeles:20290116T210000
DTSTAMP:20260420T221335
CREATED:20240415T235559Z
LAST-MODIFIED:20240415T235559Z
UID:10000708-1863284400-1863291600@sbhrf.net
SUMMARY:Bogart's Coffee House - Open Mic Night
DESCRIPTION:
URL:https://sbhrf.net/event/bogarts-coffee-house-open-mic-night/2029-01-16/
LOCATION:Bogart’s Coffee House\, 905 Ocean Ave\, Seal Beach\, CA\, 90740\, United States
CATEGORIES:Music
ATTACH;FMTTYPE=image/png:https://sbhrf.net/wp-content/uploads/2024/04/2024-0502-Bogarts-Open-Mic-1.png
END:VEVENT
BEGIN:VEVENT
DTSTART;TZID=America/Los_Angeles:20290116T190000
DTEND;TZID=America/Los_Angeles:20290116T213000
DTSTAMP:20260420T221335
CREATED:20240509T184208Z
LAST-MODIFIED:20240509T184327Z
UID:10001049-1863284400-1863293400@sbhrf.net
SUMMARY:Trivia Night @ Marni's
DESCRIPTION:
URL:https://sbhrf.net/event/trivia-night-marnis/2029-01-16/
LOCATION:Marni’s\, 620 Pacific Coast Highway\, Seal Beach\, CA\, 90740
ATTACH;FMTTYPE=image/png:https://sbhrf.net/wp-content/uploads/2024/05/Marnis-Trivia.png
END:VEVENT
BEGIN:VEVENT
DTSTART;TZID=America/Los_Angeles:20290117T090000
DTEND;TZID=America/Los_Angeles:20290117T150000
DTSTAMP:20260420T221335
CREATED:20241112T184032Z
LAST-MODIFIED:20241112T184032Z
UID:10001585-1863334800-1863356400@sbhrf.net
SUMMARY:RHA / Red Cross Blood Drive
DESCRIPTION:Through the generosity of volunteer blood donors at Red Cross Blood Drives\, the American Red Cross helps millions of patients in over 2\,600 hospitals across the country each year. Patients receiving treatment for cancer or blood disorders\, those undergoing transplant surgery\, mothers suffering from birthing complications\, and premature babies are all examples of patients who need blood. Chances are you know someone who has needed or currently needs blood. \nIn less than an hour’s time\, you can help save up to three lives with a blood donation. And right here in Rossmoor at our monthly Rossmoor Red Cross Blood Drive at Rush Park. \nRemember: \n\n\n\n\n\nEvery 2 seconds someone in America needs blood\n14\,000 units of blood need to be collected by the Red Cross each day\n\n\n\n\n\nPlease join us in giving the gift of life.  Register here
URL:https://sbhrf.net/event/rha-red-cross-blood-drive/2029-01-17/
LOCATION:Rush Park Auditorium\, 3021 Blume Ave\, Rossmoor\, 90720\, United States
CATEGORIES:Rossmoor
ATTACH;FMTTYPE=image/png:https://sbhrf.net/wp-content/uploads/2024/11/Rossmoor-Red-Cross-Blood-Drive-undated-3-1.png
END:VEVENT
BEGIN:VEVENT
DTSTART;TZID=America/Los_Angeles:20290120T200000
DTEND;TZID=America/Los_Angeles:20290120T230000
DTSTAMP:20260420T221335
CREATED:20241122T152128Z
LAST-MODIFIED:20241122T152128Z
UID:10003012-1863633600-1863644400@sbhrf.net
SUMMARY:GRIFFINS GRILL:  Saturday Night Live
DESCRIPTION:
URL:https://sbhrf.net/event/griffins-grill-saturday-night-live/2029-01-20/
LOCATION:Griffins Grill\, 11272 Los Alamitos Blvd.\, Los Alamitos\, CA\, 90740\, United States
CATEGORIES:Los Alamitos,Music
END:VEVENT
BEGIN:VEVENT
DTSTART;TZID=America/Los_Angeles:20290121T180000
DTEND;TZID=America/Los_Angeles:20290121T200000
DTSTAMP:20260420T221335
CREATED:20241122T145107Z
LAST-MODIFIED:20241122T151410Z
UID:10002750-1863712800-1863720000@sbhrf.net
SUMMARY:American Legion Hall:  Open Mic Night
DESCRIPTION:Calling all music lovers!\nWhether you’re an aspiring musician or just want to join some great tunes\, come join our open jam sessions.  Bring your instrument and play a few songs. \nMicrophones and speakers will be provided\, so just bring your talent and energy! \nStarting Nov. 3.  Every Sunday!
URL:https://sbhrf.net/event/american-legion-hall-open-mic-night/2029-01-21/
LOCATION:American Legion Post 716\, 3252 Florista Street\, Los Angeles\, CA\, 90720\, United States
CATEGORIES:Music,Nonprofits
ATTACH;FMTTYPE=image/png:https://sbhrf.net/wp-content/uploads/2024/11/AmLegion-Open-Mic.png
ORGANIZER;CN="American Legion Post 716":MAILTO:info@losalamitospost716.org
END:VEVENT
BEGIN:VEVENT
DTSTART;TZID=America/Los_Angeles:20290122T180000
DTEND;TZID=America/Los_Angeles:20290122T210000
DTSTAMP:20260420T221335
CREATED:20241113T161442Z
LAST-MODIFIED:20241113T162246Z
UID:10002035-1863799200-1863810000@sbhrf.net
SUMMARY:Seal Beach City Council Meeting
DESCRIPTION:City Council and Planning Commission meetings can be viewed on SBTV-3 and on the City’s YouTube Channel. A recording of the meeting will be posted online within 24 hours of adjournment.
URL:https://sbhrf.net/event/seal-beach-city-council-meeting-2/2029-01-22/
LOCATION:CA
CATEGORIES:Government,Seal Beach
ATTACH;FMTTYPE=image/png:https://sbhrf.net/wp-content/uploads/2024/11/SB-City-Council-meeting-generic.png
END:VEVENT
BEGIN:VEVENT
DTSTART;TZID=America/Los_Angeles:20290123T190000
DTEND;TZID=America/Los_Angeles:20290123T210000
DTSTAMP:20260420T221335
CREATED:20240415T235559Z
LAST-MODIFIED:20240415T235559Z
UID:10000709-1863889200-1863896400@sbhrf.net
SUMMARY:Bogart's Coffee House - Open Mic Night
DESCRIPTION:
URL:https://sbhrf.net/event/bogarts-coffee-house-open-mic-night/2029-01-23/
LOCATION:Bogart’s Coffee House\, 905 Ocean Ave\, Seal Beach\, CA\, 90740\, United States
CATEGORIES:Music
ATTACH;FMTTYPE=image/png:https://sbhrf.net/wp-content/uploads/2024/04/2024-0502-Bogarts-Open-Mic-1.png
END:VEVENT
BEGIN:VEVENT
DTSTART;TZID=America/Los_Angeles:20290123T190000
DTEND;TZID=America/Los_Angeles:20290123T213000
DTSTAMP:20260420T221335
CREATED:20240509T184208Z
LAST-MODIFIED:20240509T184327Z
UID:10001050-1863889200-1863898200@sbhrf.net
SUMMARY:Trivia Night @ Marni's
DESCRIPTION:
URL:https://sbhrf.net/event/trivia-night-marnis/2029-01-23/
LOCATION:Marni’s\, 620 Pacific Coast Highway\, Seal Beach\, CA\, 90740
ATTACH;FMTTYPE=image/png:https://sbhrf.net/wp-content/uploads/2024/05/Marnis-Trivia.png
END:VEVENT
BEGIN:VEVENT
DTSTART;TZID=America/Los_Angeles:20290126T180000
DTEND;TZID=America/Los_Angeles:20290126T193000
DTSTAMP:20260420T221335
CREATED:20260319T225422Z
LAST-MODIFIED:20260319T225604Z
UID:10003184-1864144800-1864150200@sbhrf.net
SUMMARY:Steak Night at the American Legion
DESCRIPTION:Friday\, March 27th \nSteak Night at the American Legion! \n6-7:30 pm\n$22
URL:https://sbhrf.net/event/steak-night-at-the-american-legion/2029-01-26/
LOCATION:American Legion Post 716\, 3252 Florista Street\, Los Angeles\, CA\, 90720\, United States
CATEGORIES:Nonprofits
ATTACH;FMTTYPE=image/jpeg:https://ci3.googleusercontent.com/meips/ADKq_NbLZ9pkMbIpqPUas-9oVhzScQQc1901GTYr5VwtP9LrLRw8ipsmkji7UuLgeUHPMET6R9OEDrRfsW4Mo9FxuZ0XtnQKF02DVsNDYiB6W3fQ7xq-SdgVmAHgfgw9rl54T3gqyoCftKCdpndjTFM7z0_0LQ-Bx30Te8D4HUFEH5E=s0-d-e1-ft#https://mcusercontent.com/26736b74912e9c9f2ba46f742/_compresseds/cd55f229-0508-da0b-cefc-257d74fdcf30.jpg
ORGANIZER;CN="American Legion Post 716":MAILTO:info@losalamitospost716.org
END:VEVENT
BEGIN:VEVENT
DTSTART;TZID=America/Los_Angeles:20290127T200000
DTEND;TZID=America/Los_Angeles:20290127T230000
DTSTAMP:20260420T221335
CREATED:20241122T152128Z
LAST-MODIFIED:20241122T152128Z
UID:10003013-1864238400-1864249200@sbhrf.net
SUMMARY:GRIFFINS GRILL:  Saturday Night Live
DESCRIPTION:
URL:https://sbhrf.net/event/griffins-grill-saturday-night-live/2029-01-27/
LOCATION:Griffins Grill\, 11272 Los Alamitos Blvd.\, Los Alamitos\, CA\, 90740\, United States
CATEGORIES:Los Alamitos,Music
END:VEVENT
BEGIN:VEVENT
DTSTART;TZID=America/Los_Angeles:20290128T180000
DTEND;TZID=America/Los_Angeles:20290128T200000
DTSTAMP:20260420T221335
CREATED:20241122T145107Z
LAST-MODIFIED:20241122T151410Z
UID:10002751-1864317600-1864324800@sbhrf.net
SUMMARY:American Legion Hall:  Open Mic Night
DESCRIPTION:Calling all music lovers!\nWhether you’re an aspiring musician or just want to join some great tunes\, come join our open jam sessions.  Bring your instrument and play a few songs. \nMicrophones and speakers will be provided\, so just bring your talent and energy! \nStarting Nov. 3.  Every Sunday!
URL:https://sbhrf.net/event/american-legion-hall-open-mic-night/2029-01-28/
LOCATION:American Legion Post 716\, 3252 Florista Street\, Los Angeles\, CA\, 90720\, United States
CATEGORIES:Music,Nonprofits
ATTACH;FMTTYPE=image/png:https://sbhrf.net/wp-content/uploads/2024/11/AmLegion-Open-Mic.png
ORGANIZER;CN="American Legion Post 716":MAILTO:info@losalamitospost716.org
END:VEVENT
BEGIN:VEVENT
DTSTART;TZID=America/Los_Angeles:20290130T190000
DTEND;TZID=America/Los_Angeles:20290130T210000
DTSTAMP:20260420T221335
CREATED:20240415T235559Z
LAST-MODIFIED:20240415T235559Z
UID:10000710-1864494000-1864501200@sbhrf.net
SUMMARY:Bogart's Coffee House - Open Mic Night
DESCRIPTION:
URL:https://sbhrf.net/event/bogarts-coffee-house-open-mic-night/2029-01-30/
LOCATION:Bogart’s Coffee House\, 905 Ocean Ave\, Seal Beach\, CA\, 90740\, United States
CATEGORIES:Music
ATTACH;FMTTYPE=image/png:https://sbhrf.net/wp-content/uploads/2024/04/2024-0502-Bogarts-Open-Mic-1.png
END:VEVENT
BEGIN:VEVENT
DTSTART;TZID=America/Los_Angeles:20290130T190000
DTEND;TZID=America/Los_Angeles:20290130T213000
DTSTAMP:20260420T221335
CREATED:20240509T184208Z
LAST-MODIFIED:20240509T184327Z
UID:10001051-1864494000-1864503000@sbhrf.net
SUMMARY:Trivia Night @ Marni's
DESCRIPTION:
URL:https://sbhrf.net/event/trivia-night-marnis/2029-01-30/
LOCATION:Marni’s\, 620 Pacific Coast Highway\, Seal Beach\, CA\, 90740
ATTACH;FMTTYPE=image/png:https://sbhrf.net/wp-content/uploads/2024/05/Marnis-Trivia.png
END:VEVENT
BEGIN:VEVENT
DTSTART;TZID=America/Los_Angeles:20290203T200000
DTEND;TZID=America/Los_Angeles:20290203T230000
DTSTAMP:20260420T221335
CREATED:20241122T152128Z
LAST-MODIFIED:20241122T152128Z
UID:10003014-1864843200-1864854000@sbhrf.net
SUMMARY:GRIFFINS GRILL:  Saturday Night Live
DESCRIPTION:
URL:https://sbhrf.net/event/griffins-grill-saturday-night-live/2029-02-03/
LOCATION:Griffins Grill\, 11272 Los Alamitos Blvd.\, Los Alamitos\, CA\, 90740\, United States
CATEGORIES:Los Alamitos,Music
END:VEVENT
BEGIN:VEVENT
DTSTART;TZID=America/Los_Angeles:20290204T180000
DTEND;TZID=America/Los_Angeles:20290204T200000
DTSTAMP:20260420T221335
CREATED:20241122T145107Z
LAST-MODIFIED:20241122T151410Z
UID:10002752-1864922400-1864929600@sbhrf.net
SUMMARY:American Legion Hall:  Open Mic Night
DESCRIPTION:Calling all music lovers!\nWhether you’re an aspiring musician or just want to join some great tunes\, come join our open jam sessions.  Bring your instrument and play a few songs. \nMicrophones and speakers will be provided\, so just bring your talent and energy! \nStarting Nov. 3.  Every Sunday!
URL:https://sbhrf.net/event/american-legion-hall-open-mic-night/2029-02-04/
LOCATION:American Legion Post 716\, 3252 Florista Street\, Los Angeles\, CA\, 90720\, United States
CATEGORIES:Music,Nonprofits
ATTACH;FMTTYPE=image/png:https://sbhrf.net/wp-content/uploads/2024/11/AmLegion-Open-Mic.png
ORGANIZER;CN="American Legion Post 716":MAILTO:info@losalamitospost716.org
END:VEVENT
BEGIN:VEVENT
DTSTART;TZID=America/Los_Angeles:20290206T190000
DTEND;TZID=America/Los_Angeles:20290206T210000
DTSTAMP:20260420T221335
CREATED:20240415T235559Z
LAST-MODIFIED:20240415T235559Z
UID:10000711-1865098800-1865106000@sbhrf.net
SUMMARY:Bogart's Coffee House - Open Mic Night
DESCRIPTION:
URL:https://sbhrf.net/event/bogarts-coffee-house-open-mic-night/2029-02-06/
LOCATION:Bogart’s Coffee House\, 905 Ocean Ave\, Seal Beach\, CA\, 90740\, United States
CATEGORIES:Music
ATTACH;FMTTYPE=image/png:https://sbhrf.net/wp-content/uploads/2024/04/2024-0502-Bogarts-Open-Mic-1.png
END:VEVENT
BEGIN:VEVENT
DTSTART;TZID=America/Los_Angeles:20290206T190000
DTEND;TZID=America/Los_Angeles:20290206T213000
DTSTAMP:20260420T221335
CREATED:20240509T184208Z
LAST-MODIFIED:20240509T184327Z
UID:10001052-1865098800-1865107800@sbhrf.net
SUMMARY:Trivia Night @ Marni's
DESCRIPTION:
URL:https://sbhrf.net/event/trivia-night-marnis/2029-02-06/
LOCATION:Marni’s\, 620 Pacific Coast Highway\, Seal Beach\, CA\, 90740
ATTACH;FMTTYPE=image/png:https://sbhrf.net/wp-content/uploads/2024/05/Marnis-Trivia.png
END:VEVENT
BEGIN:VEVENT
DTSTART;TZID=America/Los_Angeles:20290210T200000
DTEND;TZID=America/Los_Angeles:20290210T230000
DTSTAMP:20260420T221335
CREATED:20241122T152128Z
LAST-MODIFIED:20241122T152128Z
UID:10003015-1865448000-1865458800@sbhrf.net
SUMMARY:GRIFFINS GRILL:  Saturday Night Live
DESCRIPTION:
URL:https://sbhrf.net/event/griffins-grill-saturday-night-live/2029-02-10/
LOCATION:Griffins Grill\, 11272 Los Alamitos Blvd.\, Los Alamitos\, CA\, 90740\, United States
CATEGORIES:Los Alamitos,Music
END:VEVENT
BEGIN:VEVENT
DTSTART;TZID=America/Los_Angeles:20290211T180000
DTEND;TZID=America/Los_Angeles:20290211T200000
DTSTAMP:20260420T221335
CREATED:20241122T145107Z
LAST-MODIFIED:20241122T151410Z
UID:10002753-1865527200-1865534400@sbhrf.net
SUMMARY:American Legion Hall:  Open Mic Night
DESCRIPTION:Calling all music lovers!\nWhether you’re an aspiring musician or just want to join some great tunes\, come join our open jam sessions.  Bring your instrument and play a few songs. \nMicrophones and speakers will be provided\, so just bring your talent and energy! \nStarting Nov. 3.  Every Sunday!
URL:https://sbhrf.net/event/american-legion-hall-open-mic-night/2029-02-11/
LOCATION:American Legion Post 716\, 3252 Florista Street\, Los Angeles\, CA\, 90720\, United States
CATEGORIES:Music,Nonprofits
ATTACH;FMTTYPE=image/png:https://sbhrf.net/wp-content/uploads/2024/11/AmLegion-Open-Mic.png
ORGANIZER;CN="American Legion Post 716":MAILTO:info@losalamitospost716.org
END:VEVENT
BEGIN:VEVENT
DTSTART;TZID=America/Los_Angeles:20290212T180000
DTEND;TZID=America/Los_Angeles:20290212T210000
DTSTAMP:20260420T221335
CREATED:20241113T160828Z
LAST-MODIFIED:20241113T162103Z
UID:10001916-1865613600-1865624400@sbhrf.net
SUMMARY:Seal Beach City Council Meeting
DESCRIPTION:City Council and Planning Commission meetings can be viewed on SBTV-3 and on the City’s YouTube Channel. A recording of the meeting will be posted online within 24 hours of adjournment.
URL:https://sbhrf.net/event/seal-beach-city-council-meeting/2029-02-12/
LOCATION:CA
CATEGORIES:Government,Seal Beach
ATTACH;FMTTYPE=image/png:https://sbhrf.net/wp-content/uploads/2024/11/SB-City-Council-meeting-generic.png
END:VEVENT
BEGIN:VEVENT
DTSTART;TZID=America/Los_Angeles:20290213T190000
DTEND;TZID=America/Los_Angeles:20290213T210000
DTSTAMP:20260420T221335
CREATED:20240415T235559Z
LAST-MODIFIED:20240415T235559Z
UID:10000712-1865703600-1865710800@sbhrf.net
SUMMARY:Bogart's Coffee House - Open Mic Night
DESCRIPTION:
URL:https://sbhrf.net/event/bogarts-coffee-house-open-mic-night/2029-02-13/
LOCATION:Bogart’s Coffee House\, 905 Ocean Ave\, Seal Beach\, CA\, 90740\, United States
CATEGORIES:Music
ATTACH;FMTTYPE=image/png:https://sbhrf.net/wp-content/uploads/2024/04/2024-0502-Bogarts-Open-Mic-1.png
END:VEVENT
BEGIN:VEVENT
DTSTART;TZID=America/Los_Angeles:20290213T190000
DTEND;TZID=America/Los_Angeles:20290213T213000
DTSTAMP:20260420T221335
CREATED:20240509T184208Z
LAST-MODIFIED:20240509T184327Z
UID:10001053-1865703600-1865712600@sbhrf.net
SUMMARY:Trivia Night @ Marni's
DESCRIPTION:
URL:https://sbhrf.net/event/trivia-night-marnis/2029-02-13/
LOCATION:Marni’s\, 620 Pacific Coast Highway\, Seal Beach\, CA\, 90740
ATTACH;FMTTYPE=image/png:https://sbhrf.net/wp-content/uploads/2024/05/Marnis-Trivia.png
END:VEVENT
BEGIN:VEVENT
DTSTART;TZID=America/Los_Angeles:20290217T200000
DTEND;TZID=America/Los_Angeles:20290217T230000
DTSTAMP:20260420T221335
CREATED:20241122T152128Z
LAST-MODIFIED:20241122T152128Z
UID:10003016-1866052800-1866063600@sbhrf.net
SUMMARY:GRIFFINS GRILL:  Saturday Night Live
DESCRIPTION:
URL:https://sbhrf.net/event/griffins-grill-saturday-night-live/2029-02-17/
LOCATION:Griffins Grill\, 11272 Los Alamitos Blvd.\, Los Alamitos\, CA\, 90740\, United States
CATEGORIES:Los Alamitos,Music
END:VEVENT
BEGIN:VEVENT
DTSTART;TZID=America/Los_Angeles:20290218T180000
DTEND;TZID=America/Los_Angeles:20290218T200000
DTSTAMP:20260420T221335
CREATED:20241122T145107Z
LAST-MODIFIED:20241122T151410Z
UID:10002754-1866132000-1866139200@sbhrf.net
SUMMARY:American Legion Hall:  Open Mic Night
DESCRIPTION:Calling all music lovers!\nWhether you’re an aspiring musician or just want to join some great tunes\, come join our open jam sessions.  Bring your instrument and play a few songs. \nMicrophones and speakers will be provided\, so just bring your talent and energy! \nStarting Nov. 3.  Every Sunday!
URL:https://sbhrf.net/event/american-legion-hall-open-mic-night/2029-02-18/
LOCATION:American Legion Post 716\, 3252 Florista Street\, Los Angeles\, CA\, 90720\, United States
CATEGORIES:Music,Nonprofits
ATTACH;FMTTYPE=image/png:https://sbhrf.net/wp-content/uploads/2024/11/AmLegion-Open-Mic.png
ORGANIZER;CN="American Legion Post 716":MAILTO:info@losalamitospost716.org
END:VEVENT
END:VCALENDAR