BEGIN:VCALENDAR
VERSION:2.0
PRODID:-//Seal Beach Historic Resources Foundation - ECPv6.15.17.1//NONSGML v1.0//EN
CALSCALE:GREGORIAN
METHOD:PUBLISH
X-ORIGINAL-URL:https://sbhrf.net
X-WR-CALDESC:Events for Seal Beach Historic Resources Foundation
REFRESH-INTERVAL;VALUE=DURATION:PT1H
X-Robots-Tag:noindex
X-PUBLISHED-TTL:PT1H
BEGIN:VTIMEZONE
TZID:America/Los_Angeles
BEGIN:DAYLIGHT
TZOFFSETFROM:-0800
TZOFFSETTO:-0700
TZNAME:PDT
DTSTART:20260308T100000
END:DAYLIGHT
BEGIN:STANDARD
TZOFFSETFROM:-0700
TZOFFSETTO:-0800
TZNAME:PST
DTSTART:20261101T090000
END:STANDARD
BEGIN:DAYLIGHT
TZOFFSETFROM:-0800
TZOFFSETTO:-0700
TZNAME:PDT
DTSTART:20270314T100000
END:DAYLIGHT
BEGIN:STANDARD
TZOFFSETFROM:-0700
TZOFFSETTO:-0800
TZNAME:PST
DTSTART:20271107T090000
END:STANDARD
BEGIN:DAYLIGHT
TZOFFSETFROM:-0800
TZOFFSETTO:-0700
TZNAME:PDT
DTSTART:20280312T100000
END:DAYLIGHT
BEGIN:STANDARD
TZOFFSETFROM:-0700
TZOFFSETTO:-0800
TZNAME:PST
DTSTART:20281105T090000
END:STANDARD
END:VTIMEZONE
BEGIN:VEVENT
DTSTART;TZID=America/Los_Angeles:20270814T200000
DTEND;TZID=America/Los_Angeles:20270814T230000
DTSTAMP:20260419T222937
CREATED:20241122T152128Z
LAST-MODIFIED:20241122T152128Z
UID:10002937-1818273600-1818284400@sbhrf.net
SUMMARY:GRIFFINS GRILL:  Saturday Night Live
DESCRIPTION:
URL:https://sbhrf.net/event/griffins-grill-saturday-night-live/2027-08-14/
LOCATION:Griffins Grill\, 11272 Los Alamitos Blvd.\, Los Alamitos\, CA\, 90740\, United States
CATEGORIES:Los Alamitos,Music
END:VEVENT
BEGIN:VEVENT
DTSTART;TZID=America/Los_Angeles:20270815T180000
DTEND;TZID=America/Los_Angeles:20270815T200000
DTSTAMP:20260419T222937
CREATED:20241122T145107Z
LAST-MODIFIED:20241122T151410Z
UID:10002675-1818352800-1818360000@sbhrf.net
SUMMARY:American Legion Hall:  Open Mic Night
DESCRIPTION:Calling all music lovers!\nWhether you’re an aspiring musician or just want to join some great tunes\, come join our open jam sessions.  Bring your instrument and play a few songs. \nMicrophones and speakers will be provided\, so just bring your talent and energy! \nStarting Nov. 3.  Every Sunday!
URL:https://sbhrf.net/event/american-legion-hall-open-mic-night/2027-08-15/
LOCATION:American Legion Post 716\, 3252 Florista Street\, Los Angeles\, CA\, 90720\, United States
CATEGORIES:Music,Nonprofits
ATTACH;FMTTYPE=image/png:https://sbhrf.net/wp-content/uploads/2024/11/AmLegion-Open-Mic.png
ORGANIZER;CN="American Legion Post 716":MAILTO:info@losalamitospost716.org
END:VEVENT
BEGIN:VEVENT
DTSTART;TZID=America/Los_Angeles:20270816T180000
DTEND;TZID=America/Los_Angeles:20270816T210000
DTSTAMP:20260419T222937
CREATED:20241113T163121Z
LAST-MODIFIED:20241113T163121Z
UID:10002078-1818439200-1818450000@sbhrf.net
SUMMARY:GOVERNMENT:  Los Alamitos City Council Meeting
DESCRIPTION:
URL:https://sbhrf.net/event/government-los-alamitos-city-council-meeting/2027-08-16/
LOCATION:CA
CATEGORIES:Government,Los Alamitos
ATTACH;FMTTYPE=image/png:https://sbhrf.net/wp-content/uploads/2024/11/Los-Al-City-Council-meeting-generic.png
END:VEVENT
BEGIN:VEVENT
DTSTART;TZID=America/Los_Angeles:20270817T190000
DTEND;TZID=America/Los_Angeles:20270817T210000
DTSTAMP:20260419T222937
CREATED:20240415T235559Z
LAST-MODIFIED:20240415T235559Z
UID:10000634-1818529200-1818536400@sbhrf.net
SUMMARY:Bogart's Coffee House - Open Mic Night
DESCRIPTION:
URL:https://sbhrf.net/event/bogarts-coffee-house-open-mic-night/2027-08-17/
LOCATION:Bogart’s Coffee House\, 905 Ocean Ave\, Seal Beach\, CA\, 90740\, United States
CATEGORIES:Music
ATTACH;FMTTYPE=image/png:https://sbhrf.net/wp-content/uploads/2024/04/2024-0502-Bogarts-Open-Mic-1.png
END:VEVENT
BEGIN:VEVENT
DTSTART;TZID=America/Los_Angeles:20270817T190000
DTEND;TZID=America/Los_Angeles:20270817T213000
DTSTAMP:20260419T222937
CREATED:20240509T184208Z
LAST-MODIFIED:20240509T184327Z
UID:10000975-1818529200-1818538200@sbhrf.net
SUMMARY:Trivia Night @ Marni's
DESCRIPTION:
URL:https://sbhrf.net/event/trivia-night-marnis/2027-08-17/
LOCATION:Marni’s\, 620 Pacific Coast Highway\, Seal Beach\, CA\, 90740
ATTACH;FMTTYPE=image/png:https://sbhrf.net/wp-content/uploads/2024/05/Marnis-Trivia.png
END:VEVENT
BEGIN:VEVENT
DTSTART;TZID=America/Los_Angeles:20270818T090000
DTEND;TZID=America/Los_Angeles:20270818T150000
DTSTAMP:20260419T222937
CREATED:20241112T184032Z
LAST-MODIFIED:20241112T184032Z
UID:10001568-1818579600-1818601200@sbhrf.net
SUMMARY:RHA / Red Cross Blood Drive
DESCRIPTION:Through the generosity of volunteer blood donors at Red Cross Blood Drives\, the American Red Cross helps millions of patients in over 2\,600 hospitals across the country each year. Patients receiving treatment for cancer or blood disorders\, those undergoing transplant surgery\, mothers suffering from birthing complications\, and premature babies are all examples of patients who need blood. Chances are you know someone who has needed or currently needs blood. \nIn less than an hour’s time\, you can help save up to three lives with a blood donation. And right here in Rossmoor at our monthly Rossmoor Red Cross Blood Drive at Rush Park. \nRemember: \n\n\n\n\n\nEvery 2 seconds someone in America needs blood\n14\,000 units of blood need to be collected by the Red Cross each day\n\n\n\n\n\nPlease join us in giving the gift of life.  Register here
URL:https://sbhrf.net/event/rha-red-cross-blood-drive/2027-08-18/
LOCATION:Rush Park Auditorium\, 3021 Blume Ave\, Rossmoor\, 90720\, United States
CATEGORIES:Rossmoor
ATTACH;FMTTYPE=image/png:https://sbhrf.net/wp-content/uploads/2024/11/Rossmoor-Red-Cross-Blood-Drive-undated-3-1.png
END:VEVENT
BEGIN:VEVENT
DTSTART;TZID=America/Los_Angeles:20270821T200000
DTEND;TZID=America/Los_Angeles:20270821T230000
DTSTAMP:20260419T222937
CREATED:20241122T152128Z
LAST-MODIFIED:20241122T152128Z
UID:10002938-1818878400-1818889200@sbhrf.net
SUMMARY:GRIFFINS GRILL:  Saturday Night Live
DESCRIPTION:
URL:https://sbhrf.net/event/griffins-grill-saturday-night-live/2027-08-21/
LOCATION:Griffins Grill\, 11272 Los Alamitos Blvd.\, Los Alamitos\, CA\, 90740\, United States
CATEGORIES:Los Alamitos,Music
END:VEVENT
BEGIN:VEVENT
DTSTART;TZID=America/Los_Angeles:20270822T180000
DTEND;TZID=America/Los_Angeles:20270822T200000
DTSTAMP:20260419T222937
CREATED:20241122T145107Z
LAST-MODIFIED:20241122T151410Z
UID:10002676-1818957600-1818964800@sbhrf.net
SUMMARY:American Legion Hall:  Open Mic Night
DESCRIPTION:Calling all music lovers!\nWhether you’re an aspiring musician or just want to join some great tunes\, come join our open jam sessions.  Bring your instrument and play a few songs. \nMicrophones and speakers will be provided\, so just bring your talent and energy! \nStarting Nov. 3.  Every Sunday!
URL:https://sbhrf.net/event/american-legion-hall-open-mic-night/2027-08-22/
LOCATION:American Legion Post 716\, 3252 Florista Street\, Los Angeles\, CA\, 90720\, United States
CATEGORIES:Music,Nonprofits
ATTACH;FMTTYPE=image/png:https://sbhrf.net/wp-content/uploads/2024/11/AmLegion-Open-Mic.png
ORGANIZER;CN="American Legion Post 716":MAILTO:info@losalamitospost716.org
END:VEVENT
BEGIN:VEVENT
DTSTART;TZID=America/Los_Angeles:20270823T180000
DTEND;TZID=America/Los_Angeles:20270823T210000
DTSTAMP:20260419T222937
CREATED:20241113T161442Z
LAST-MODIFIED:20241113T162246Z
UID:10002018-1819044000-1819054800@sbhrf.net
SUMMARY:Seal Beach City Council Meeting
DESCRIPTION:City Council and Planning Commission meetings can be viewed on SBTV-3 and on the City’s YouTube Channel. A recording of the meeting will be posted online within 24 hours of adjournment.
URL:https://sbhrf.net/event/seal-beach-city-council-meeting-2/2027-08-23/
LOCATION:CA
CATEGORIES:Government,Seal Beach
ATTACH;FMTTYPE=image/png:https://sbhrf.net/wp-content/uploads/2024/11/SB-City-Council-meeting-generic.png
END:VEVENT
BEGIN:VEVENT
DTSTART;TZID=America/Los_Angeles:20270824T190000
DTEND;TZID=America/Los_Angeles:20270824T210000
DTSTAMP:20260419T222937
CREATED:20240415T235559Z
LAST-MODIFIED:20240415T235559Z
UID:10000635-1819134000-1819141200@sbhrf.net
SUMMARY:Bogart's Coffee House - Open Mic Night
DESCRIPTION:
URL:https://sbhrf.net/event/bogarts-coffee-house-open-mic-night/2027-08-24/
LOCATION:Bogart’s Coffee House\, 905 Ocean Ave\, Seal Beach\, CA\, 90740\, United States
CATEGORIES:Music
ATTACH;FMTTYPE=image/png:https://sbhrf.net/wp-content/uploads/2024/04/2024-0502-Bogarts-Open-Mic-1.png
END:VEVENT
BEGIN:VEVENT
DTSTART;TZID=America/Los_Angeles:20270824T190000
DTEND;TZID=America/Los_Angeles:20270824T213000
DTSTAMP:20260419T222937
CREATED:20240509T184208Z
LAST-MODIFIED:20240509T184327Z
UID:10000976-1819134000-1819143000@sbhrf.net
SUMMARY:Trivia Night @ Marni's
DESCRIPTION:
URL:https://sbhrf.net/event/trivia-night-marnis/2027-08-24/
LOCATION:Marni’s\, 620 Pacific Coast Highway\, Seal Beach\, CA\, 90740
ATTACH;FMTTYPE=image/png:https://sbhrf.net/wp-content/uploads/2024/05/Marnis-Trivia.png
END:VEVENT
BEGIN:VEVENT
DTSTART;TZID=America/Los_Angeles:20270827T180000
DTEND;TZID=America/Los_Angeles:20270827T193000
DTSTAMP:20260419T222937
CREATED:20260319T225422Z
LAST-MODIFIED:20260319T225604Z
UID:10003167-1819389600-1819395000@sbhrf.net
SUMMARY:Steak Night at the American Legion
DESCRIPTION:Friday\, March 27th \nSteak Night at the American Legion! \n6-7:30 pm\n$22
URL:https://sbhrf.net/event/steak-night-at-the-american-legion/2027-08-27/
LOCATION:American Legion Post 716\, 3252 Florista Street\, Los Angeles\, CA\, 90720\, United States
CATEGORIES:Nonprofits
ATTACH;FMTTYPE=image/jpeg:https://ci3.googleusercontent.com/meips/ADKq_NbLZ9pkMbIpqPUas-9oVhzScQQc1901GTYr5VwtP9LrLRw8ipsmkji7UuLgeUHPMET6R9OEDrRfsW4Mo9FxuZ0XtnQKF02DVsNDYiB6W3fQ7xq-SdgVmAHgfgw9rl54T3gqyoCftKCdpndjTFM7z0_0LQ-Bx30Te8D4HUFEH5E=s0-d-e1-ft#https://mcusercontent.com/26736b74912e9c9f2ba46f742/_compresseds/cd55f229-0508-da0b-cefc-257d74fdcf30.jpg
ORGANIZER;CN="American Legion Post 716":MAILTO:info@losalamitospost716.org
END:VEVENT
BEGIN:VEVENT
DTSTART;TZID=America/Los_Angeles:20270828T200000
DTEND;TZID=America/Los_Angeles:20270828T230000
DTSTAMP:20260419T222937
CREATED:20241122T152128Z
LAST-MODIFIED:20241122T152128Z
UID:10002939-1819483200-1819494000@sbhrf.net
SUMMARY:GRIFFINS GRILL:  Saturday Night Live
DESCRIPTION:
URL:https://sbhrf.net/event/griffins-grill-saturday-night-live/2027-08-28/
LOCATION:Griffins Grill\, 11272 Los Alamitos Blvd.\, Los Alamitos\, CA\, 90740\, United States
CATEGORIES:Los Alamitos,Music
END:VEVENT
BEGIN:VEVENT
DTSTART;TZID=America/Los_Angeles:20270829T180000
DTEND;TZID=America/Los_Angeles:20270829T200000
DTSTAMP:20260419T222937
CREATED:20241122T145107Z
LAST-MODIFIED:20241122T151410Z
UID:10002677-1819562400-1819569600@sbhrf.net
SUMMARY:American Legion Hall:  Open Mic Night
DESCRIPTION:Calling all music lovers!\nWhether you’re an aspiring musician or just want to join some great tunes\, come join our open jam sessions.  Bring your instrument and play a few songs. \nMicrophones and speakers will be provided\, so just bring your talent and energy! \nStarting Nov. 3.  Every Sunday!
URL:https://sbhrf.net/event/american-legion-hall-open-mic-night/2027-08-29/
LOCATION:American Legion Post 716\, 3252 Florista Street\, Los Angeles\, CA\, 90720\, United States
CATEGORIES:Music,Nonprofits
ATTACH;FMTTYPE=image/png:https://sbhrf.net/wp-content/uploads/2024/11/AmLegion-Open-Mic.png
ORGANIZER;CN="American Legion Post 716":MAILTO:info@losalamitospost716.org
END:VEVENT
BEGIN:VEVENT
DTSTART;TZID=America/Los_Angeles:20270831T190000
DTEND;TZID=America/Los_Angeles:20270831T210000
DTSTAMP:20260419T222937
CREATED:20240415T235559Z
LAST-MODIFIED:20240415T235559Z
UID:10000636-1819738800-1819746000@sbhrf.net
SUMMARY:Bogart's Coffee House - Open Mic Night
DESCRIPTION:
URL:https://sbhrf.net/event/bogarts-coffee-house-open-mic-night/2027-08-31/
LOCATION:Bogart’s Coffee House\, 905 Ocean Ave\, Seal Beach\, CA\, 90740\, United States
CATEGORIES:Music
ATTACH;FMTTYPE=image/png:https://sbhrf.net/wp-content/uploads/2024/04/2024-0502-Bogarts-Open-Mic-1.png
END:VEVENT
BEGIN:VEVENT
DTSTART;TZID=America/Los_Angeles:20270831T190000
DTEND;TZID=America/Los_Angeles:20270831T213000
DTSTAMP:20260419T222937
CREATED:20240509T184208Z
LAST-MODIFIED:20240509T184327Z
UID:10000977-1819738800-1819747800@sbhrf.net
SUMMARY:Trivia Night @ Marni's
DESCRIPTION:
URL:https://sbhrf.net/event/trivia-night-marnis/2027-08-31/
LOCATION:Marni’s\, 620 Pacific Coast Highway\, Seal Beach\, CA\, 90740
ATTACH;FMTTYPE=image/png:https://sbhrf.net/wp-content/uploads/2024/05/Marnis-Trivia.png
END:VEVENT
BEGIN:VEVENT
DTSTART;TZID=America/Los_Angeles:20270904T200000
DTEND;TZID=America/Los_Angeles:20270904T230000
DTSTAMP:20260419T222937
CREATED:20241122T152128Z
LAST-MODIFIED:20241122T152128Z
UID:10002940-1820088000-1820098800@sbhrf.net
SUMMARY:GRIFFINS GRILL:  Saturday Night Live
DESCRIPTION:
URL:https://sbhrf.net/event/griffins-grill-saturday-night-live/2027-09-04/
LOCATION:Griffins Grill\, 11272 Los Alamitos Blvd.\, Los Alamitos\, CA\, 90740\, United States
CATEGORIES:Los Alamitos,Music
END:VEVENT
BEGIN:VEVENT
DTSTART;TZID=America/Los_Angeles:20270905T180000
DTEND;TZID=America/Los_Angeles:20270905T200000
DTSTAMP:20260419T222937
CREATED:20241122T145107Z
LAST-MODIFIED:20241122T151410Z
UID:10002678-1820167200-1820174400@sbhrf.net
SUMMARY:American Legion Hall:  Open Mic Night
DESCRIPTION:Calling all music lovers!\nWhether you’re an aspiring musician or just want to join some great tunes\, come join our open jam sessions.  Bring your instrument and play a few songs. \nMicrophones and speakers will be provided\, so just bring your talent and energy! \nStarting Nov. 3.  Every Sunday!
URL:https://sbhrf.net/event/american-legion-hall-open-mic-night/2027-09-05/
LOCATION:American Legion Post 716\, 3252 Florista Street\, Los Angeles\, CA\, 90720\, United States
CATEGORIES:Music,Nonprofits
ATTACH;FMTTYPE=image/png:https://sbhrf.net/wp-content/uploads/2024/11/AmLegion-Open-Mic.png
ORGANIZER;CN="American Legion Post 716":MAILTO:info@losalamitospost716.org
END:VEVENT
BEGIN:VEVENT
DTSTART;TZID=America/Los_Angeles:20270907T190000
DTEND;TZID=America/Los_Angeles:20270907T210000
DTSTAMP:20260419T222937
CREATED:20240415T235559Z
LAST-MODIFIED:20240415T235559Z
UID:10000637-1820343600-1820350800@sbhrf.net
SUMMARY:Bogart's Coffee House - Open Mic Night
DESCRIPTION:
URL:https://sbhrf.net/event/bogarts-coffee-house-open-mic-night/2027-09-07/
LOCATION:Bogart’s Coffee House\, 905 Ocean Ave\, Seal Beach\, CA\, 90740\, United States
CATEGORIES:Music
ATTACH;FMTTYPE=image/png:https://sbhrf.net/wp-content/uploads/2024/04/2024-0502-Bogarts-Open-Mic-1.png
END:VEVENT
BEGIN:VEVENT
DTSTART;TZID=America/Los_Angeles:20270907T190000
DTEND;TZID=America/Los_Angeles:20270907T213000
DTSTAMP:20260419T222937
CREATED:20240509T184208Z
LAST-MODIFIED:20240509T184327Z
UID:10000978-1820343600-1820352600@sbhrf.net
SUMMARY:Trivia Night @ Marni's
DESCRIPTION:
URL:https://sbhrf.net/event/trivia-night-marnis/2027-09-07/
LOCATION:Marni’s\, 620 Pacific Coast Highway\, Seal Beach\, CA\, 90740
ATTACH;FMTTYPE=image/png:https://sbhrf.net/wp-content/uploads/2024/05/Marnis-Trivia.png
END:VEVENT
BEGIN:VEVENT
DTSTART;TZID=America/Los_Angeles:20270911T200000
DTEND;TZID=America/Los_Angeles:20270911T230000
DTSTAMP:20260419T222937
CREATED:20241122T152128Z
LAST-MODIFIED:20241122T152128Z
UID:10002941-1820692800-1820703600@sbhrf.net
SUMMARY:GRIFFINS GRILL:  Saturday Night Live
DESCRIPTION:
URL:https://sbhrf.net/event/griffins-grill-saturday-night-live/2027-09-11/
LOCATION:Griffins Grill\, 11272 Los Alamitos Blvd.\, Los Alamitos\, CA\, 90740\, United States
CATEGORIES:Los Alamitos,Music
END:VEVENT
BEGIN:VEVENT
DTSTART;TZID=America/Los_Angeles:20270912T180000
DTEND;TZID=America/Los_Angeles:20270912T200000
DTSTAMP:20260419T222937
CREATED:20241122T145107Z
LAST-MODIFIED:20241122T151410Z
UID:10002679-1820772000-1820779200@sbhrf.net
SUMMARY:American Legion Hall:  Open Mic Night
DESCRIPTION:Calling all music lovers!\nWhether you’re an aspiring musician or just want to join some great tunes\, come join our open jam sessions.  Bring your instrument and play a few songs. \nMicrophones and speakers will be provided\, so just bring your talent and energy! \nStarting Nov. 3.  Every Sunday!
URL:https://sbhrf.net/event/american-legion-hall-open-mic-night/2027-09-12/
LOCATION:American Legion Post 716\, 3252 Florista Street\, Los Angeles\, CA\, 90720\, United States
CATEGORIES:Music,Nonprofits
ATTACH;FMTTYPE=image/png:https://sbhrf.net/wp-content/uploads/2024/11/AmLegion-Open-Mic.png
ORGANIZER;CN="American Legion Post 716":MAILTO:info@losalamitospost716.org
END:VEVENT
BEGIN:VEVENT
DTSTART;TZID=America/Los_Angeles:20270913T180000
DTEND;TZID=America/Los_Angeles:20270913T210000
DTSTAMP:20260419T222937
CREATED:20241113T160828Z
LAST-MODIFIED:20241113T162103Z
UID:10001899-1820858400-1820869200@sbhrf.net
SUMMARY:Seal Beach City Council Meeting
DESCRIPTION:City Council and Planning Commission meetings can be viewed on SBTV-3 and on the City’s YouTube Channel. A recording of the meeting will be posted online within 24 hours of adjournment.
URL:https://sbhrf.net/event/seal-beach-city-council-meeting/2027-09-13/
LOCATION:CA
CATEGORIES:Government,Seal Beach
ATTACH;FMTTYPE=image/png:https://sbhrf.net/wp-content/uploads/2024/11/SB-City-Council-meeting-generic.png
END:VEVENT
BEGIN:VEVENT
DTSTART;TZID=America/Los_Angeles:20270914T190000
DTEND;TZID=America/Los_Angeles:20270914T210000
DTSTAMP:20260419T222937
CREATED:20240415T235559Z
LAST-MODIFIED:20240415T235559Z
UID:10000638-1820948400-1820955600@sbhrf.net
SUMMARY:Bogart's Coffee House - Open Mic Night
DESCRIPTION:
URL:https://sbhrf.net/event/bogarts-coffee-house-open-mic-night/2027-09-14/
LOCATION:Bogart’s Coffee House\, 905 Ocean Ave\, Seal Beach\, CA\, 90740\, United States
CATEGORIES:Music
ATTACH;FMTTYPE=image/png:https://sbhrf.net/wp-content/uploads/2024/04/2024-0502-Bogarts-Open-Mic-1.png
END:VEVENT
BEGIN:VEVENT
DTSTART;TZID=America/Los_Angeles:20270914T190000
DTEND;TZID=America/Los_Angeles:20270914T213000
DTSTAMP:20260419T222937
CREATED:20240509T184208Z
LAST-MODIFIED:20240509T184327Z
UID:10000979-1820948400-1820957400@sbhrf.net
SUMMARY:Trivia Night @ Marni's
DESCRIPTION:
URL:https://sbhrf.net/event/trivia-night-marnis/2027-09-14/
LOCATION:Marni’s\, 620 Pacific Coast Highway\, Seal Beach\, CA\, 90740
ATTACH;FMTTYPE=image/png:https://sbhrf.net/wp-content/uploads/2024/05/Marnis-Trivia.png
END:VEVENT
BEGIN:VEVENT
DTSTART;TZID=America/Los_Angeles:20270915T090000
DTEND;TZID=America/Los_Angeles:20270915T150000
DTSTAMP:20260419T222937
CREATED:20241112T184032Z
LAST-MODIFIED:20241112T184032Z
UID:10001569-1820998800-1821020400@sbhrf.net
SUMMARY:RHA / Red Cross Blood Drive
DESCRIPTION:Through the generosity of volunteer blood donors at Red Cross Blood Drives\, the American Red Cross helps millions of patients in over 2\,600 hospitals across the country each year. Patients receiving treatment for cancer or blood disorders\, those undergoing transplant surgery\, mothers suffering from birthing complications\, and premature babies are all examples of patients who need blood. Chances are you know someone who has needed or currently needs blood. \nIn less than an hour’s time\, you can help save up to three lives with a blood donation. And right here in Rossmoor at our monthly Rossmoor Red Cross Blood Drive at Rush Park. \nRemember: \n\n\n\n\n\nEvery 2 seconds someone in America needs blood\n14\,000 units of blood need to be collected by the Red Cross each day\n\n\n\n\n\nPlease join us in giving the gift of life.  Register here
URL:https://sbhrf.net/event/rha-red-cross-blood-drive/2027-09-15/
LOCATION:Rush Park Auditorium\, 3021 Blume Ave\, Rossmoor\, 90720\, United States
CATEGORIES:Rossmoor
ATTACH;FMTTYPE=image/png:https://sbhrf.net/wp-content/uploads/2024/11/Rossmoor-Red-Cross-Blood-Drive-undated-3-1.png
END:VEVENT
BEGIN:VEVENT
DTSTART;TZID=America/Los_Angeles:20270918T200000
DTEND;TZID=America/Los_Angeles:20270918T230000
DTSTAMP:20260419T222937
CREATED:20241122T152128Z
LAST-MODIFIED:20241122T152128Z
UID:10002942-1821297600-1821308400@sbhrf.net
SUMMARY:GRIFFINS GRILL:  Saturday Night Live
DESCRIPTION:
URL:https://sbhrf.net/event/griffins-grill-saturday-night-live/2027-09-18/
LOCATION:Griffins Grill\, 11272 Los Alamitos Blvd.\, Los Alamitos\, CA\, 90740\, United States
CATEGORIES:Los Alamitos,Music
END:VEVENT
BEGIN:VEVENT
DTSTART;TZID=America/Los_Angeles:20270919T180000
DTEND;TZID=America/Los_Angeles:20270919T200000
DTSTAMP:20260419T222937
CREATED:20241122T145107Z
LAST-MODIFIED:20241122T151410Z
UID:10002680-1821376800-1821384000@sbhrf.net
SUMMARY:American Legion Hall:  Open Mic Night
DESCRIPTION:Calling all music lovers!\nWhether you’re an aspiring musician or just want to join some great tunes\, come join our open jam sessions.  Bring your instrument and play a few songs. \nMicrophones and speakers will be provided\, so just bring your talent and energy! \nStarting Nov. 3.  Every Sunday!
URL:https://sbhrf.net/event/american-legion-hall-open-mic-night/2027-09-19/
LOCATION:American Legion Post 716\, 3252 Florista Street\, Los Angeles\, CA\, 90720\, United States
CATEGORIES:Music,Nonprofits
ATTACH;FMTTYPE=image/png:https://sbhrf.net/wp-content/uploads/2024/11/AmLegion-Open-Mic.png
ORGANIZER;CN="American Legion Post 716":MAILTO:info@losalamitospost716.org
END:VEVENT
BEGIN:VEVENT
DTSTART;TZID=America/Los_Angeles:20270920T180000
DTEND;TZID=America/Los_Angeles:20270920T210000
DTSTAMP:20260419T222937
CREATED:20241113T163121Z
LAST-MODIFIED:20241113T163121Z
UID:10002079-1821463200-1821474000@sbhrf.net
SUMMARY:GOVERNMENT:  Los Alamitos City Council Meeting
DESCRIPTION:
URL:https://sbhrf.net/event/government-los-alamitos-city-council-meeting/2027-09-20/
LOCATION:CA
CATEGORIES:Government,Los Alamitos
ATTACH;FMTTYPE=image/png:https://sbhrf.net/wp-content/uploads/2024/11/Los-Al-City-Council-meeting-generic.png
END:VEVENT
BEGIN:VEVENT
DTSTART;TZID=America/Los_Angeles:20270921T190000
DTEND;TZID=America/Los_Angeles:20270921T210000
DTSTAMP:20260419T222937
CREATED:20240415T235559Z
LAST-MODIFIED:20240415T235559Z
UID:10000639-1821553200-1821560400@sbhrf.net
SUMMARY:Bogart's Coffee House - Open Mic Night
DESCRIPTION:
URL:https://sbhrf.net/event/bogarts-coffee-house-open-mic-night/2027-09-21/
LOCATION:Bogart’s Coffee House\, 905 Ocean Ave\, Seal Beach\, CA\, 90740\, United States
CATEGORIES:Music
ATTACH;FMTTYPE=image/png:https://sbhrf.net/wp-content/uploads/2024/04/2024-0502-Bogarts-Open-Mic-1.png
END:VEVENT
END:VCALENDAR