BEGIN:VCALENDAR
VERSION:2.0
PRODID:-//Seal Beach Historic Resources Foundation - ECPv6.15.17.1//NONSGML v1.0//EN
CALSCALE:GREGORIAN
METHOD:PUBLISH
X-WR-CALNAME:Seal Beach Historic Resources Foundation
X-ORIGINAL-URL:https://sbhrf.net
X-WR-CALDESC:Events for Seal Beach Historic Resources Foundation
REFRESH-INTERVAL;VALUE=DURATION:PT1H
X-Robots-Tag:noindex
X-PUBLISHED-TTL:PT1H
BEGIN:VTIMEZONE
TZID:America/Los_Angeles
BEGIN:DAYLIGHT
TZOFFSETFROM:-0800
TZOFFSETTO:-0700
TZNAME:PDT
DTSTART:20230312T100000
END:DAYLIGHT
BEGIN:STANDARD
TZOFFSETFROM:-0700
TZOFFSETTO:-0800
TZNAME:PST
DTSTART:20231105T090000
END:STANDARD
BEGIN:DAYLIGHT
TZOFFSETFROM:-0800
TZOFFSETTO:-0700
TZNAME:PDT
DTSTART:20240310T100000
END:DAYLIGHT
BEGIN:STANDARD
TZOFFSETFROM:-0700
TZOFFSETTO:-0800
TZNAME:PST
DTSTART:20241103T090000
END:STANDARD
BEGIN:DAYLIGHT
TZOFFSETFROM:-0800
TZOFFSETTO:-0700
TZNAME:PDT
DTSTART:20250309T100000
END:DAYLIGHT
BEGIN:STANDARD
TZOFFSETFROM:-0700
TZOFFSETTO:-0800
TZNAME:PST
DTSTART:20251102T090000
END:STANDARD
END:VTIMEZONE
BEGIN:VEVENT
DTSTART;TZID=America/Los_Angeles:20241022T190000
DTEND;TZID=America/Los_Angeles:20241022T213000
DTSTAMP:20260420T110511
CREATED:20240509T184208Z
LAST-MODIFIED:20240509T184327Z
UID:10000828-1729623600-1729632600@sbhrf.net
SUMMARY:Trivia Night @ Marni's
DESCRIPTION:
URL:https://sbhrf.net/event/trivia-night-marnis/2024-10-22/
LOCATION:Marni’s\, 620 Pacific Coast Highway\, Seal Beach\, CA\, 90740
ATTACH;FMTTYPE=image/png:https://sbhrf.net/wp-content/uploads/2024/05/Marnis-Trivia.png
END:VEVENT
BEGIN:VEVENT
DTSTART;TZID=America/Los_Angeles:20241022T190000
DTEND;TZID=America/Los_Angeles:20241022T210000
DTSTAMP:20260420T110511
CREATED:20240415T235559Z
LAST-MODIFIED:20240415T235559Z
UID:10000487-1729623600-1729630800@sbhrf.net
SUMMARY:Bogart's Coffee House - Open Mic Night
DESCRIPTION:
URL:https://sbhrf.net/event/bogarts-coffee-house-open-mic-night/2024-10-22/
LOCATION:Bogart’s Coffee House\, 905 Ocean Ave\, Seal Beach\, CA\, 90740\, United States
CATEGORIES:Music
ATTACH;FMTTYPE=image/png:https://sbhrf.net/wp-content/uploads/2024/04/2024-0502-Bogarts-Open-Mic-1.png
END:VEVENT
BEGIN:VEVENT
DTSTART;TZID=America/Los_Angeles:20241015T190000
DTEND;TZID=America/Los_Angeles:20241015T213000
DTSTAMP:20260420T110511
CREATED:20240509T184208Z
LAST-MODIFIED:20240509T184327Z
UID:10000827-1729018800-1729027800@sbhrf.net
SUMMARY:Trivia Night @ Marni's
DESCRIPTION:
URL:https://sbhrf.net/event/trivia-night-marnis/2024-10-15/
LOCATION:Marni’s\, 620 Pacific Coast Highway\, Seal Beach\, CA\, 90740
ATTACH;FMTTYPE=image/png:https://sbhrf.net/wp-content/uploads/2024/05/Marnis-Trivia.png
END:VEVENT
BEGIN:VEVENT
DTSTART;TZID=America/Los_Angeles:20241015T190000
DTEND;TZID=America/Los_Angeles:20241015T210000
DTSTAMP:20260420T110511
CREATED:20240415T235559Z
LAST-MODIFIED:20240415T235559Z
UID:10000486-1729018800-1729026000@sbhrf.net
SUMMARY:Bogart's Coffee House - Open Mic Night
DESCRIPTION:
URL:https://sbhrf.net/event/bogarts-coffee-house-open-mic-night/2024-10-15/
LOCATION:Bogart’s Coffee House\, 905 Ocean Ave\, Seal Beach\, CA\, 90740\, United States
CATEGORIES:Music
ATTACH;FMTTYPE=image/png:https://sbhrf.net/wp-content/uploads/2024/04/2024-0502-Bogarts-Open-Mic-1.png
END:VEVENT
BEGIN:VEVENT
DTSTART;TZID=America/Los_Angeles:20241008T190000
DTEND;TZID=America/Los_Angeles:20241008T213000
DTSTAMP:20260420T110511
CREATED:20240509T184208Z
LAST-MODIFIED:20240509T184327Z
UID:10000826-1728414000-1728423000@sbhrf.net
SUMMARY:Trivia Night @ Marni's
DESCRIPTION:
URL:https://sbhrf.net/event/trivia-night-marnis/2024-10-08/
LOCATION:Marni’s\, 620 Pacific Coast Highway\, Seal Beach\, CA\, 90740
ATTACH;FMTTYPE=image/png:https://sbhrf.net/wp-content/uploads/2024/05/Marnis-Trivia.png
END:VEVENT
BEGIN:VEVENT
DTSTART;TZID=America/Los_Angeles:20241008T190000
DTEND;TZID=America/Los_Angeles:20241008T210000
DTSTAMP:20260420T110511
CREATED:20240415T235559Z
LAST-MODIFIED:20240415T235559Z
UID:10000485-1728414000-1728421200@sbhrf.net
SUMMARY:Bogart's Coffee House - Open Mic Night
DESCRIPTION:
URL:https://sbhrf.net/event/bogarts-coffee-house-open-mic-night/2024-10-08/
LOCATION:Bogart’s Coffee House\, 905 Ocean Ave\, Seal Beach\, CA\, 90740\, United States
CATEGORIES:Music
ATTACH;FMTTYPE=image/png:https://sbhrf.net/wp-content/uploads/2024/04/2024-0502-Bogarts-Open-Mic-1.png
END:VEVENT
BEGIN:VEVENT
DTSTART;TZID=America/Los_Angeles:20241001T190000
DTEND;TZID=America/Los_Angeles:20241001T213000
DTSTAMP:20260420T110511
CREATED:20240509T184208Z
LAST-MODIFIED:20240509T184327Z
UID:10000825-1727809200-1727818200@sbhrf.net
SUMMARY:Trivia Night @ Marni's
DESCRIPTION:
URL:https://sbhrf.net/event/trivia-night-marnis/2024-10-01/
LOCATION:Marni’s\, 620 Pacific Coast Highway\, Seal Beach\, CA\, 90740
ATTACH;FMTTYPE=image/png:https://sbhrf.net/wp-content/uploads/2024/05/Marnis-Trivia.png
END:VEVENT
BEGIN:VEVENT
DTSTART;TZID=America/Los_Angeles:20241001T190000
DTEND;TZID=America/Los_Angeles:20241001T210000
DTSTAMP:20260420T110511
CREATED:20240415T235559Z
LAST-MODIFIED:20240415T235559Z
UID:10000484-1727809200-1727816400@sbhrf.net
SUMMARY:Bogart's Coffee House - Open Mic Night
DESCRIPTION:
URL:https://sbhrf.net/event/bogarts-coffee-house-open-mic-night/2024-10-01/
LOCATION:Bogart’s Coffee House\, 905 Ocean Ave\, Seal Beach\, CA\, 90740\, United States
CATEGORIES:Music
ATTACH;FMTTYPE=image/png:https://sbhrf.net/wp-content/uploads/2024/04/2024-0502-Bogarts-Open-Mic-1.png
END:VEVENT
BEGIN:VEVENT
DTSTART;TZID=America/Los_Angeles:20240924T190000
DTEND;TZID=America/Los_Angeles:20240924T213000
DTSTAMP:20260420T110511
CREATED:20240509T184208Z
LAST-MODIFIED:20240509T184327Z
UID:10000824-1727204400-1727213400@sbhrf.net
SUMMARY:Trivia Night @ Marni's
DESCRIPTION:
URL:https://sbhrf.net/event/trivia-night-marnis/2024-09-24/
LOCATION:Marni’s\, 620 Pacific Coast Highway\, Seal Beach\, CA\, 90740
ATTACH;FMTTYPE=image/png:https://sbhrf.net/wp-content/uploads/2024/05/Marnis-Trivia.png
END:VEVENT
BEGIN:VEVENT
DTSTART;TZID=America/Los_Angeles:20240924T190000
DTEND;TZID=America/Los_Angeles:20240924T210000
DTSTAMP:20260420T110511
CREATED:20240415T235559Z
LAST-MODIFIED:20240415T235559Z
UID:10000483-1727204400-1727211600@sbhrf.net
SUMMARY:Bogart's Coffee House - Open Mic Night
DESCRIPTION:
URL:https://sbhrf.net/event/bogarts-coffee-house-open-mic-night/2024-09-24/
LOCATION:Bogart’s Coffee House\, 905 Ocean Ave\, Seal Beach\, CA\, 90740\, United States
CATEGORIES:Music
ATTACH;FMTTYPE=image/png:https://sbhrf.net/wp-content/uploads/2024/04/2024-0502-Bogarts-Open-Mic-1.png
END:VEVENT
BEGIN:VEVENT
DTSTART;TZID=America/Los_Angeles:20240917T190000
DTEND;TZID=America/Los_Angeles:20240917T213000
DTSTAMP:20260420T110511
CREATED:20240509T184208Z
LAST-MODIFIED:20240509T184327Z
UID:10000823-1726599600-1726608600@sbhrf.net
SUMMARY:Trivia Night @ Marni's
DESCRIPTION:
URL:https://sbhrf.net/event/trivia-night-marnis/2024-09-17/
LOCATION:Marni’s\, 620 Pacific Coast Highway\, Seal Beach\, CA\, 90740
ATTACH;FMTTYPE=image/png:https://sbhrf.net/wp-content/uploads/2024/05/Marnis-Trivia.png
END:VEVENT
BEGIN:VEVENT
DTSTART;TZID=America/Los_Angeles:20240917T190000
DTEND;TZID=America/Los_Angeles:20240917T210000
DTSTAMP:20260420T110511
CREATED:20240415T235559Z
LAST-MODIFIED:20240415T235559Z
UID:10000482-1726599600-1726606800@sbhrf.net
SUMMARY:Bogart's Coffee House - Open Mic Night
DESCRIPTION:
URL:https://sbhrf.net/event/bogarts-coffee-house-open-mic-night/2024-09-17/
LOCATION:Bogart’s Coffee House\, 905 Ocean Ave\, Seal Beach\, CA\, 90740\, United States
CATEGORIES:Music
ATTACH;FMTTYPE=image/png:https://sbhrf.net/wp-content/uploads/2024/04/2024-0502-Bogarts-Open-Mic-1.png
END:VEVENT
BEGIN:VEVENT
DTSTART;TZID=America/Los_Angeles:20240910T190000
DTEND;TZID=America/Los_Angeles:20240910T213000
DTSTAMP:20260420T110511
CREATED:20240509T184208Z
LAST-MODIFIED:20240509T184327Z
UID:10000822-1725994800-1726003800@sbhrf.net
SUMMARY:Trivia Night @ Marni's
DESCRIPTION:
URL:https://sbhrf.net/event/trivia-night-marnis/2024-09-10/
LOCATION:Marni’s\, 620 Pacific Coast Highway\, Seal Beach\, CA\, 90740
ATTACH;FMTTYPE=image/png:https://sbhrf.net/wp-content/uploads/2024/05/Marnis-Trivia.png
END:VEVENT
BEGIN:VEVENT
DTSTART;TZID=America/Los_Angeles:20240910T190000
DTEND;TZID=America/Los_Angeles:20240910T210000
DTSTAMP:20260420T110511
CREATED:20240415T235559Z
LAST-MODIFIED:20240415T235559Z
UID:10000481-1725994800-1726002000@sbhrf.net
SUMMARY:Bogart's Coffee House - Open Mic Night
DESCRIPTION:
URL:https://sbhrf.net/event/bogarts-coffee-house-open-mic-night/2024-09-10/
LOCATION:Bogart’s Coffee House\, 905 Ocean Ave\, Seal Beach\, CA\, 90740\, United States
CATEGORIES:Music
ATTACH;FMTTYPE=image/png:https://sbhrf.net/wp-content/uploads/2024/04/2024-0502-Bogarts-Open-Mic-1.png
END:VEVENT
BEGIN:VEVENT
DTSTART;TZID=America/Los_Angeles:20240903T190000
DTEND;TZID=America/Los_Angeles:20240903T213000
DTSTAMP:20260420T110511
CREATED:20240509T184208Z
LAST-MODIFIED:20240509T184327Z
UID:10000821-1725390000-1725399000@sbhrf.net
SUMMARY:Trivia Night @ Marni's
DESCRIPTION:
URL:https://sbhrf.net/event/trivia-night-marnis/2024-09-03/
LOCATION:Marni’s\, 620 Pacific Coast Highway\, Seal Beach\, CA\, 90740
ATTACH;FMTTYPE=image/png:https://sbhrf.net/wp-content/uploads/2024/05/Marnis-Trivia.png
END:VEVENT
BEGIN:VEVENT
DTSTART;TZID=America/Los_Angeles:20240903T190000
DTEND;TZID=America/Los_Angeles:20240903T210000
DTSTAMP:20260420T110511
CREATED:20240415T235559Z
LAST-MODIFIED:20240415T235559Z
UID:10000480-1725390000-1725397200@sbhrf.net
SUMMARY:Bogart's Coffee House - Open Mic Night
DESCRIPTION:
URL:https://sbhrf.net/event/bogarts-coffee-house-open-mic-night/2024-09-03/
LOCATION:Bogart’s Coffee House\, 905 Ocean Ave\, Seal Beach\, CA\, 90740\, United States
CATEGORIES:Music
ATTACH;FMTTYPE=image/png:https://sbhrf.net/wp-content/uploads/2024/04/2024-0502-Bogarts-Open-Mic-1.png
END:VEVENT
BEGIN:VEVENT
DTSTART;TZID=America/Los_Angeles:20240827T190000
DTEND;TZID=America/Los_Angeles:20240827T213000
DTSTAMP:20260420T110511
CREATED:20240509T184208Z
LAST-MODIFIED:20240509T184327Z
UID:10000820-1724785200-1724794200@sbhrf.net
SUMMARY:Trivia Night @ Marni's
DESCRIPTION:
URL:https://sbhrf.net/event/trivia-night-marnis/2024-08-27/
LOCATION:Marni’s\, 620 Pacific Coast Highway\, Seal Beach\, CA\, 90740
ATTACH;FMTTYPE=image/png:https://sbhrf.net/wp-content/uploads/2024/05/Marnis-Trivia.png
END:VEVENT
BEGIN:VEVENT
DTSTART;TZID=America/Los_Angeles:20240827T190000
DTEND;TZID=America/Los_Angeles:20240827T210000
DTSTAMP:20260420T110511
CREATED:20240415T235559Z
LAST-MODIFIED:20240415T235559Z
UID:10000479-1724785200-1724792400@sbhrf.net
SUMMARY:Bogart's Coffee House - Open Mic Night
DESCRIPTION:
URL:https://sbhrf.net/event/bogarts-coffee-house-open-mic-night/2024-08-27/
LOCATION:Bogart’s Coffee House\, 905 Ocean Ave\, Seal Beach\, CA\, 90740\, United States
CATEGORIES:Music
ATTACH;FMTTYPE=image/png:https://sbhrf.net/wp-content/uploads/2024/04/2024-0502-Bogarts-Open-Mic-1.png
END:VEVENT
BEGIN:VEVENT
DTSTART;TZID=America/Los_Angeles:20240822T080000
DTEND;TZID=America/Los_Angeles:20240822T170000
DTSTAMP:20260420T110511
CREATED:20241112T191728Z
LAST-MODIFIED:20241112T192528Z
UID:10001597-1724313600-1724346000@sbhrf.net
SUMMARY:TODAY IN SB HISTORY:  1945 - 1st Seal Beach Lions Fish Fry
DESCRIPTION:the Seal Beach Lions Club hosts their first “fish fry” dinner on Wednesday evening\, Aug 22 in the sunroom by the pier from 6pm – 7:30pm. This will be the first community gathering since the attack on Pearl Harbor. The food will be cooked by chefs from Sam’s Seafood. Tickets cost $1.03.
URL:https://sbhrf.net/event/today-in-sb-history-1945-1st-seal-beach-fish-fry/
LOCATION:CA
CATEGORIES:Community Events,Seal Beach,Seal Beach History
END:VEVENT
BEGIN:VEVENT
DTSTART;TZID=America/Los_Angeles:20240820T190000
DTEND;TZID=America/Los_Angeles:20240820T213000
DTSTAMP:20260420T110511
CREATED:20240509T184208Z
LAST-MODIFIED:20240509T184327Z
UID:10000819-1724180400-1724189400@sbhrf.net
SUMMARY:Trivia Night @ Marni's
DESCRIPTION:
URL:https://sbhrf.net/event/trivia-night-marnis/2024-08-20/
LOCATION:Marni’s\, 620 Pacific Coast Highway\, Seal Beach\, CA\, 90740
ATTACH;FMTTYPE=image/png:https://sbhrf.net/wp-content/uploads/2024/05/Marnis-Trivia.png
END:VEVENT
BEGIN:VEVENT
DTSTART;TZID=America/Los_Angeles:20240820T190000
DTEND;TZID=America/Los_Angeles:20240820T210000
DTSTAMP:20260420T110511
CREATED:20240415T235559Z
LAST-MODIFIED:20240415T235559Z
UID:10000478-1724180400-1724187600@sbhrf.net
SUMMARY:Bogart's Coffee House - Open Mic Night
DESCRIPTION:
URL:https://sbhrf.net/event/bogarts-coffee-house-open-mic-night/2024-08-20/
LOCATION:Bogart’s Coffee House\, 905 Ocean Ave\, Seal Beach\, CA\, 90740\, United States
CATEGORIES:Music
ATTACH;FMTTYPE=image/png:https://sbhrf.net/wp-content/uploads/2024/04/2024-0502-Bogarts-Open-Mic-1.png
END:VEVENT
BEGIN:VEVENT
DTSTART;TZID=America/Los_Angeles:20240813T190000
DTEND;TZID=America/Los_Angeles:20240813T213000
DTSTAMP:20260420T110511
CREATED:20240509T184208Z
LAST-MODIFIED:20240509T184327Z
UID:10000818-1723575600-1723584600@sbhrf.net
SUMMARY:Trivia Night @ Marni's
DESCRIPTION:
URL:https://sbhrf.net/event/trivia-night-marnis/2024-08-13/
LOCATION:Marni’s\, 620 Pacific Coast Highway\, Seal Beach\, CA\, 90740
ATTACH;FMTTYPE=image/png:https://sbhrf.net/wp-content/uploads/2024/05/Marnis-Trivia.png
END:VEVENT
BEGIN:VEVENT
DTSTART;TZID=America/Los_Angeles:20240813T190000
DTEND;TZID=America/Los_Angeles:20240813T210000
DTSTAMP:20260420T110511
CREATED:20240415T235559Z
LAST-MODIFIED:20240415T235559Z
UID:10000477-1723575600-1723582800@sbhrf.net
SUMMARY:Bogart's Coffee House - Open Mic Night
DESCRIPTION:
URL:https://sbhrf.net/event/bogarts-coffee-house-open-mic-night/2024-08-13/
LOCATION:Bogart’s Coffee House\, 905 Ocean Ave\, Seal Beach\, CA\, 90740\, United States
CATEGORIES:Music
ATTACH;FMTTYPE=image/png:https://sbhrf.net/wp-content/uploads/2024/04/2024-0502-Bogarts-Open-Mic-1.png
END:VEVENT
BEGIN:VEVENT
DTSTART;TZID=America/Los_Angeles:20240812T080000
DTEND;TZID=America/Los_Angeles:20240812T170000
DTSTAMP:20260420T110511
CREATED:20240507T222009Z
LAST-MODIFIED:20240507T222349Z
UID:10000735-1723449600-1723482000@sbhrf.net
SUMMARY:Seal Beach City Council - 2nd & 4th Mondays
DESCRIPTION:The Seal Beach City Council generally meets on the second and fourth Monday of each month. \nThis meeting schedule can change\, particularly in months with national holidays\, so be sure to check the status of a meeting at the agenda link below. Make sure to check the agency’s website also for the latest protocols on in-person and/or virtual attendance. \nCity Council meeting agendas are published online and in the city clerk’s office no later than the Friday before the city council meeting date. Agendas are also posted in the kiosk adjacent to the council chamber doors. \nLATEST AGENDAS: CLICK HERE \nMEETING MINUTES: CLICK HERE \nMEETING TIME: The council’s regular meeting typically begins at 7 p.m. If there are any closed session items\, that portion of the meeting usually begins around 5:30 p.m. \nMEETING LOCATION: City Council Chambers at 211 Eighth Street. \nThe meeting can be viewed on local cable television channel 3 or on the city’s website. \nPUBLIC COMMENT: Residents can submit comments on any item via email to the city clerk at gharper@sealbeachca.gov or via the comment icon through the online portal.  All email comments the city clerk receives before the start of the meeting will be posted on the city website and distributed to the council. Email comments received after the start of the meeting will be posted on the city’s website and forwarded to the city council after the meeting. \nThe in-person public comments portion of the meeting is towards the beginning of open session. Comments are limited to five minutes. Any documents for review should be presented to the city clerk for distribution. \nCURRENT OFFICIALS: Click here to see and contact the current members.
URL:https://sbhrf.net/event/seal-beach-city-council-2nd-4th-mondays/2024-08-12/
LOCATION:Seal Beach City Hall\, 211 8th Street\, Seal Beach\, CA\, 90740
ATTACH;FMTTYPE=image/png:https://sbhrf.net/wp-content/uploads/2024/05/SB-City-Council.png
END:VEVENT
BEGIN:VEVENT
DTSTART;TZID=America/Los_Angeles:20240806T190000
DTEND;TZID=America/Los_Angeles:20240806T213000
DTSTAMP:20260420T110511
CREATED:20240509T184208Z
LAST-MODIFIED:20240509T184327Z
UID:10000817-1722970800-1722979800@sbhrf.net
SUMMARY:Trivia Night @ Marni's
DESCRIPTION:
URL:https://sbhrf.net/event/trivia-night-marnis/2024-08-06/
LOCATION:Marni’s\, 620 Pacific Coast Highway\, Seal Beach\, CA\, 90740
ATTACH;FMTTYPE=image/png:https://sbhrf.net/wp-content/uploads/2024/05/Marnis-Trivia.png
END:VEVENT
BEGIN:VEVENT
DTSTART;TZID=America/Los_Angeles:20240806T190000
DTEND;TZID=America/Los_Angeles:20240806T210000
DTSTAMP:20260420T110511
CREATED:20240415T235559Z
LAST-MODIFIED:20240415T235559Z
UID:10000476-1722970800-1722978000@sbhrf.net
SUMMARY:Bogart's Coffee House - Open Mic Night
DESCRIPTION:
URL:https://sbhrf.net/event/bogarts-coffee-house-open-mic-night/2024-08-06/
LOCATION:Bogart’s Coffee House\, 905 Ocean Ave\, Seal Beach\, CA\, 90740\, United States
CATEGORIES:Music
ATTACH;FMTTYPE=image/png:https://sbhrf.net/wp-content/uploads/2024/04/2024-0502-Bogarts-Open-Mic-1.png
END:VEVENT
BEGIN:VEVENT
DTSTART;TZID=America/Los_Angeles:20240730T190000
DTEND;TZID=America/Los_Angeles:20240730T213000
DTSTAMP:20260420T110511
CREATED:20240509T184208Z
LAST-MODIFIED:20240509T184327Z
UID:10000816-1722366000-1722375000@sbhrf.net
SUMMARY:Trivia Night @ Marni's
DESCRIPTION:
URL:https://sbhrf.net/event/trivia-night-marnis/2024-07-30/
LOCATION:Marni’s\, 620 Pacific Coast Highway\, Seal Beach\, CA\, 90740
ATTACH;FMTTYPE=image/png:https://sbhrf.net/wp-content/uploads/2024/05/Marnis-Trivia.png
END:VEVENT
BEGIN:VEVENT
DTSTART;TZID=America/Los_Angeles:20240730T190000
DTEND;TZID=America/Los_Angeles:20240730T210000
DTSTAMP:20260420T110511
CREATED:20240415T235559Z
LAST-MODIFIED:20240415T235559Z
UID:10000475-1722366000-1722373200@sbhrf.net
SUMMARY:Bogart's Coffee House - Open Mic Night
DESCRIPTION:
URL:https://sbhrf.net/event/bogarts-coffee-house-open-mic-night/2024-07-30/
LOCATION:Bogart’s Coffee House\, 905 Ocean Ave\, Seal Beach\, CA\, 90740\, United States
CATEGORIES:Music
ATTACH;FMTTYPE=image/png:https://sbhrf.net/wp-content/uploads/2024/04/2024-0502-Bogarts-Open-Mic-1.png
END:VEVENT
BEGIN:VEVENT
DTSTART;TZID=America/Los_Angeles:20240723T190000
DTEND;TZID=America/Los_Angeles:20240723T213000
DTSTAMP:20260420T110511
CREATED:20240509T184208Z
LAST-MODIFIED:20240509T184327Z
UID:10000815-1721761200-1721770200@sbhrf.net
SUMMARY:Trivia Night @ Marni's
DESCRIPTION:
URL:https://sbhrf.net/event/trivia-night-marnis/2024-07-23/
LOCATION:Marni’s\, 620 Pacific Coast Highway\, Seal Beach\, CA\, 90740
ATTACH;FMTTYPE=image/png:https://sbhrf.net/wp-content/uploads/2024/05/Marnis-Trivia.png
END:VEVENT
BEGIN:VEVENT
DTSTART;TZID=America/Los_Angeles:20240723T190000
DTEND;TZID=America/Los_Angeles:20240723T210000
DTSTAMP:20260420T110511
CREATED:20240415T235559Z
LAST-MODIFIED:20240415T235559Z
UID:10000474-1721761200-1721768400@sbhrf.net
SUMMARY:Bogart's Coffee House - Open Mic Night
DESCRIPTION:
URL:https://sbhrf.net/event/bogarts-coffee-house-open-mic-night/2024-07-23/
LOCATION:Bogart’s Coffee House\, 905 Ocean Ave\, Seal Beach\, CA\, 90740\, United States
CATEGORIES:Music
ATTACH;FMTTYPE=image/png:https://sbhrf.net/wp-content/uploads/2024/04/2024-0502-Bogarts-Open-Mic-1.png
END:VEVENT
END:VCALENDAR