BEGIN:VCALENDAR
VERSION:2.0
PRODID:-//Seal Beach Historic Resources Foundation - ECPv6.15.17.1//NONSGML v1.0//EN
CALSCALE:GREGORIAN
METHOD:PUBLISH
X-ORIGINAL-URL:https://sbhrf.net
X-WR-CALDESC:Events for Seal Beach Historic Resources Foundation
REFRESH-INTERVAL;VALUE=DURATION:PT1H
X-Robots-Tag:noindex
X-PUBLISHED-TTL:PT1H
BEGIN:VTIMEZONE
TZID:America/Los_Angeles
BEGIN:DAYLIGHT
TZOFFSETFROM:-0800
TZOFFSETTO:-0700
TZNAME:PDT
DTSTART:20270314T100000
END:DAYLIGHT
BEGIN:STANDARD
TZOFFSETFROM:-0700
TZOFFSETTO:-0800
TZNAME:PST
DTSTART:20271107T090000
END:STANDARD
BEGIN:DAYLIGHT
TZOFFSETFROM:-0800
TZOFFSETTO:-0700
TZNAME:PDT
DTSTART:20280312T100000
END:DAYLIGHT
BEGIN:STANDARD
TZOFFSETFROM:-0700
TZOFFSETTO:-0800
TZNAME:PST
DTSTART:20281105T090000
END:STANDARD
BEGIN:DAYLIGHT
TZOFFSETFROM:-0800
TZOFFSETTO:-0700
TZNAME:PDT
DTSTART:20290311T100000
END:DAYLIGHT
BEGIN:STANDARD
TZOFFSETFROM:-0700
TZOFFSETTO:-0800
TZNAME:PST
DTSTART:20291104T090000
END:STANDARD
END:VTIMEZONE
BEGIN:VEVENT
DTSTART;TZID=America/Los_Angeles:20280728T180000
DTEND;TZID=America/Los_Angeles:20280728T193000
DTSTAMP:20260420T123559
CREATED:20260319T225422Z
LAST-MODIFIED:20260319T225604Z
UID:10003178-1848420000-1848425400@sbhrf.net
SUMMARY:Steak Night at the American Legion
DESCRIPTION:Friday\, March 27th \nSteak Night at the American Legion! \n6-7:30 pm\n$22
URL:https://sbhrf.net/event/steak-night-at-the-american-legion/2028-07-28/
LOCATION:American Legion Post 716\, 3252 Florista Street\, Los Angeles\, CA\, 90720\, United States
CATEGORIES:Nonprofits
ATTACH;FMTTYPE=image/jpeg:https://ci3.googleusercontent.com/meips/ADKq_NbLZ9pkMbIpqPUas-9oVhzScQQc1901GTYr5VwtP9LrLRw8ipsmkji7UuLgeUHPMET6R9OEDrRfsW4Mo9FxuZ0XtnQKF02DVsNDYiB6W3fQ7xq-SdgVmAHgfgw9rl54T3gqyoCftKCdpndjTFM7z0_0LQ-Bx30Te8D4HUFEH5E=s0-d-e1-ft#https://mcusercontent.com/26736b74912e9c9f2ba46f742/_compresseds/cd55f229-0508-da0b-cefc-257d74fdcf30.jpg
ORGANIZER;CN="American Legion Post 716":MAILTO:info@losalamitospost716.org
END:VEVENT
BEGIN:VEVENT
DTSTART;TZID=America/Los_Angeles:20280729T200000
DTEND;TZID=America/Los_Angeles:20280729T230000
DTSTAMP:20260420T123559
CREATED:20241122T152128Z
LAST-MODIFIED:20241122T152128Z
UID:10002987-1848513600-1848524400@sbhrf.net
SUMMARY:GRIFFINS GRILL:  Saturday Night Live
DESCRIPTION:
URL:https://sbhrf.net/event/griffins-grill-saturday-night-live/2028-07-29/
LOCATION:Griffins Grill\, 11272 Los Alamitos Blvd.\, Los Alamitos\, CA\, 90740\, United States
CATEGORIES:Los Alamitos,Music
END:VEVENT
BEGIN:VEVENT
DTSTART;TZID=America/Los_Angeles:20280730T180000
DTEND;TZID=America/Los_Angeles:20280730T200000
DTSTAMP:20260420T123559
CREATED:20241122T145107Z
LAST-MODIFIED:20241122T151410Z
UID:10002725-1848592800-1848600000@sbhrf.net
SUMMARY:American Legion Hall:  Open Mic Night
DESCRIPTION:Calling all music lovers!\nWhether you’re an aspiring musician or just want to join some great tunes\, come join our open jam sessions.  Bring your instrument and play a few songs. \nMicrophones and speakers will be provided\, so just bring your talent and energy! \nStarting Nov. 3.  Every Sunday!
URL:https://sbhrf.net/event/american-legion-hall-open-mic-night/2028-07-30/
LOCATION:American Legion Post 716\, 3252 Florista Street\, Los Angeles\, CA\, 90720\, United States
CATEGORIES:Music,Nonprofits
ATTACH;FMTTYPE=image/png:https://sbhrf.net/wp-content/uploads/2024/11/AmLegion-Open-Mic.png
ORGANIZER;CN="American Legion Post 716":MAILTO:info@losalamitospost716.org
END:VEVENT
BEGIN:VEVENT
DTSTART;TZID=America/Los_Angeles:20280801T190000
DTEND;TZID=America/Los_Angeles:20280801T210000
DTSTAMP:20260420T123559
CREATED:20240415T235559Z
LAST-MODIFIED:20240415T235559Z
UID:10000684-1848769200-1848776400@sbhrf.net
SUMMARY:Bogart's Coffee House - Open Mic Night
DESCRIPTION:
URL:https://sbhrf.net/event/bogarts-coffee-house-open-mic-night/2028-08-01/
LOCATION:Bogart’s Coffee House\, 905 Ocean Ave\, Seal Beach\, CA\, 90740\, United States
CATEGORIES:Music
ATTACH;FMTTYPE=image/png:https://sbhrf.net/wp-content/uploads/2024/04/2024-0502-Bogarts-Open-Mic-1.png
END:VEVENT
BEGIN:VEVENT
DTSTART;TZID=America/Los_Angeles:20280801T190000
DTEND;TZID=America/Los_Angeles:20280801T213000
DTSTAMP:20260420T123559
CREATED:20240509T184208Z
LAST-MODIFIED:20240509T184327Z
UID:10001025-1848769200-1848778200@sbhrf.net
SUMMARY:Trivia Night @ Marni's
DESCRIPTION:
URL:https://sbhrf.net/event/trivia-night-marnis/2028-08-01/
LOCATION:Marni’s\, 620 Pacific Coast Highway\, Seal Beach\, CA\, 90740
ATTACH;FMTTYPE=image/png:https://sbhrf.net/wp-content/uploads/2024/05/Marnis-Trivia.png
END:VEVENT
BEGIN:VEVENT
DTSTART;TZID=America/Los_Angeles:20280805T200000
DTEND;TZID=America/Los_Angeles:20280805T230000
DTSTAMP:20260420T123559
CREATED:20241122T152128Z
LAST-MODIFIED:20241122T152128Z
UID:10002988-1849118400-1849129200@sbhrf.net
SUMMARY:GRIFFINS GRILL:  Saturday Night Live
DESCRIPTION:
URL:https://sbhrf.net/event/griffins-grill-saturday-night-live/2028-08-05/
LOCATION:Griffins Grill\, 11272 Los Alamitos Blvd.\, Los Alamitos\, CA\, 90740\, United States
CATEGORIES:Los Alamitos,Music
END:VEVENT
BEGIN:VEVENT
DTSTART;TZID=America/Los_Angeles:20280806T180000
DTEND;TZID=America/Los_Angeles:20280806T200000
DTSTAMP:20260420T123559
CREATED:20241122T145107Z
LAST-MODIFIED:20241122T151410Z
UID:10002726-1849197600-1849204800@sbhrf.net
SUMMARY:American Legion Hall:  Open Mic Night
DESCRIPTION:Calling all music lovers!\nWhether you’re an aspiring musician or just want to join some great tunes\, come join our open jam sessions.  Bring your instrument and play a few songs. \nMicrophones and speakers will be provided\, so just bring your talent and energy! \nStarting Nov. 3.  Every Sunday!
URL:https://sbhrf.net/event/american-legion-hall-open-mic-night/2028-08-06/
LOCATION:American Legion Post 716\, 3252 Florista Street\, Los Angeles\, CA\, 90720\, United States
CATEGORIES:Music,Nonprofits
ATTACH;FMTTYPE=image/png:https://sbhrf.net/wp-content/uploads/2024/11/AmLegion-Open-Mic.png
ORGANIZER;CN="American Legion Post 716":MAILTO:info@losalamitospost716.org
END:VEVENT
BEGIN:VEVENT
DTSTART;TZID=America/Los_Angeles:20280808T190000
DTEND;TZID=America/Los_Angeles:20280808T210000
DTSTAMP:20260420T123559
CREATED:20240415T235559Z
LAST-MODIFIED:20240415T235559Z
UID:10000685-1849374000-1849381200@sbhrf.net
SUMMARY:Bogart's Coffee House - Open Mic Night
DESCRIPTION:
URL:https://sbhrf.net/event/bogarts-coffee-house-open-mic-night/2028-08-08/
LOCATION:Bogart’s Coffee House\, 905 Ocean Ave\, Seal Beach\, CA\, 90740\, United States
CATEGORIES:Music
ATTACH;FMTTYPE=image/png:https://sbhrf.net/wp-content/uploads/2024/04/2024-0502-Bogarts-Open-Mic-1.png
END:VEVENT
BEGIN:VEVENT
DTSTART;TZID=America/Los_Angeles:20280808T190000
DTEND;TZID=America/Los_Angeles:20280808T213000
DTSTAMP:20260420T123559
CREATED:20240509T184208Z
LAST-MODIFIED:20240509T184327Z
UID:10001026-1849374000-1849383000@sbhrf.net
SUMMARY:Trivia Night @ Marni's
DESCRIPTION:
URL:https://sbhrf.net/event/trivia-night-marnis/2028-08-08/
LOCATION:Marni’s\, 620 Pacific Coast Highway\, Seal Beach\, CA\, 90740
ATTACH;FMTTYPE=image/png:https://sbhrf.net/wp-content/uploads/2024/05/Marnis-Trivia.png
END:VEVENT
BEGIN:VEVENT
DTSTART;TZID=America/Los_Angeles:20280812T200000
DTEND;TZID=America/Los_Angeles:20280812T230000
DTSTAMP:20260420T123559
CREATED:20241122T152128Z
LAST-MODIFIED:20241122T152128Z
UID:10002989-1849723200-1849734000@sbhrf.net
SUMMARY:GRIFFINS GRILL:  Saturday Night Live
DESCRIPTION:
URL:https://sbhrf.net/event/griffins-grill-saturday-night-live/2028-08-12/
LOCATION:Griffins Grill\, 11272 Los Alamitos Blvd.\, Los Alamitos\, CA\, 90740\, United States
CATEGORIES:Los Alamitos,Music
END:VEVENT
BEGIN:VEVENT
DTSTART;TZID=America/Los_Angeles:20280813T180000
DTEND;TZID=America/Los_Angeles:20280813T200000
DTSTAMP:20260420T123559
CREATED:20241122T145107Z
LAST-MODIFIED:20241122T151410Z
UID:10002727-1849802400-1849809600@sbhrf.net
SUMMARY:American Legion Hall:  Open Mic Night
DESCRIPTION:Calling all music lovers!\nWhether you’re an aspiring musician or just want to join some great tunes\, come join our open jam sessions.  Bring your instrument and play a few songs. \nMicrophones and speakers will be provided\, so just bring your talent and energy! \nStarting Nov. 3.  Every Sunday!
URL:https://sbhrf.net/event/american-legion-hall-open-mic-night/2028-08-13/
LOCATION:American Legion Post 716\, 3252 Florista Street\, Los Angeles\, CA\, 90720\, United States
CATEGORIES:Music,Nonprofits
ATTACH;FMTTYPE=image/png:https://sbhrf.net/wp-content/uploads/2024/11/AmLegion-Open-Mic.png
ORGANIZER;CN="American Legion Post 716":MAILTO:info@losalamitospost716.org
END:VEVENT
BEGIN:VEVENT
DTSTART;TZID=America/Los_Angeles:20280814T180000
DTEND;TZID=America/Los_Angeles:20280814T210000
DTSTAMP:20260420T123559
CREATED:20241113T160828Z
LAST-MODIFIED:20241113T162103Z
UID:10001910-1849888800-1849899600@sbhrf.net
SUMMARY:Seal Beach City Council Meeting
DESCRIPTION:City Council and Planning Commission meetings can be viewed on SBTV-3 and on the City’s YouTube Channel. A recording of the meeting will be posted online within 24 hours of adjournment.
URL:https://sbhrf.net/event/seal-beach-city-council-meeting/2028-08-14/
LOCATION:CA
CATEGORIES:Government,Seal Beach
ATTACH;FMTTYPE=image/png:https://sbhrf.net/wp-content/uploads/2024/11/SB-City-Council-meeting-generic.png
END:VEVENT
BEGIN:VEVENT
DTSTART;TZID=America/Los_Angeles:20280815T190000
DTEND;TZID=America/Los_Angeles:20280815T210000
DTSTAMP:20260420T123559
CREATED:20240415T235559Z
LAST-MODIFIED:20240415T235559Z
UID:10000686-1849978800-1849986000@sbhrf.net
SUMMARY:Bogart's Coffee House - Open Mic Night
DESCRIPTION:
URL:https://sbhrf.net/event/bogarts-coffee-house-open-mic-night/2028-08-15/
LOCATION:Bogart’s Coffee House\, 905 Ocean Ave\, Seal Beach\, CA\, 90740\, United States
CATEGORIES:Music
ATTACH;FMTTYPE=image/png:https://sbhrf.net/wp-content/uploads/2024/04/2024-0502-Bogarts-Open-Mic-1.png
END:VEVENT
BEGIN:VEVENT
DTSTART;TZID=America/Los_Angeles:20280815T190000
DTEND;TZID=America/Los_Angeles:20280815T213000
DTSTAMP:20260420T123559
CREATED:20240509T184208Z
LAST-MODIFIED:20240509T184327Z
UID:10001027-1849978800-1849987800@sbhrf.net
SUMMARY:Trivia Night @ Marni's
DESCRIPTION:
URL:https://sbhrf.net/event/trivia-night-marnis/2028-08-15/
LOCATION:Marni’s\, 620 Pacific Coast Highway\, Seal Beach\, CA\, 90740
ATTACH;FMTTYPE=image/png:https://sbhrf.net/wp-content/uploads/2024/05/Marnis-Trivia.png
END:VEVENT
BEGIN:VEVENT
DTSTART;TZID=America/Los_Angeles:20280816T090000
DTEND;TZID=America/Los_Angeles:20280816T150000
DTSTAMP:20260420T123559
CREATED:20241112T184032Z
LAST-MODIFIED:20241112T184032Z
UID:10001580-1850029200-1850050800@sbhrf.net
SUMMARY:RHA / Red Cross Blood Drive
DESCRIPTION:Through the generosity of volunteer blood donors at Red Cross Blood Drives\, the American Red Cross helps millions of patients in over 2\,600 hospitals across the country each year. Patients receiving treatment for cancer or blood disorders\, those undergoing transplant surgery\, mothers suffering from birthing complications\, and premature babies are all examples of patients who need blood. Chances are you know someone who has needed or currently needs blood. \nIn less than an hour’s time\, you can help save up to three lives with a blood donation. And right here in Rossmoor at our monthly Rossmoor Red Cross Blood Drive at Rush Park. \nRemember: \n\n\n\n\n\nEvery 2 seconds someone in America needs blood\n14\,000 units of blood need to be collected by the Red Cross each day\n\n\n\n\n\nPlease join us in giving the gift of life.  Register here
URL:https://sbhrf.net/event/rha-red-cross-blood-drive/2028-08-16/
LOCATION:Rush Park Auditorium\, 3021 Blume Ave\, Rossmoor\, 90720\, United States
CATEGORIES:Rossmoor
ATTACH;FMTTYPE=image/png:https://sbhrf.net/wp-content/uploads/2024/11/Rossmoor-Red-Cross-Blood-Drive-undated-3-1.png
END:VEVENT
BEGIN:VEVENT
DTSTART;TZID=America/Los_Angeles:20280819T200000
DTEND;TZID=America/Los_Angeles:20280819T230000
DTSTAMP:20260420T123559
CREATED:20241122T152128Z
LAST-MODIFIED:20241122T152128Z
UID:10002990-1850328000-1850338800@sbhrf.net
SUMMARY:GRIFFINS GRILL:  Saturday Night Live
DESCRIPTION:
URL:https://sbhrf.net/event/griffins-grill-saturday-night-live/2028-08-19/
LOCATION:Griffins Grill\, 11272 Los Alamitos Blvd.\, Los Alamitos\, CA\, 90740\, United States
CATEGORIES:Los Alamitos,Music
END:VEVENT
BEGIN:VEVENT
DTSTART;TZID=America/Los_Angeles:20280820T180000
DTEND;TZID=America/Los_Angeles:20280820T200000
DTSTAMP:20260420T123559
CREATED:20241122T145107Z
LAST-MODIFIED:20241122T151410Z
UID:10002728-1850407200-1850414400@sbhrf.net
SUMMARY:American Legion Hall:  Open Mic Night
DESCRIPTION:Calling all music lovers!\nWhether you’re an aspiring musician or just want to join some great tunes\, come join our open jam sessions.  Bring your instrument and play a few songs. \nMicrophones and speakers will be provided\, so just bring your talent and energy! \nStarting Nov. 3.  Every Sunday!
URL:https://sbhrf.net/event/american-legion-hall-open-mic-night/2028-08-20/
LOCATION:American Legion Post 716\, 3252 Florista Street\, Los Angeles\, CA\, 90720\, United States
CATEGORIES:Music,Nonprofits
ATTACH;FMTTYPE=image/png:https://sbhrf.net/wp-content/uploads/2024/11/AmLegion-Open-Mic.png
ORGANIZER;CN="American Legion Post 716":MAILTO:info@losalamitospost716.org
END:VEVENT
BEGIN:VEVENT
DTSTART;TZID=America/Los_Angeles:20280821T180000
DTEND;TZID=America/Los_Angeles:20280821T210000
DTSTAMP:20260420T123559
CREATED:20241113T163121Z
LAST-MODIFIED:20241113T163121Z
UID:10002090-1850493600-1850504400@sbhrf.net
SUMMARY:GOVERNMENT:  Los Alamitos City Council Meeting
DESCRIPTION:
URL:https://sbhrf.net/event/government-los-alamitos-city-council-meeting/2028-08-21/
LOCATION:CA
CATEGORIES:Government,Los Alamitos
ATTACH;FMTTYPE=image/png:https://sbhrf.net/wp-content/uploads/2024/11/Los-Al-City-Council-meeting-generic.png
END:VEVENT
BEGIN:VEVENT
DTSTART;TZID=America/Los_Angeles:20280822T190000
DTEND;TZID=America/Los_Angeles:20280822T210000
DTSTAMP:20260420T123559
CREATED:20240415T235559Z
LAST-MODIFIED:20240415T235559Z
UID:10000687-1850583600-1850590800@sbhrf.net
SUMMARY:Bogart's Coffee House - Open Mic Night
DESCRIPTION:
URL:https://sbhrf.net/event/bogarts-coffee-house-open-mic-night/2028-08-22/
LOCATION:Bogart’s Coffee House\, 905 Ocean Ave\, Seal Beach\, CA\, 90740\, United States
CATEGORIES:Music
ATTACH;FMTTYPE=image/png:https://sbhrf.net/wp-content/uploads/2024/04/2024-0502-Bogarts-Open-Mic-1.png
END:VEVENT
BEGIN:VEVENT
DTSTART;TZID=America/Los_Angeles:20280822T190000
DTEND;TZID=America/Los_Angeles:20280822T213000
DTSTAMP:20260420T123559
CREATED:20240509T184208Z
LAST-MODIFIED:20240509T184327Z
UID:10001028-1850583600-1850592600@sbhrf.net
SUMMARY:Trivia Night @ Marni's
DESCRIPTION:
URL:https://sbhrf.net/event/trivia-night-marnis/2028-08-22/
LOCATION:Marni’s\, 620 Pacific Coast Highway\, Seal Beach\, CA\, 90740
ATTACH;FMTTYPE=image/png:https://sbhrf.net/wp-content/uploads/2024/05/Marnis-Trivia.png
END:VEVENT
BEGIN:VEVENT
DTSTART;TZID=America/Los_Angeles:20280825T180000
DTEND;TZID=America/Los_Angeles:20280825T193000
DTSTAMP:20260420T123559
CREATED:20260319T225422Z
LAST-MODIFIED:20260319T225604Z
UID:10003179-1850839200-1850844600@sbhrf.net
SUMMARY:Steak Night at the American Legion
DESCRIPTION:Friday\, March 27th \nSteak Night at the American Legion! \n6-7:30 pm\n$22
URL:https://sbhrf.net/event/steak-night-at-the-american-legion/2028-08-25/
LOCATION:American Legion Post 716\, 3252 Florista Street\, Los Angeles\, CA\, 90720\, United States
CATEGORIES:Nonprofits
ATTACH;FMTTYPE=image/jpeg:https://ci3.googleusercontent.com/meips/ADKq_NbLZ9pkMbIpqPUas-9oVhzScQQc1901GTYr5VwtP9LrLRw8ipsmkji7UuLgeUHPMET6R9OEDrRfsW4Mo9FxuZ0XtnQKF02DVsNDYiB6W3fQ7xq-SdgVmAHgfgw9rl54T3gqyoCftKCdpndjTFM7z0_0LQ-Bx30Te8D4HUFEH5E=s0-d-e1-ft#https://mcusercontent.com/26736b74912e9c9f2ba46f742/_compresseds/cd55f229-0508-da0b-cefc-257d74fdcf30.jpg
ORGANIZER;CN="American Legion Post 716":MAILTO:info@losalamitospost716.org
END:VEVENT
BEGIN:VEVENT
DTSTART;TZID=America/Los_Angeles:20280826T200000
DTEND;TZID=America/Los_Angeles:20280826T230000
DTSTAMP:20260420T123559
CREATED:20241122T152128Z
LAST-MODIFIED:20241122T152128Z
UID:10002991-1850932800-1850943600@sbhrf.net
SUMMARY:GRIFFINS GRILL:  Saturday Night Live
DESCRIPTION:
URL:https://sbhrf.net/event/griffins-grill-saturday-night-live/2028-08-26/
LOCATION:Griffins Grill\, 11272 Los Alamitos Blvd.\, Los Alamitos\, CA\, 90740\, United States
CATEGORIES:Los Alamitos,Music
END:VEVENT
BEGIN:VEVENT
DTSTART;TZID=America/Los_Angeles:20280827T180000
DTEND;TZID=America/Los_Angeles:20280827T200000
DTSTAMP:20260420T123559
CREATED:20241122T145107Z
LAST-MODIFIED:20241122T151410Z
UID:10002729-1851012000-1851019200@sbhrf.net
SUMMARY:American Legion Hall:  Open Mic Night
DESCRIPTION:Calling all music lovers!\nWhether you’re an aspiring musician or just want to join some great tunes\, come join our open jam sessions.  Bring your instrument and play a few songs. \nMicrophones and speakers will be provided\, so just bring your talent and energy! \nStarting Nov. 3.  Every Sunday!
URL:https://sbhrf.net/event/american-legion-hall-open-mic-night/2028-08-27/
LOCATION:American Legion Post 716\, 3252 Florista Street\, Los Angeles\, CA\, 90720\, United States
CATEGORIES:Music,Nonprofits
ATTACH;FMTTYPE=image/png:https://sbhrf.net/wp-content/uploads/2024/11/AmLegion-Open-Mic.png
ORGANIZER;CN="American Legion Post 716":MAILTO:info@losalamitospost716.org
END:VEVENT
BEGIN:VEVENT
DTSTART;TZID=America/Los_Angeles:20280828T180000
DTEND;TZID=America/Los_Angeles:20280828T210000
DTSTAMP:20260420T123559
CREATED:20241113T161442Z
LAST-MODIFIED:20241113T162246Z
UID:10002030-1851098400-1851109200@sbhrf.net
SUMMARY:Seal Beach City Council Meeting
DESCRIPTION:City Council and Planning Commission meetings can be viewed on SBTV-3 and on the City’s YouTube Channel. A recording of the meeting will be posted online within 24 hours of adjournment.
URL:https://sbhrf.net/event/seal-beach-city-council-meeting-2/2028-08-28/
LOCATION:CA
CATEGORIES:Government,Seal Beach
ATTACH;FMTTYPE=image/png:https://sbhrf.net/wp-content/uploads/2024/11/SB-City-Council-meeting-generic.png
END:VEVENT
BEGIN:VEVENT
DTSTART;TZID=America/Los_Angeles:20280829T190000
DTEND;TZID=America/Los_Angeles:20280829T210000
DTSTAMP:20260420T123559
CREATED:20240415T235559Z
LAST-MODIFIED:20240415T235559Z
UID:10000688-1851188400-1851195600@sbhrf.net
SUMMARY:Bogart's Coffee House - Open Mic Night
DESCRIPTION:
URL:https://sbhrf.net/event/bogarts-coffee-house-open-mic-night/2028-08-29/
LOCATION:Bogart’s Coffee House\, 905 Ocean Ave\, Seal Beach\, CA\, 90740\, United States
CATEGORIES:Music
ATTACH;FMTTYPE=image/png:https://sbhrf.net/wp-content/uploads/2024/04/2024-0502-Bogarts-Open-Mic-1.png
END:VEVENT
BEGIN:VEVENT
DTSTART;TZID=America/Los_Angeles:20280829T190000
DTEND;TZID=America/Los_Angeles:20280829T213000
DTSTAMP:20260420T123559
CREATED:20240509T184208Z
LAST-MODIFIED:20240509T184327Z
UID:10001029-1851188400-1851197400@sbhrf.net
SUMMARY:Trivia Night @ Marni's
DESCRIPTION:
URL:https://sbhrf.net/event/trivia-night-marnis/2028-08-29/
LOCATION:Marni’s\, 620 Pacific Coast Highway\, Seal Beach\, CA\, 90740
ATTACH;FMTTYPE=image/png:https://sbhrf.net/wp-content/uploads/2024/05/Marnis-Trivia.png
END:VEVENT
BEGIN:VEVENT
DTSTART;TZID=America/Los_Angeles:20280902T200000
DTEND;TZID=America/Los_Angeles:20280902T230000
DTSTAMP:20260420T123559
CREATED:20241122T152128Z
LAST-MODIFIED:20241122T152128Z
UID:10002992-1851537600-1851548400@sbhrf.net
SUMMARY:GRIFFINS GRILL:  Saturday Night Live
DESCRIPTION:
URL:https://sbhrf.net/event/griffins-grill-saturday-night-live/2028-09-02/
LOCATION:Griffins Grill\, 11272 Los Alamitos Blvd.\, Los Alamitos\, CA\, 90740\, United States
CATEGORIES:Los Alamitos,Music
END:VEVENT
BEGIN:VEVENT
DTSTART;TZID=America/Los_Angeles:20280903T180000
DTEND;TZID=America/Los_Angeles:20280903T200000
DTSTAMP:20260420T123559
CREATED:20241122T145107Z
LAST-MODIFIED:20241122T151410Z
UID:10002730-1851616800-1851624000@sbhrf.net
SUMMARY:American Legion Hall:  Open Mic Night
DESCRIPTION:Calling all music lovers!\nWhether you’re an aspiring musician or just want to join some great tunes\, come join our open jam sessions.  Bring your instrument and play a few songs. \nMicrophones and speakers will be provided\, so just bring your talent and energy! \nStarting Nov. 3.  Every Sunday!
URL:https://sbhrf.net/event/american-legion-hall-open-mic-night/2028-09-03/
LOCATION:American Legion Post 716\, 3252 Florista Street\, Los Angeles\, CA\, 90720\, United States
CATEGORIES:Music,Nonprofits
ATTACH;FMTTYPE=image/png:https://sbhrf.net/wp-content/uploads/2024/11/AmLegion-Open-Mic.png
ORGANIZER;CN="American Legion Post 716":MAILTO:info@losalamitospost716.org
END:VEVENT
BEGIN:VEVENT
DTSTART;TZID=America/Los_Angeles:20280905T190000
DTEND;TZID=America/Los_Angeles:20280905T210000
DTSTAMP:20260420T123559
CREATED:20240415T235559Z
LAST-MODIFIED:20240415T235559Z
UID:10000689-1851793200-1851800400@sbhrf.net
SUMMARY:Bogart's Coffee House - Open Mic Night
DESCRIPTION:
URL:https://sbhrf.net/event/bogarts-coffee-house-open-mic-night/2028-09-05/
LOCATION:Bogart’s Coffee House\, 905 Ocean Ave\, Seal Beach\, CA\, 90740\, United States
CATEGORIES:Music
ATTACH;FMTTYPE=image/png:https://sbhrf.net/wp-content/uploads/2024/04/2024-0502-Bogarts-Open-Mic-1.png
END:VEVENT
BEGIN:VEVENT
DTSTART;TZID=America/Los_Angeles:20280905T190000
DTEND;TZID=America/Los_Angeles:20280905T213000
DTSTAMP:20260420T123559
CREATED:20240509T184208Z
LAST-MODIFIED:20240509T184327Z
UID:10001030-1851793200-1851802200@sbhrf.net
SUMMARY:Trivia Night @ Marni's
DESCRIPTION:
URL:https://sbhrf.net/event/trivia-night-marnis/2028-09-05/
LOCATION:Marni’s\, 620 Pacific Coast Highway\, Seal Beach\, CA\, 90740
ATTACH;FMTTYPE=image/png:https://sbhrf.net/wp-content/uploads/2024/05/Marnis-Trivia.png
END:VEVENT
END:VCALENDAR